BEGIN:VCALENDAR
VERSION:2.0
PRODID:-//Des Moines Intentional Eucharistic Community - ECPv6.15.13.1//NONSGML v1.0//EN
CALSCALE:GREGORIAN
METHOD:PUBLISH
X-ORIGINAL-URL:https://www.dmiec.org
X-WR-CALDESC:Events for Des Moines Intentional Eucharistic Community
REFRESH-INTERVAL;VALUE=DURATION:PT1H
X-Robots-Tag:noindex
X-PUBLISHED-TTL:PT1H
BEGIN:VTIMEZONE
TZID:America/Chicago
BEGIN:DAYLIGHT
TZOFFSETFROM:-0600
TZOFFSETTO:-0500
TZNAME:CDT
DTSTART:20210314T080000
END:DAYLIGHT
BEGIN:STANDARD
TZOFFSETFROM:-0500
TZOFFSETTO:-0600
TZNAME:CST
DTSTART:20211107T070000
END:STANDARD
BEGIN:DAYLIGHT
TZOFFSETFROM:-0600
TZOFFSETTO:-0500
TZNAME:CDT
DTSTART:20220313T080000
END:DAYLIGHT
BEGIN:STANDARD
TZOFFSETFROM:-0500
TZOFFSETTO:-0600
TZNAME:CST
DTSTART:20221106T070000
END:STANDARD
BEGIN:DAYLIGHT
TZOFFSETFROM:-0600
TZOFFSETTO:-0500
TZNAME:CDT
DTSTART:20230312T080000
END:DAYLIGHT
BEGIN:STANDARD
TZOFFSETFROM:-0500
TZOFFSETTO:-0600
TZNAME:CST
DTSTART:20231105T070000
END:STANDARD
END:VTIMEZONE
BEGIN:VEVENT
DTSTART;TZID=America/Chicago:20221204T100000
DTEND;TZID=America/Chicago:20221204T110000
DTSTAMP:20260420T033234
CREATED:20220927T033400Z
LAST-MODIFIED:20221012T172918Z
UID:15227-1670148000-1670151600@www.dmiec.org
SUMMARY:Weekly Worship Service (via Zoom)
DESCRIPTION:Readings: \n\nSecond Sunday of Advent Year A  First Reading (no Psalm)\n\nSecond Sunday of Advent Year A **Alternate** Second Reading\nVolunteer(s) needed for this event. Click here to sign up.
URL:https://www.dmiec.org/event/weekly-worship-service-149/
LOCATION:Zoom Event\, United States
CATEGORIES:Weekly Worship Service
ATTACH;FMTTYPE=image/jpeg:https://www.dmiec.org/wp-content/uploads/2018/10/NewWeeklyReading.jpg
END:VEVENT
BEGIN:VEVENT
DTSTART;TZID=America/Chicago:20221204T103000
DTEND;TZID=America/Chicago:20221204T110000
DTSTAMP:20260420T033235
CREATED:20221118T012644Z
LAST-MODIFIED:20221118T012644Z
UID:15574-1670149800-1670151600@www.dmiec.org
SUMMARY:First Sunday Collection - Just Voices
DESCRIPTION:Our December “First Sunday” collection recipient will be Just Voices.  Just Voices is a 501c(3) founded in Des Moines in 2019. Their mission is to build a platform that educates\, advocates\, and collaborates to end racially biased policing in Des Moines and across Iowa. Funds received from DMIEC will primarily be spent on costs related to publishing an in-depth study of the 2020 Protests in Des Moines following George Floyd’s murder.  Many major cities in America have completed their studies of the protests in their cities and evaluated the police response and lessons learned to determine best practices for the future.  The City of Des Moines and Des Moines Police Department have chosen not to do a study.  This decision was made despite more than 40 protests that occurred in Des Moines\, with over 200 arrests. There are eight pending lawsuits against Des Moines and the DMPD\, representing 23 plaintiffs\, currently in progress. For more information\, go to https://justvoicesia.org/. \n\nCHECKS SHOULD BE MAILED TO: \nDMIEC\, P.O. Box 30065\, Des Moines\, IA  50310 \nChecks can be written either to “Just Voices” or “DMIEC” with “First Sunday” in the memo line.  \nWe would prefer that all checks be mailed to DMIEC. If you mail your check directly to the organization\, please inform Ed Arnold of the amount\, if you feel comfortable\, so the Social Justice Committee can get an accurate count of donations. \n  \nNOMINATIONS FOR FIRST SUNDAY COLLECTIONS WELCOME\nIs there a nonprofit organization you support and are passionate about?  Please consider nominating it as a recipient of a First Sunday collection. The Social Justice Committee is always looking for local\, regional\, national\, or international charitable organizations that support the catholic social teachings of human dignity\, love\, and justice.  The First Sunday Nomination Form is available at https://www.dmiec.org/first-sunday-nomination-form/. \nOr you may contact Kathy Eastman at keastman33@gmail.com and she will send a form to you.
URL:https://www.dmiec.org/event/first-sunday-collection-just-voices/
LOCATION:Zoom Event\, United States
CATEGORIES:Social Justice,Stewardship
END:VEVENT
BEGIN:VEVENT
DTSTART;TZID=America/Chicago:20221211T100000
DTEND;TZID=America/Chicago:20221211T110000
DTSTAMP:20260420T033235
CREATED:20220927T033634Z
LAST-MODIFIED:20221012T173601Z
UID:15229-1670752800-1670756400@www.dmiec.org
SUMMARY:Weekly Worship Service (In Person)
DESCRIPTION:Readings: \n\nThird Sunday of Advent Year A First Reading and Responsorial Psalm\n\nThird Sunday of Advent Year A Second Reading\n\nThird Sunday of Advent Year A Gospel\nVolunteer(s) needed for this event. Click here to sign up.
URL:https://www.dmiec.org/event/weekly-worship-service-150/
LOCATION:DMIEC\, 3306 University Avenue\, Des Moines\, IA\, 50311\, United States
CATEGORIES:Weekly Worship Service
ATTACH;FMTTYPE=image/jpeg:https://www.dmiec.org/wp-content/uploads/2018/10/NewWeeklyReading.jpg
GEO:41.6000075;-93.6619278
X-APPLE-STRUCTURED-LOCATION;VALUE=URI;X-ADDRESS=DMIEC 3306 University Avenue Des Moines IA 50311 United States;X-APPLE-RADIUS=500;X-TITLE=3306 University Avenue:geo:-93.6619278,41.6000075
END:VEVENT
BEGIN:VEVENT
DTSTART;TZID=America/Chicago:20221218T100000
DTEND;TZID=America/Chicago:20221218T110000
DTSTAMP:20260420T033235
CREATED:20220927T033733Z
LAST-MODIFIED:20221012T174125Z
UID:15231-1671357600-1671361200@www.dmiec.org
SUMMARY:Weekly Worship Service (via Zoom)
DESCRIPTION:Readings: \n\nFourth Sunday of Advent Year A First Reading and Responsorial Psalm\n\nFourth Sunday of Advent Year A Gospel\nVolunteer(s) needed for this event. Click here to sign up.
URL:https://www.dmiec.org/event/weekly-worship-service-151/
LOCATION:Zoom Event\, United States
CATEGORIES:Weekly Worship Service
ATTACH;FMTTYPE=image/jpeg:https://www.dmiec.org/wp-content/uploads/2018/10/NewWeeklyReading.jpg
END:VEVENT
BEGIN:VEVENT
DTSTART;TZID=America/Chicago:20221218T103000
DTEND;TZID=America/Chicago:20221218T110000
DTSTAMP:20260420T033235
CREATED:20221125T184503Z
LAST-MODIFIED:20221125T184503Z
UID:15609-1671359400-1671361200@www.dmiec.org
SUMMARY:DMARC Emergency Food Pantries Sunday Special Collection
DESCRIPTION:Before the pandemic began\, DMARC pantries were already operating at a 10% increase over 2019 levels. As the economic crisis surrounding the pandemic  worsened\, pantry use grew exponentially. \nNovember 1 was DMARC’s busiest day ever\, serving 1\,500 customers at its 15 metro pantries. The need for food assistance continues to grow due to reduction of federal food benefits and growing inflation. \nFor more information\, please visit the DMARC Food Pantries website https://www.dmarcunited.org/food/\nRead DMARC’s most recent quarterly newsletter here.  ** For a deeper dive into DMARC’s databank info about usage\, sites\, etc.\, click here. ** \nSend donation checks directly to DMARC. Please write checks to “DMARC” and mail to DMARC at its *new address*\, 100 Army Post Road\, Des Moines\, IA 50315. Please include a note with your check indicating that you are part of the DMIEC community.
URL:https://www.dmiec.org/event/dmarc-emergency-food-pantries-sunday-special-collection-30/
LOCATION:DMIEC\, 3306 University Avenue\, Des Moines\, IA\, 50311\, United States
CATEGORIES:Social Justice,Stewardship
GEO:41.6000075;-93.6619278
X-APPLE-STRUCTURED-LOCATION;VALUE=URI;X-ADDRESS=DMIEC 3306 University Avenue Des Moines IA 50311 United States;X-APPLE-RADIUS=500;X-TITLE=3306 University Avenue:geo:-93.6619278,41.6000075
END:VEVENT
BEGIN:VEVENT
DTSTART;TZID=America/Chicago:20221224T170000
DTEND;TZID=America/Chicago:20221224T180000
DTSTAMP:20260420T033235
CREATED:20220927T033848Z
LAST-MODIFIED:20221221T181944Z
UID:15233-1671901200-1671904800@www.dmiec.org
SUMMARY:Weekly Worship Service - Christmas Eve (**via Zoom**)
DESCRIPTION:Readings: \n\nAll Saints Year A **Alternate** First Reading\n\nSeventh Sunday in Ordinary Time  Year C  *Alternate* Second Reading\n\nEpiphany of the Lord  Year A *Alternate* First Reading and *Alternate* Psalm (no response)\n\nEpiphany of the Lord  Year A *Alternate* Second Reading\n\nFeast of the Baptism of the Lord  Year A  First Reading (No Psalm)\n\nFeast of the Baptism of the Lord  Year A  Gospel\nVolunteer(s) needed for this event. Click here to sign up.
URL:https://www.dmiec.org/event/weekly-worship-service-152/
LOCATION:Zoom Event\, United States
CATEGORIES:Weekly Worship Service
ATTACH;FMTTYPE=image/jpeg:https://www.dmiec.org/wp-content/uploads/2018/10/NewWeeklyReading.jpg
END:VEVENT
BEGIN:VEVENT
DTSTART;TZID=America/Chicago:20221225T100000
DTEND;TZID=America/Chicago:20221225T110000
DTSTAMP:20260420T033235
CREATED:20221207T121333Z
LAST-MODIFIED:20221207T121333Z
UID:15661-1671962400-1671966000@www.dmiec.org
SUMMARY:** No Christmas Day Service **
DESCRIPTION:
URL:https://www.dmiec.org/event/no-christmas-day-service-2/
LOCATION:DMIEC\, 3306 University Avenue\, Des Moines\, IA\, 50311\, United States
GEO:41.6000075;-93.6619278
X-APPLE-STRUCTURED-LOCATION;VALUE=URI;X-ADDRESS=DMIEC 3306 University Avenue Des Moines IA 50311 United States;X-APPLE-RADIUS=500;X-TITLE=3306 University Avenue:geo:-93.6619278,41.6000075
END:VEVENT
END:VCALENDAR