BEGIN:VCALENDAR
VERSION:2.0
PRODID:-//Des Moines Intentional Eucharistic Community - ECPv6.15.13.1//NONSGML v1.0//EN
CALSCALE:GREGORIAN
METHOD:PUBLISH
X-WR-CALNAME:Des Moines Intentional Eucharistic Community
X-ORIGINAL-URL:https://www.dmiec.org
X-WR-CALDESC:Events for Des Moines Intentional Eucharistic Community
REFRESH-INTERVAL;VALUE=DURATION:PT1H
X-Robots-Tag:noindex
X-PUBLISHED-TTL:PT1H
BEGIN:VTIMEZONE
TZID:America/Chicago
BEGIN:DAYLIGHT
TZOFFSETFROM:-0600
TZOFFSETTO:-0500
TZNAME:CDT
DTSTART:20210314T080000
END:DAYLIGHT
BEGIN:STANDARD
TZOFFSETFROM:-0500
TZOFFSETTO:-0600
TZNAME:CST
DTSTART:20211107T070000
END:STANDARD
BEGIN:DAYLIGHT
TZOFFSETFROM:-0600
TZOFFSETTO:-0500
TZNAME:CDT
DTSTART:20220313T080000
END:DAYLIGHT
BEGIN:STANDARD
TZOFFSETFROM:-0500
TZOFFSETTO:-0600
TZNAME:CST
DTSTART:20221106T070000
END:STANDARD
BEGIN:DAYLIGHT
TZOFFSETFROM:-0600
TZOFFSETTO:-0500
TZNAME:CDT
DTSTART:20230312T080000
END:DAYLIGHT
BEGIN:STANDARD
TZOFFSETFROM:-0500
TZOFFSETTO:-0600
TZNAME:CST
DTSTART:20231105T070000
END:STANDARD
END:VTIMEZONE
BEGIN:VEVENT
DTSTART;TZID=America/Chicago:20220807T100000
DTEND;TZID=America/Chicago:20220807T110000
DTSTAMP:20260420T084135
CREATED:20211011T145202Z
LAST-MODIFIED:20220522T174123Z
UID:13693-1659866400-1659870000@www.dmiec.org
SUMMARY:Weekly Worship Service (via Zoom)
DESCRIPTION:Readings: \n\nNineteenth Sunday in Ordinary Time  Year C  *Alternate* First Reading (no Psalm)\n\nNineteenth Sunday in Ordinary Time  Year C  *Alternate* Second Reading\n\nNineteenth Sunday in Ordinary Time  Year C  *Alternate* Third Reading\n\nNineteenth Sunday in Ordinary Time  Year C  *Alternate* Gospel\nVolunteer(s) needed for this event. Click here to sign up.
URL:https://www.dmiec.org/event/weekly-worship-service-132/
LOCATION:Zoom Meeting
CATEGORIES:Weekly Worship Service
ATTACH;FMTTYPE=image/jpeg:https://www.dmiec.org/wp-content/uploads/2018/10/NewWeeklyReading.jpg
END:VEVENT
BEGIN:VEVENT
DTSTART;TZID=America/Chicago:20220807T103000
DTEND;TZID=America/Chicago:20220807T110000
DTSTAMP:20260420T084135
CREATED:20220718T163845Z
LAST-MODIFIED:20220718T171228Z
UID:14997-1659868200-1659870000@www.dmiec.org
SUMMARY:First Sunday Collection - Friends of Iowa Women Prisoners
DESCRIPTION:COLLECTION RECIPIENT on AUGUST 7:  FRIENDS OF IOWA WOMEN PRISONERS \nFriends of Iowa Women Prisoners is an organization established in 1986 to work for systemic changes and improved conditions at the Iowa Correctional Institution for Women in Mitchellville.  They advocate for long-term change that promotes and fosters healthy lives.  One way they do this is through a Scholarship Fund established in 2001 to enable women to earn college credit. These funds help cover tuition\, books\, and supplies. Our First Sunday contributions will be applied to this fund.\nFor more information\, go to http://www.friendsofiowawomenprisoners.org. \nCHECKS SHOULD BE MAILED TO:  DMIEC\, P.O. Box 30065\, Des Moines\, IA  50310 \nChecks can be written either to “Friends of Iowa Women Prisoners” or “DMIEC” with “First Sunday” in the memo line.  \nWe would prefer that all checks be mailed to DMIEC. If you mail your check directly to the organization\, please inform Ed Arnold of the amount\, if you feel comfortable\, so the Social Justice Committee can get an accurate count of donations.
URL:https://www.dmiec.org/event/first-sunday-collection-friends-of-iowa-women-prisoners/
LOCATION:DMIEC\, 3306 University Avenue\, Des Moines\, IA\, 50311\, United States
CATEGORIES:Social Justice,Stewardship
GEO:41.6000075;-93.6619278
X-APPLE-STRUCTURED-LOCATION;VALUE=URI;X-ADDRESS=DMIEC 3306 University Avenue Des Moines IA 50311 United States;X-APPLE-RADIUS=500;X-TITLE=3306 University Avenue:geo:-93.6619278,41.6000075
END:VEVENT
BEGIN:VEVENT
DTSTART;TZID=America/Chicago:20220814T100000
DTEND;TZID=America/Chicago:20220814T110000
DTSTAMP:20260420T084135
CREATED:20211011T145236Z
LAST-MODIFIED:20220522T173754Z
UID:13695-1660471200-1660474800@www.dmiec.org
SUMMARY:Weekly Worship Service (In Person)
DESCRIPTION:Readings: \n\nTwentieth Sunday in Ordinary Time  Year C  Reading\n\nTwentieth Sunday in Ordinary Time  Year C  Gospel\nVolunteer(s) needed for this event. Click here to sign up.
URL:https://www.dmiec.org/event/weekly-worship-service-133/
LOCATION:DMIEC\, 3306 University Avenue\, Des Moines\, IA\, 50311\, United States
CATEGORIES:Weekly Worship Service
ATTACH;FMTTYPE=image/jpeg:https://www.dmiec.org/wp-content/uploads/2018/10/NewWeeklyReading.jpg
GEO:41.6000075;-93.6619278
X-APPLE-STRUCTURED-LOCATION;VALUE=URI;X-ADDRESS=DMIEC 3306 University Avenue Des Moines IA 50311 United States;X-APPLE-RADIUS=500;X-TITLE=3306 University Avenue:geo:-93.6619278,41.6000075
END:VEVENT
BEGIN:VEVENT
DTSTART;TZID=America/Chicago:20220815T180000
DTEND;TZID=America/Chicago:20220815T193000
DTSTAMP:20260420T084135
CREATED:20220723T230018Z
LAST-MODIFIED:20220723T230555Z
UID:15005-1660586400-1660591800@www.dmiec.org
SUMMARY:DMIEC Community Council Meeting
DESCRIPTION:DMIEC’s Community Council meets monthly via Zoom.  All members are welcome to attend.  For more information\, please contact Council Chair Robin Kline  RobinLKline25@gmail.com   (515-314-3974).
URL:https://www.dmiec.org/event/15005/
LOCATION:DMIEC\, 3306 University Avenue\, Des Moines\, IA\, 50311\, United States
CATEGORIES:Committees,Community,Governance
ORGANIZER;CN="Robin Kline":MAILTO:ROBINLKLINE25@gmail.com
GEO:41.6000075;-93.6619278
X-APPLE-STRUCTURED-LOCATION;VALUE=URI;X-ADDRESS=DMIEC 3306 University Avenue Des Moines IA 50311 United States;X-APPLE-RADIUS=500;X-TITLE=3306 University Avenue:geo:-93.6619278,41.6000075
END:VEVENT
BEGIN:VEVENT
DTSTART;TZID=America/Chicago:20220821T100000
DTEND;TZID=America/Chicago:20220821T110000
DTSTAMP:20260420T084135
CREATED:20211011T145311Z
LAST-MODIFIED:20220608T172023Z
UID:13697-1661076000-1661079600@www.dmiec.org
SUMMARY:Weekly Worship Service (via Zoom)
DESCRIPTION:Readings: \n\nTwenty-first Sunday in Ordinary Time  Year C  Alternate First Reading (no Psalm)\n\nTwenty-first Sunday in Ordinary Time  Year C  *Alternate* Second Reading\n\nTwenty-first Sunday in Ordinary Time  Year C  Gospel\nVolunteer(s) needed for this event. Click here to sign up.
URL:https://www.dmiec.org/event/weekly-worship-service-134/
LOCATION:DMIEC\, 3306 University Avenue\, Des Moines\, IA\, 50311\, United States
CATEGORIES:Weekly Worship Service
ATTACH;FMTTYPE=image/jpeg:https://www.dmiec.org/wp-content/uploads/2018/10/NewWeeklyReading.jpg
GEO:41.6000075;-93.6619278
X-APPLE-STRUCTURED-LOCATION;VALUE=URI;X-ADDRESS=DMIEC 3306 University Avenue Des Moines IA 50311 United States;X-APPLE-RADIUS=500;X-TITLE=3306 University Avenue:geo:-93.6619278,41.6000075
END:VEVENT
BEGIN:VEVENT
DTSTART;TZID=America/Chicago:20220821T103000
DTEND;TZID=America/Chicago:20220821T110000
DTSTAMP:20260420T084135
CREATED:20220725T133634Z
LAST-MODIFIED:20220725T133634Z
UID:15012-1661077800-1661079600@www.dmiec.org
SUMMARY:DMARC Emergency Food Pantries Sunday Special Collection
DESCRIPTION:Before the pandemic began\, DMARC pantries were already operating at a 10% increase over 2019 levels. As the economic crisis surrounding the pandemic  worsened\, pantry use grew exponentially.\nFor more information\, please visit the DMARC Food Pantries website https://www.dmarcunited.org/food/\nRead DMARC’s most recent quarterly newsletter here.  ** For a deeper dive into DMARC’s databank info about usage\, sites\, etc.\, click here. ** \nSend donation checks directly to DMARC. Please write checks to “DMARC” and mail to DMARC at its *new address*\, 100 Army Post Road\, Des Moines\, IA 50315. Please include a note with your check indicating that you are part of the DMIEC community.
URL:https://www.dmiec.org/event/dmarc-emergency-food-pantries-sunday-special-collection-27/
LOCATION:DMIEC\, 3306 University Avenue\, Des Moines\, IA\, 50311\, United States
CATEGORIES:Community Service Activities,Social Justice,Stewardship
GEO:41.6000075;-93.6619278
X-APPLE-STRUCTURED-LOCATION;VALUE=URI;X-ADDRESS=DMIEC 3306 University Avenue Des Moines IA 50311 United States;X-APPLE-RADIUS=500;X-TITLE=3306 University Avenue:geo:-93.6619278,41.6000075
END:VEVENT
BEGIN:VEVENT
DTSTART;TZID=America/Chicago:20220828T100000
DTEND;TZID=America/Chicago:20220828T110000
DTSTAMP:20260420T084135
CREATED:20211011T145347Z
LAST-MODIFIED:20220706T192245Z
UID:13699-1661680800-1661684400@www.dmiec.org
SUMMARY:Weekly Worship Service (In Person)
DESCRIPTION:Readings: \n\nTwenty-second Sunday in Ordinary Time  Year C  Gospel\n\nTwenty-second Sunday in Ordinary Time  Year C  Second Reading\n\nTwenty-second Sunday in Ordinary Time  Year C  First Reading and Responsorial Psalm\nVolunteer(s) needed for this event. Click here to sign up.
URL:https://www.dmiec.org/event/weekly-worship-service-135/
LOCATION:DMIEC\, 3306 University Avenue\, Des Moines\, IA\, 50311\, United States
CATEGORIES:Weekly Worship Service
ATTACH;FMTTYPE=image/jpeg:https://www.dmiec.org/wp-content/uploads/2018/10/NewWeeklyReading.jpg
GEO:41.6000075;-93.6619278
X-APPLE-STRUCTURED-LOCATION;VALUE=URI;X-ADDRESS=DMIEC 3306 University Avenue Des Moines IA 50311 United States;X-APPLE-RADIUS=500;X-TITLE=3306 University Avenue:geo:-93.6619278,41.6000075
END:VEVENT
END:VCALENDAR