BEGIN:VCALENDAR
VERSION:2.0
PRODID:-//Des Moines Intentional Eucharistic Community - ECPv6.15.13.1//NONSGML v1.0//EN
CALSCALE:GREGORIAN
METHOD:PUBLISH
X-ORIGINAL-URL:https://www.dmiec.org
X-WR-CALDESC:Events for Des Moines Intentional Eucharistic Community
REFRESH-INTERVAL;VALUE=DURATION:PT1H
X-Robots-Tag:noindex
X-PUBLISHED-TTL:PT1H
BEGIN:VTIMEZONE
TZID:America/Chicago
BEGIN:DAYLIGHT
TZOFFSETFROM:-0600
TZOFFSETTO:-0500
TZNAME:CDT
DTSTART:20210314T080000
END:DAYLIGHT
BEGIN:STANDARD
TZOFFSETFROM:-0500
TZOFFSETTO:-0600
TZNAME:CST
DTSTART:20211107T070000
END:STANDARD
BEGIN:DAYLIGHT
TZOFFSETFROM:-0600
TZOFFSETTO:-0500
TZNAME:CDT
DTSTART:20220313T080000
END:DAYLIGHT
BEGIN:STANDARD
TZOFFSETFROM:-0500
TZOFFSETTO:-0600
TZNAME:CST
DTSTART:20221106T070000
END:STANDARD
BEGIN:DAYLIGHT
TZOFFSETFROM:-0600
TZOFFSETTO:-0500
TZNAME:CDT
DTSTART:20230312T080000
END:DAYLIGHT
BEGIN:STANDARD
TZOFFSETFROM:-0500
TZOFFSETTO:-0600
TZNAME:CST
DTSTART:20231105T070000
END:STANDARD
END:VTIMEZONE
BEGIN:VEVENT
DTSTART;TZID=America/Chicago:20220703T100000
DTEND;TZID=America/Chicago:20220703T110000
DTSTAMP:20260420T100132
CREATED:20211011T144911Z
LAST-MODIFIED:20220521T190309Z
UID:13683-1656842400-1656846000@www.dmiec.org
SUMMARY:Weekly Worship Service (In-person)
DESCRIPTION:Readings: \n\nFourteenth Sunday in Ordinary Time  Year C  *Alternate* First Reading\n\nFourteenth Sunday in Ordinary Time  Year C  Gospel\nVolunteer(s) needed for this event. Click here to sign up.
URL:https://www.dmiec.org/event/weekly-worship-service-127/
LOCATION:DMIEC\, 3306 University Avenue\, Des Moines\, IA\, 50311\, United States
CATEGORIES:Weekly Worship Service
ATTACH;FMTTYPE=image/jpeg:https://www.dmiec.org/wp-content/uploads/2018/10/NewWeeklyReading.jpg
GEO:41.6000075;-93.6619278
X-APPLE-STRUCTURED-LOCATION;VALUE=URI;X-ADDRESS=DMIEC 3306 University Avenue Des Moines IA 50311 United States;X-APPLE-RADIUS=500;X-TITLE=3306 University Avenue:geo:-93.6619278,41.6000075
END:VEVENT
BEGIN:VEVENT
DTSTART;TZID=America/Chicago:20220706T150000
DTEND;TZID=America/Chicago:20220706T170000
DTSTAMP:20260420T100132
CREATED:20220706T213416Z
LAST-MODIFIED:20220706T213719Z
UID:14926-1657119600-1657126800@www.dmiec.org
SUMMARY:Liturgy Team Planning Meeting
DESCRIPTION:
URL:https://www.dmiec.org/event/liturgy-team-planning-meeting-12/
LOCATION:DMIEC\, 3306 University Avenue\, Des Moines\, IA\, 50311\, United States
CATEGORIES:Committees,Community
ORGANIZER;CN="Julie Powell-Mohr":MAILTO:julpowell@aol.com
GEO:41.6000075;-93.6619278
X-APPLE-STRUCTURED-LOCATION;VALUE=URI;X-ADDRESS=DMIEC 3306 University Avenue Des Moines IA 50311 United States;X-APPLE-RADIUS=500;X-TITLE=3306 University Avenue:geo:-93.6619278,41.6000075
END:VEVENT
BEGIN:VEVENT
DTSTART;TZID=America/Chicago:20220710T100000
DTEND;TZID=America/Chicago:20220710T110000
DTSTAMP:20260420T100132
CREATED:20211011T144946Z
LAST-MODIFIED:20220521T190501Z
UID:13685-1657447200-1657450800@www.dmiec.org
SUMMARY:Weekly Worship Service (via Zoom)
DESCRIPTION:Readings: \n\nFifteenth Sunday in Ordinary Time  Year C  First Reading and Responsorial Psalm\n\nFifteenth Sunday in Ordinary Time  Year C  Second Reading\n\nFifteenth Sunday in Ordinary Time  Year C  Gospel\nVolunteer(s) needed for this event. Click here to sign up.
URL:https://www.dmiec.org/event/weekly-worship-service-128/
LOCATION:Zoom Event\, United States
CATEGORIES:Weekly Worship Service
ATTACH;FMTTYPE=image/jpeg:https://www.dmiec.org/wp-content/uploads/2018/10/NewWeeklyReading.jpg
END:VEVENT
BEGIN:VEVENT
DTSTART;TZID=America/Chicago:20220710T103000
DTEND;TZID=America/Chicago:20220710T110000
DTSTAMP:20260420T100132
CREATED:20220706T212154Z
LAST-MODIFIED:20220706T212154Z
UID:14922-1657449000-1657450800@www.dmiec.org
SUMMARY:First Sunday Collection - Iowa Capital Dispatch
DESCRIPTION:The Iowa Capital Dispatch is an independent news organization dedicated to covering state government and its impact on Iowans’ lives\, believing that without strong community journalism\, government integrity and accountability are lost. The Capital Dispatch is a nonprofit\, free of advertising and free to readers. Donations cover office and reporting expenses\, helping to expand news coverage. For example\, they have a paid intern this summer from Iowa State University\, and they pay a Drake University student for freelance stories. Reporting costs also include travel\, online access to court and other public records\, camera equipment\, and laptops. A longer-term goal is to expand the full-time staff. The Capital Dispatch is part of  States Newsroom \, a national 501(c)(3) nonprofit\, but retains full editorial independence. For more information on this organization\, visit https://iowacapitaldispatch.com/about/ \nCHECKS SHOULD BE MAILED TO:   DMIEC\, P.O. Box 30065\, Des Moines\, IA  50310\nChecks can be written either to “States Newsroom” (with “Iowa Capital Dispatch” in the memo line) or to “DMIEC” with “First Sunday” in the memo line. We would prefer that all checks be mailed to DMIEC. If you mail your check directly to the organization\, please inform Ed Arnold of the amount\, if you feel comfortable\, so the Social Justice Committee can get an accurate count of donations.
URL:https://www.dmiec.org/event/first-sunday-collection-iowa-capital-dispatch/
LOCATION:DMIEC\, 3306 University Avenue\, Des Moines\, IA\, 50311\, United States
CATEGORIES:Social Justice,Stewardship
GEO:41.6000075;-93.6619278
X-APPLE-STRUCTURED-LOCATION;VALUE=URI;X-ADDRESS=DMIEC 3306 University Avenue Des Moines IA 50311 United States;X-APPLE-RADIUS=500;X-TITLE=3306 University Avenue:geo:-93.6619278,41.6000075
END:VEVENT
BEGIN:VEVENT
DTSTART;TZID=America/Chicago:20220711T180000
DTEND;TZID=America/Chicago:20220711T193000
DTSTAMP:20260420T100132
CREATED:20220706T213051Z
LAST-MODIFIED:20220706T213136Z
UID:14925-1657562400-1657567800@www.dmiec.org
SUMMARY:DMIEC Council Meeting
DESCRIPTION:DMIEC’s Community Council meets monthly via Zoom.  All members are welcome to attend.  For more information\, please contact Council Chair Mary Ann Koch kochmaryann2014@gmail.com   (515-230-8410).
URL:https://www.dmiec.org/event/dmiec-council-meeting-9/
LOCATION:Zoom Meeting
CATEGORIES:Committees,Community,Governance
ORGANIZER;CN="Mary Ann Koch":MAILTO:Kochmaryann2014@gmail.com
END:VEVENT
BEGIN:VEVENT
DTSTART;TZID=America/Chicago:20220714T183000
DTEND;TZID=America/Chicago:20220714T200000
DTSTAMP:20260420T100132
CREATED:20220706T213700Z
LAST-MODIFIED:20220706T213700Z
UID:14929-1657823400-1657828800@www.dmiec.org
SUMMARY:Social Justice Committee Meeting
DESCRIPTION:The Social Justice Committee meets the second Thursday of odd-numbered months. New committee members are needed and always welcome. Interested in joining us or nominating a First Sunday recipient organization? Please contact Kathy Eastman or Deana Carfrae\, Co-Chairs.
URL:https://www.dmiec.org/event/social-justice-committee-meeting-10/
LOCATION:Zoom Meeting
CATEGORIES:Committees,Community,Social Justice
ORGANIZER;CN="Kathy Eastman":MAILTO:keastman33@gmail.com
END:VEVENT
BEGIN:VEVENT
DTSTART;TZID=America/Chicago:20220717T100000
DTEND;TZID=America/Chicago:20220717T110000
DTSTAMP:20260420T100132
CREATED:20211011T145017Z
LAST-MODIFIED:20220318T193653Z
UID:13687-1658052000-1658055600@www.dmiec.org
SUMMARY:Weekly Worship Service (via Zoom)
DESCRIPTION:Readings: \n\nSixteenth Sunday in Ordinary Time  Year C  First Reading (no Psalm)\n\nSixteenth Sunday in Ordinary Time  Year C  *Alternate* Second Reading\n\nSixteenth Sunday in Ordinary Time  Year C  Gospel\nVolunteer(s) needed for this event. Click here to sign up.
URL:https://www.dmiec.org/event/weekly-worship-service-129/
LOCATION:Zoom Event\, United States
CATEGORIES:Weekly Worship Service
ATTACH;FMTTYPE=image/jpeg:https://www.dmiec.org/wp-content/uploads/2018/10/NewWeeklyReading.jpg
END:VEVENT
BEGIN:VEVENT
DTSTART;TZID=America/Chicago:20220717T103000
DTEND;TZID=America/Chicago:20220717T110000
DTSTAMP:20260420T100132
CREATED:20220709T211817Z
LAST-MODIFIED:20220725T134315Z
UID:14958-1658053800-1658055600@www.dmiec.org
SUMMARY:DMARC Emergency Food Pantries Sunday Special Collection
DESCRIPTION:Before the pandemic began\, DMARC pantries were already operating at a 10% increase over 2019 levels. As the economic crisis surrounding the pandemic  worsened\, pantry use grew exponentially.\nFor more information\, please visit the DMARC Food Pantries website https://www.dmarcunited.org/food/\nRead DMARC’s most recent quarterly newsletter here.  ** For a deeper dive into DMARC’s databank info about usage\, sites\, etc.\, click here. ** \nSend donation checks directly to DMARC. Please write checks to “DMARC” and mail to DMARC\, 100 Army Post Road\, Des Moines\, IA 50315. Please include a note with your check indicating that you are part of the DMIEC community.
URL:https://www.dmiec.org/event/dmarc-emergency-food-pantries-sunday-special-collection-26/
LOCATION:DMIEC\, 3306 University Avenue\, Des Moines\, IA\, 50311\, United States
CATEGORIES:Community Service Activities,Social Justice
GEO:41.6000075;-93.6619278
X-APPLE-STRUCTURED-LOCATION;VALUE=URI;X-ADDRESS=DMIEC 3306 University Avenue Des Moines IA 50311 United States;X-APPLE-RADIUS=500;X-TITLE=3306 University Avenue:geo:-93.6619278,41.6000075
END:VEVENT
BEGIN:VEVENT
DTSTART;TZID=America/Chicago:20220724T100000
DTEND;TZID=America/Chicago:20220724T110000
DTSTAMP:20260420T100132
CREATED:20211011T145054Z
LAST-MODIFIED:20220521T190649Z
UID:13689-1658656800-1658660400@www.dmiec.org
SUMMARY:Weekly Worship Service (In-person)
DESCRIPTION:Readings: \n\nSeventeenth Sunday in Ordinary Time  Year C  *Alternate* First Reading (no Psalm)\n\nSeventeenth Sunday in Ordinary Time  Year C  *Alternate* Gospel\n\nSeventeenth Sunday in Ordinary Time  Year C  *Alternate* Third Reading\nVolunteer(s) needed for this event. Click here to sign up.
URL:https://www.dmiec.org/event/weekly-worship-service-130/
LOCATION:DMIEC\, 3306 University Avenue\, Des Moines\, IA\, 50311\, United States
CATEGORIES:Weekly Worship Service
ATTACH;FMTTYPE=image/jpeg:https://www.dmiec.org/wp-content/uploads/2018/10/NewWeeklyReading.jpg
GEO:41.6000075;-93.6619278
X-APPLE-STRUCTURED-LOCATION;VALUE=URI;X-ADDRESS=DMIEC 3306 University Avenue Des Moines IA 50311 United States;X-APPLE-RADIUS=500;X-TITLE=3306 University Avenue:geo:-93.6619278,41.6000075
END:VEVENT
BEGIN:VEVENT
DTSTART;TZID=America/Chicago:20220731T100000
DTEND;TZID=America/Chicago:20220731T110000
DTSTAMP:20260420T100132
CREATED:20211011T145128Z
LAST-MODIFIED:20220521T190813Z
UID:13691-1659261600-1659265200@www.dmiec.org
SUMMARY:Weekly Worship Service (via Zoom)
DESCRIPTION:Readings: \n\nEighteenth Sunday in Ordinary Time  Year C  *Alternate* Second Reading\n\nEighteenth Sunday in Ordinary Time  Year C  Gospel\nVolunteer(s) needed for this event. Click here to sign up.
URL:https://www.dmiec.org/event/weekly-worship-service-131/
LOCATION:Zoom Event\, United States
CATEGORIES:Weekly Worship Service
ATTACH;FMTTYPE=image/jpeg:https://www.dmiec.org/wp-content/uploads/2018/10/NewWeeklyReading.jpg
END:VEVENT
END:VCALENDAR