BEGIN:VCALENDAR
VERSION:2.0
PRODID:-//Des Moines Intentional Eucharistic Community - ECPv6.15.13.1//NONSGML v1.0//EN
CALSCALE:GREGORIAN
METHOD:PUBLISH
X-WR-CALNAME:Des Moines Intentional Eucharistic Community
X-ORIGINAL-URL:https://www.dmiec.org
X-WR-CALDESC:Events for Des Moines Intentional Eucharistic Community
REFRESH-INTERVAL;VALUE=DURATION:PT1H
X-Robots-Tag:noindex
X-PUBLISHED-TTL:PT1H
BEGIN:VTIMEZONE
TZID:America/Chicago
BEGIN:DAYLIGHT
TZOFFSETFROM:-0600
TZOFFSETTO:-0500
TZNAME:CDT
DTSTART:20210314T080000
END:DAYLIGHT
BEGIN:STANDARD
TZOFFSETFROM:-0500
TZOFFSETTO:-0600
TZNAME:CST
DTSTART:20211107T070000
END:STANDARD
BEGIN:DAYLIGHT
TZOFFSETFROM:-0600
TZOFFSETTO:-0500
TZNAME:CDT
DTSTART:20220313T080000
END:DAYLIGHT
BEGIN:STANDARD
TZOFFSETFROM:-0500
TZOFFSETTO:-0600
TZNAME:CST
DTSTART:20221106T070000
END:STANDARD
BEGIN:DAYLIGHT
TZOFFSETFROM:-0600
TZOFFSETTO:-0500
TZNAME:CDT
DTSTART:20230312T080000
END:DAYLIGHT
BEGIN:STANDARD
TZOFFSETFROM:-0500
TZOFFSETTO:-0600
TZNAME:CST
DTSTART:20231105T070000
END:STANDARD
END:VTIMEZONE
BEGIN:VEVENT
DTSTART;TZID=America/Chicago:20220403T100000
DTEND;TZID=America/Chicago:20220403T110000
DTSTAMP:20260420T141052
CREATED:20211011T143934Z
LAST-MODIFIED:20220318T192453Z
UID:13653-1648980000-1648983600@www.dmiec.org
SUMMARY:Weekly Worship Service (via Zoom)
DESCRIPTION:Readings: \n\nPentecost Sunday Year B First Reading\n\nPentecost Sunday Year B Second Reading\n\nPentecost Sunday Year B Gospel\n\nSeventeenth Sunday in Ordinary Time Year B First Reading and Responsorial Psalm\n\nSeventeenth Sunday in Ordinary Time Year B Second Reading (Alternative)\n\nSeventeenth Sunday in Ordinary Time Year B Gospel\nVolunteer(s) needed for this event. Click here to sign up.
URL:https://www.dmiec.org/event/weekly-worship-service-112/
LOCATION:Zoom Event\, United States
CATEGORIES:Weekly Worship Service
ATTACH;FMTTYPE=image/jpeg:https://www.dmiec.org/wp-content/uploads/2018/10/NewWeeklyReading.jpg
END:VEVENT
BEGIN:VEVENT
DTSTART;TZID=America/Chicago:20220403T103000
DTEND;TZID=America/Chicago:20220403T110000
DTSTAMP:20260420T141052
CREATED:20220329T221025Z
LAST-MODIFIED:20220329T221646Z
UID:14533-1648981800-1648983600@www.dmiec.org
SUMMARY:First Sunday Collection - Trees Forever
DESCRIPTION:Our First Sunday collection recipient for March will be Trees Forever.  For decades\, Trees Forever has helped thousands of community volunteers\, civic leaders\, government officials\, and landowners to plant and care for trees\, shrubs\, native grasses\, and plants. Trees Forever seeks to educate volunteers and communities on the importance of trees and natural areas to maintain and regenerate our soil and water.  They accomplish this through special events\, conferences\, workshops\, and structured volunteer training.  First Sunday donations will go toward a program called Growing Futures\, which employs teams of teenagers to help grow our tree canopy while learning about the world around them and the potential within themselves.  For more information\, please visit the group’s website: https://treesforever.org/ \nCHECKS SHOULD BE MAILED TO: \nDMIEC\, P.O. Box 30065\, Des Moines\, IA  50310 \nChecks can be written either to “Trees Forever” (mention DMIEC in the memo line) or to “DMIEC” with “First Sunday” in the memo line.  \nWhile we would prefer that all checks be mailed to DMIEC\, if you mail your check directly to the organization\, please inform Ed Arnold of the amount\, if you feel comfortable\, so the Social Justice Committee can get an accurate count of donations.  Thank you for your generosity. \n 
URL:https://www.dmiec.org/event/first-sunday-collection-trees-forever/
LOCATION:DMIEC\, 3306 University Avenue\, Des Moines\, IA\, 50311\, United States
CATEGORIES:Social Justice,Stewardship
GEO:41.6000075;-93.6619278
X-APPLE-STRUCTURED-LOCATION;VALUE=URI;X-ADDRESS=DMIEC 3306 University Avenue Des Moines IA 50311 United States;X-APPLE-RADIUS=500;X-TITLE=3306 University Avenue:geo:-93.6619278,41.6000075
END:VEVENT
BEGIN:VEVENT
DTSTART;TZID=America/Chicago:20220410T100000
DTEND;TZID=America/Chicago:20220410T110000
DTSTAMP:20260420T141052
CREATED:20211011T144009Z
LAST-MODIFIED:20220317T020032Z
UID:13655-1649584800-1649588400@www.dmiec.org
SUMMARY:Weekly Worship Service - *In-Person*
DESCRIPTION:Readings: \n\nPalm Sunday  Year C  Marcus Borg Opening Commentary\n\nPalm Sunday  Year C  *Alternate* First Reading\n\nPalm Sunday  Year C  Gospel\nVolunteer(s) needed for this event. Click here to sign up.
URL:https://www.dmiec.org/event/weekly-worship-service-113/
LOCATION:DMIEC\, 3306 University Avenue\, Des Moines\, IA\, 50311\, United States
CATEGORIES:Weekly Worship Service
ATTACH;FMTTYPE=image/jpeg:https://www.dmiec.org/wp-content/uploads/2018/10/NewWeeklyReading.jpg
GEO:41.6000075;-93.6619278
X-APPLE-STRUCTURED-LOCATION;VALUE=URI;X-ADDRESS=DMIEC 3306 University Avenue Des Moines IA 50311 United States;X-APPLE-RADIUS=500;X-TITLE=3306 University Avenue:geo:-93.6619278,41.6000075
END:VEVENT
BEGIN:VEVENT
DTSTART;TZID=America/Chicago:20220410T110000
DTEND;TZID=America/Chicago:20220410T113000
DTSTAMP:20260420T141052
CREATED:20220119T224153Z
LAST-MODIFIED:20220119T224240Z
UID:14250-1649588400-1649590200@www.dmiec.org
SUMMARY:State Legislative Update and Discussion (immediately following the conclusion of our Sunday prayer service)
DESCRIPTION:Led by veteran Iowa Statehouse observer\, Bob Mulqueen\, participants learn about and discuss recent legislative proposals and developments affecting social justice issues in Iowa.
URL:https://www.dmiec.org/event/14250/
LOCATION:Zoom Meeting
CATEGORIES:Community,Lectures & Presentations,Social Justice
ORGANIZER;CN="Bob Mulqueen":MAILTO:robert.mulqueen@gmail.com
END:VEVENT
BEGIN:VEVENT
DTSTART;TZID=America/Chicago:20220414T190000
DTEND;TZID=America/Chicago:20220414T200000
DTSTAMP:20260420T141052
CREATED:20211011T144054Z
LAST-MODIFIED:20220407T205147Z
UID:13657-1649962800-1649966400@www.dmiec.org
SUMMARY:Holy Thursday Prayer Service (via Zoom)
DESCRIPTION:Readings: \n\nHoly Thursday  Year C  First Reading\n\nHoly Thursday  Year C  Second Reading\n\nHoly Thursday  Year C  Gospel\nVolunteer(s) needed for this event. Click here to sign up.
URL:https://www.dmiec.org/event/weekly-worship-service-114/
LOCATION:Zoom Event\, United States
CATEGORIES:Weekly Worship Service
ATTACH;FMTTYPE=image/jpeg:https://www.dmiec.org/wp-content/uploads/2018/10/NewWeeklyReading.jpg
END:VEVENT
BEGIN:VEVENT
DTSTART;TZID=America/Chicago:20220415T160000
DTEND;TZID=America/Chicago:20220415T170000
DTSTAMP:20260420T141052
CREATED:20220317T021020Z
LAST-MODIFIED:20220317T021020Z
UID:14482-1650038400-1650042000@www.dmiec.org
SUMMARY:Good Friday Sidewalk Solidarity - *In-Person*
DESCRIPTION:As a community\, we continue to learn how we can be more aware of the racial injustice in the world. Several DMIEC committees work towards these efforts\, while individuals read and discuss books and seek out other ways to enhance understanding of racial injustice issues. \nAs we did on Good Friday 2021\, we will hold a 4:00 p.m. Sidewalk Solidarity event to demonstrate our desire to stand as allies and show our solidarity with the Black families who have lost loved ones. An optional debriefing follows at 4:30 p.m. \nMeet in the west DMIEC parking lot to distribute posters honoring Black lives\, then proceed to the sidewalk in front of the DMIEC building. We will open with a prayer and say the names of those who have died\, then stand in silence. Please wear a mask and maintain social distancing. Lawn chairs welcome. Cancelled if raining\, snowing\, sleeting\, etc.
URL:https://www.dmiec.org/event/good-friday-sidewalk-solidarity-in-person/
LOCATION:DMIEC\, 3306 University Avenue\, Des Moines\, IA\, 50311\, United States
GEO:41.6000075;-93.6619278
X-APPLE-STRUCTURED-LOCATION;VALUE=URI;X-ADDRESS=DMIEC 3306 University Avenue Des Moines IA 50311 United States;X-APPLE-RADIUS=500;X-TITLE=3306 University Avenue:geo:-93.6619278,41.6000075
END:VEVENT
BEGIN:VEVENT
DTSTART;TZID=America/Chicago:20220416T190000
DTEND;TZID=America/Chicago:20220416T210000
DTSTAMP:20260420T141052
CREATED:20211011T144221Z
LAST-MODIFIED:20220414T145635Z
UID:13661-1650135600-1650142800@www.dmiec.org
SUMMARY:Easter Vigil Worship Service - *In-Person*
DESCRIPTION:Readings: \n\nEaster Vigil  Year C  *Alternate* First Readings (no Psalm)\n\nEaster Vigil  Year C  *Alternate* Second Reading\n\nEaster Vigil  Year C – *Alternate* Third Reading\n\nEaster Vigil  Year C  Gospel\nVolunteer(s) needed for this event. Click here to sign up.
URL:https://www.dmiec.org/event/weekly-worship-service-116/
LOCATION:DMIEC\, 3306 University Avenue\, Des Moines\, IA\, 50311\, United States
CATEGORIES:Easter Vigil,Weekly Worship Service
ATTACH;FMTTYPE=image/jpeg:https://www.dmiec.org/wp-content/uploads/2018/10/NewWeeklyReading.jpg
GEO:41.6000075;-93.6619278
X-APPLE-STRUCTURED-LOCATION;VALUE=URI;X-ADDRESS=DMIEC 3306 University Avenue Des Moines IA 50311 United States;X-APPLE-RADIUS=500;X-TITLE=3306 University Avenue:geo:-93.6619278,41.6000075
END:VEVENT
BEGIN:VEVENT
DTSTART;VALUE=DATE:20220417
DTEND;VALUE=DATE:20220418
DTSTAMP:20260420T141052
CREATED:20220318T192350Z
LAST-MODIFIED:20220318T192409Z
UID:14488-1650153600-1650239999@www.dmiec.org
SUMMARY:Easter Sunday ** No DMIEC Sunday Prayer Service Today **
DESCRIPTION:
URL:https://www.dmiec.org/event/easter-sunday-no-sunday-prayer-service-today/
LOCATION:IA
END:VEVENT
BEGIN:VEVENT
DTSTART;VALUE=DATE:20220417
DTEND;VALUE=DATE:20220418
DTSTAMP:20260420T141052
CREATED:20220411T195852Z
LAST-MODIFIED:20220411T195852Z
UID:14587-1650153600-1650239999@www.dmiec.org
SUMMARY:DMARC Emergency Food Pantries Sunday Special Collection
DESCRIPTION:Before the pandemic began\, DMARC pantries were already operating at a 10% increase over 2019 levels.  As the economic crisis surrounding the pandemic has worsened\, pantry use has grown exponentially. \nTo send donation checks directly to DMARC.  Please write checks to “DMARC” and mail to DMARC\, 1435 Mulberry Street\, Des Moines\, IA 50309. Please include a note with your check indicating that you are part of the DMIEC community. \nFor more information\, please visit the DMARC Food Pantries website  https://www.dmarcunited.org/food/ \nRead the most recent quarterly newsletter here.
URL:https://www.dmiec.org/event/dmarc-emergency-food-pantries-sunday-special-collection-24/
LOCATION:DMIEC\, 3306 University Avenue\, Des Moines\, IA\, 50311\, United States
CATEGORIES:Community,Social Justice,Stewardship
GEO:41.6000075;-93.6619278
X-APPLE-STRUCTURED-LOCATION;VALUE=URI;X-ADDRESS=DMIEC 3306 University Avenue Des Moines IA 50311 United States;X-APPLE-RADIUS=500;X-TITLE=3306 University Avenue:geo:-93.6619278,41.6000075
END:VEVENT
BEGIN:VEVENT
DTSTART;TZID=America/Chicago:20220424T100000
DTEND;TZID=America/Chicago:20220424T110000
DTSTAMP:20260420T141052
CREATED:20211011T144301Z
LAST-MODIFIED:20220317T020202Z
UID:13663-1650794400-1650798000@www.dmiec.org
SUMMARY:Weekly Worship Service - *In-Person*
DESCRIPTION:Readings: \n\nSecond Sunday of Easter  Year C  *Alternate* First Reading (No Psalm)\n\nSecond Sunday of Easter  Year C  Gospel\nVolunteer(s) needed for this event. Click here to sign up.
URL:https://www.dmiec.org/event/weekly-worship-service-117/
LOCATION:DMIEC\, 3306 University Avenue\, Des Moines\, IA\, 50311\, United States
CATEGORIES:Weekly Worship Service
ATTACH;FMTTYPE=image/jpeg:https://www.dmiec.org/wp-content/uploads/2018/10/NewWeeklyReading.jpg
GEO:41.6000075;-93.6619278
X-APPLE-STRUCTURED-LOCATION;VALUE=URI;X-ADDRESS=DMIEC 3306 University Avenue Des Moines IA 50311 United States;X-APPLE-RADIUS=500;X-TITLE=3306 University Avenue:geo:-93.6619278,41.6000075
END:VEVENT
BEGIN:VEVENT
DTSTART;TZID=America/Chicago:20220424T110000
DTEND;TZID=America/Chicago:20220424T113000
DTSTAMP:20260420T141052
CREATED:20220119T224512Z
LAST-MODIFIED:20220119T224512Z
UID:14252-1650798000-1650799800@www.dmiec.org
SUMMARY:State Legislative Update and Discussion (immediately following the conclusion of our Sunday prayer service)
DESCRIPTION:Led by veteran Iowa Statehouse observer\, Bob Mulqueen\, participants learn about and discuss recent legislative proposals and developments affecting social justice issues in Iowa.
URL:https://www.dmiec.org/event/state-legislative-update-and-discussion-immediately-following-the-conclusion-of-our-sunday-prayer-service-6/
LOCATION:Zoom Meeting
CATEGORIES:Community,Lectures & Presentations,Social Justice
ORGANIZER;CN="Bob Mulqueen":MAILTO:robert.mulqueen@gmail.com
END:VEVENT
END:VCALENDAR