BEGIN:VCALENDAR
VERSION:2.0
PRODID:-//Des Moines Intentional Eucharistic Community - ECPv6.15.13.1//NONSGML v1.0//EN
CALSCALE:GREGORIAN
METHOD:PUBLISH
X-WR-CALNAME:Des Moines Intentional Eucharistic Community
X-ORIGINAL-URL:https://www.dmiec.org
X-WR-CALDESC:Events for Des Moines Intentional Eucharistic Community
REFRESH-INTERVAL;VALUE=DURATION:PT1H
X-Robots-Tag:noindex
X-PUBLISHED-TTL:PT1H
BEGIN:VTIMEZONE
TZID:America/Chicago
BEGIN:DAYLIGHT
TZOFFSETFROM:-0600
TZOFFSETTO:-0500
TZNAME:CDT
DTSTART:20210314T080000
END:DAYLIGHT
BEGIN:STANDARD
TZOFFSETFROM:-0500
TZOFFSETTO:-0600
TZNAME:CST
DTSTART:20211107T070000
END:STANDARD
BEGIN:DAYLIGHT
TZOFFSETFROM:-0600
TZOFFSETTO:-0500
TZNAME:CDT
DTSTART:20220313T080000
END:DAYLIGHT
BEGIN:STANDARD
TZOFFSETFROM:-0500
TZOFFSETTO:-0600
TZNAME:CST
DTSTART:20221106T070000
END:STANDARD
BEGIN:DAYLIGHT
TZOFFSETFROM:-0600
TZOFFSETTO:-0500
TZNAME:CDT
DTSTART:20230312T080000
END:DAYLIGHT
BEGIN:STANDARD
TZOFFSETFROM:-0500
TZOFFSETTO:-0600
TZNAME:CST
DTSTART:20231105T070000
END:STANDARD
END:VTIMEZONE
BEGIN:VEVENT
DTSTART;TZID=America/Chicago:20220302T190000
DTEND;TZID=America/Chicago:20220302T200000
DTSTAMP:20260420T155051
CREATED:20220201T024131Z
LAST-MODIFIED:20220201T024131Z
UID:14336-1646247600-1646251200@www.dmiec.org
SUMMARY:Ash Wednesday Prayer Service
DESCRIPTION:Details coming.
URL:https://www.dmiec.org/event/ash-wednesday-prayer-service-2/
LOCATION:Zoom Event\, United States
CATEGORIES:Prayer
END:VEVENT
BEGIN:VEVENT
DTSTART;TZID=America/Chicago:20220303T190000
DTEND;TZID=America/Chicago:20220303T210000
DTSTAMP:20260420T155051
CREATED:20220128T031433Z
LAST-MODIFIED:20220130T220627Z
UID:14280-1646334000-1646341200@www.dmiec.org
SUMMARY:Faithful Conversations About The 1619 Project
DESCRIPTION:During Lent\, DMIEC Liturgy Team will present this six-week series on “The 1619 Project\,” originally offered last fall by Interfaith Alliance of Iowa. The Zoom link as well as links for the readings  and discussion questions will be emailed weekly to our community. Each session will include a taped panel discussion from Interfaith Alliance followed by breakout rooms for small group  discussion. No need to preregister. Join the weekly sessions as you are able. Questions?  Contact Julie Powell-Mohr at julpowell@aol.com.
URL:https://www.dmiec.org/event/faithful-conversations-about-the-1619-project/2022-03-03/
LOCATION:Zoom Event\, United States
CATEGORIES:Community,Lectures & Presentations,Social Justice
ORGANIZER;CN="Julie Powell-Mohr":MAILTO:julpowell@aol.com
END:VEVENT
BEGIN:VEVENT
DTSTART;TZID=America/Chicago:20220306T100000
DTEND;TZID=America/Chicago:20220306T110000
DTSTAMP:20260420T155051
CREATED:20211011T143544Z
LAST-MODIFIED:20211230T051032Z
UID:13645-1646560800-1646564400@www.dmiec.org
SUMMARY:Weekly Worship Service
DESCRIPTION:Readings: \n\nFirst Sunday of Lent  Year C  First Reading (No Psalm)\n\nFirst Sunday of Lent  Year C  *Alternate* Second Reading\n\nFirst Sunday of Lent  Year C  Gospel\nVolunteer(s) needed for this event. Click here to sign up.
URL:https://www.dmiec.org/event/weekly-worship-service-108/
LOCATION:DMIEC\, 3306 University Avenue\, Des Moines\, IA\, 50311\, United States
CATEGORIES:Weekly Worship Service
ATTACH;FMTTYPE=image/jpeg:https://www.dmiec.org/wp-content/uploads/2018/10/NewWeeklyReading.jpg
GEO:41.6000075;-93.6619278
X-APPLE-STRUCTURED-LOCATION;VALUE=URI;X-ADDRESS=DMIEC 3306 University Avenue Des Moines IA 50311 United States;X-APPLE-RADIUS=500;X-TITLE=3306 University Avenue:geo:-93.6619278,41.6000075
END:VEVENT
BEGIN:VEVENT
DTSTART;TZID=America/Chicago:20220306T103000
DTEND;TZID=America/Chicago:20220306T110000
DTSTAMP:20260420T155051
CREATED:20220305T165548Z
LAST-MODIFIED:20220305T194755Z
UID:14445-1646562600-1646564400@www.dmiec.org
SUMMARY:First Sunday Collection - Greater Des Moines Habitat for Humanity
DESCRIPTION:Our First Sunday collection recipient for March will be Greater Des Moines Habit for Humanity. \nMission: Seeking to put God’s love into action\, Greater Des Moines Habitat for Humanity brings people together to build homes\, communities\, and hope. \nVision: A world where everyone has a decent place to live. \nIn 2021\, GDM Habitat directly served 285 families in Polk\, Dallas\, and Jasper counties through affordable homeownership\, home repairs\, and financial counseling. Learn more at gdmhabitat.org. \nOur collection will support a Panel Build in DMIEC’s parking lot on Thursday\, May 26. This event will engage approximately 50 people from several different churches. While building connections with one another\, the volunteers will build the interior and exterior wall panels\nof a Habitat home in about seven hours.  (Signup link for the Panel Build coming soon.) \nCHECKS SHOULD BE MAILED TO: \nDMIEC\, P.O. Box 30065\, Des Moines\, IA  50310 \nChecks can be written either to “GDM Habitat for Humanity” (mention DMIEC in the memo line) or to “DMIEC” with “First Sunday” in the memo line.  \nWhile we would prefer that all checks be mailed to DMIEC\, if you mail your check directly to the organization\, please inform Ed Arnold of the amount\, if you feel comfortable\, so the Social Justice Committee can get an accurate count of donations.  Thank you for your generosity. \n 
URL:https://www.dmiec.org/event/first-sunday-collection-greater-des-moines-habitat-for-humanity/
LOCATION:DMIEC\, 3306 University Avenue\, Des Moines\, IA\, 50311\, United States
CATEGORIES:Social Justice,Stewardship
GEO:41.6000075;-93.6619278
X-APPLE-STRUCTURED-LOCATION;VALUE=URI;X-ADDRESS=DMIEC 3306 University Avenue Des Moines IA 50311 United States;X-APPLE-RADIUS=500;X-TITLE=3306 University Avenue:geo:-93.6619278,41.6000075
END:VEVENT
BEGIN:VEVENT
DTSTART;TZID=America/Chicago:20220312T183000
DTEND;TZID=America/Chicago:20220312T203000
DTSTAMP:20260420T155051
CREATED:20220211T192810Z
LAST-MODIFIED:20220211T192810Z
UID:14381-1647109800-1647117000@www.dmiec.org
SUMMARY:Making a Heart Connection with the Universe and the World Around You - An Evening with Video\, Poetry and Music
DESCRIPTION:
URL:https://www.dmiec.org/event/making-a-heart-connection-with-the-universe-and-the-world-around-you-an-evening-with-video-poetry-and-music/
LOCATION:Zoom Event\, United States
CATEGORIES:Community,Lectures & Presentations
ORGANIZER;CN="Rodger Routh":MAILTO:rodgerrouth@gmail.com
END:VEVENT
BEGIN:VEVENT
DTSTART;TZID=America/Chicago:20220313T100000
DTEND;TZID=America/Chicago:20220313T110000
DTSTAMP:20260420T155051
CREATED:20211011T143723Z
LAST-MODIFIED:20211230T051129Z
UID:13647-1647165600-1647169200@www.dmiec.org
SUMMARY:Weekly Worship Service
DESCRIPTION:Readings: \n\nSecond Sunday of Lent  Year C  Gospel\nVolunteer(s) needed for this event. Click here to sign up.
URL:https://www.dmiec.org/event/weekly-worship-service-109/
LOCATION:DMIEC\, 3306 University Avenue\, Des Moines\, IA\, 50311\, United States
CATEGORIES:Weekly Worship Service
ATTACH;FMTTYPE=image/jpeg:https://www.dmiec.org/wp-content/uploads/2018/10/NewWeeklyReading.jpg
GEO:41.6000075;-93.6619278
X-APPLE-STRUCTURED-LOCATION;VALUE=URI;X-ADDRESS=DMIEC 3306 University Avenue Des Moines IA 50311 United States;X-APPLE-RADIUS=500;X-TITLE=3306 University Avenue:geo:-93.6619278,41.6000075
END:VEVENT
BEGIN:VEVENT
DTSTART;TZID=America/Chicago:20220313T110000
DTEND;TZID=America/Chicago:20220313T113000
DTSTAMP:20260420T155051
CREATED:20220119T222825Z
LAST-MODIFIED:20220119T222825Z
UID:14245-1647169200-1647171000@www.dmiec.org
SUMMARY:State Legislative Update and Discussion (immediately following the conclusion of our Sunday prayer service)
DESCRIPTION:Led by veteran Iowa Statehouse observer\, Bob Mulqueen\, participants learn about and discuss recent legislative proposals and developments affecting social justice issues in Iowa.
URL:https://www.dmiec.org/event/state-legislative-update-and-discussion-immediately-following-the-conclusion-of-our-sunday-prayer-service-4/
LOCATION:Zoom Meeting
CATEGORIES:Community,Lectures & Presentations,Social Justice
ORGANIZER;CN="Bob Mulqueen":MAILTO:robert.mulqueen@gmail.com
END:VEVENT
BEGIN:VEVENT
DTSTART;TZID=America/Chicago:20220320T100000
DTEND;TZID=America/Chicago:20220320T110000
DTSTAMP:20260420T155051
CREATED:20211011T143800Z
LAST-MODIFIED:20220318T191733Z
UID:13649-1647770400-1647774000@www.dmiec.org
SUMMARY:Weekly Worship Service (via Zoom)
DESCRIPTION:Readings: \n\nThird Sunday of Lent  Year C  First Reading and Responsorial Psalm\n\nThird Sunday of Lent  Year C  Second Reading\n\nThird Sunday of Lent  Year C  Gospel\nVolunteer(s) needed for this event. Click here to sign up.
URL:https://www.dmiec.org/event/weekly-worship-service-110/
LOCATION:Zoom Event\, United States
CATEGORIES:Weekly Worship Service
ATTACH;FMTTYPE=image/jpeg:https://www.dmiec.org/wp-content/uploads/2018/10/NewWeeklyReading.jpg
END:VEVENT
BEGIN:VEVENT
DTSTART;TZID=America/Chicago:20220320T103000
DTEND;TZID=America/Chicago:20220320T110000
DTSTAMP:20260420T155051
CREATED:20220308T222804Z
LAST-MODIFIED:20220308T222804Z
UID:14453-1647772200-1647774000@www.dmiec.org
SUMMARY:DMARC Emergency Food Pantries Sunday Special Collection
DESCRIPTION:Before the pandemic began\, DMARC pantries were already operating at a 10% increase over 2019 levels.  As the economic crisis surrounding the pandemic has worsened\, pantry use has grown exponentially. \nTo send donation checks directly to DMARC.  Please write checks to “DMARC” and mail to DMARC\, 1435 Mulberry Street\, Des Moines\, IA 50309. Please include a note with your check indicating that you are part of the DMIEC community. \nFor more information\, please visit the DMARC Food Pantries website  https://www.dmarcunited.org/food/ \nRead the most recent quarterly newsletter here.
URL:https://www.dmiec.org/event/dmarc-emergency-food-pantries-sunday-special-collection-23/
LOCATION:DMIEC\, 3306 University Avenue\, Des Moines\, IA\, 50311\, United States
CATEGORIES:Social Justice,Stewardship
GEO:41.6000075;-93.6619278
X-APPLE-STRUCTURED-LOCATION;VALUE=URI;X-ADDRESS=DMIEC 3306 University Avenue Des Moines IA 50311 United States;X-APPLE-RADIUS=500;X-TITLE=3306 University Avenue:geo:-93.6619278,41.6000075
END:VEVENT
BEGIN:VEVENT
DTSTART;TZID=America/Chicago:20220327T100000
DTEND;TZID=America/Chicago:20220327T110000
DTSTAMP:20260420T155051
CREATED:20211011T143844Z
LAST-MODIFIED:20220318T192050Z
UID:13652-1648375200-1648378800@www.dmiec.org
SUMMARY:Weekly Worship Service (via Zoom)
DESCRIPTION:Readings: \n\nFourth Sunday of Lent  Year C  *Alternate* First Reading (no Psalm)\n\nFourth Sunday of Lent  Year C – *Alternate* Gospel\nVolunteer(s) needed for this event. Click here to sign up.
URL:https://www.dmiec.org/event/weekly-worship-service-111/
LOCATION:Zoom Event\, United States
CATEGORIES:Weekly Worship Service
ATTACH;FMTTYPE=image/jpeg:https://www.dmiec.org/wp-content/uploads/2018/10/NewWeeklyReading.jpg
END:VEVENT
BEGIN:VEVENT
DTSTART;TZID=America/Chicago:20220327T110000
DTEND;TZID=America/Chicago:20220327T113000
DTSTAMP:20260420T155051
CREATED:20220119T223145Z
LAST-MODIFIED:20220119T223145Z
UID:14248-1648378800-1648380600@www.dmiec.org
SUMMARY:State Legislative Update and Discussion (immediately following the conclusion of our Sunday prayer service)
DESCRIPTION:Led by veteran Iowa Statehouse observer\, Bob Mulqueen\, participants learn about and discuss recent legislative proposals and developments affecting social justice issues in Iowa.
URL:https://www.dmiec.org/event/state-legislative-update-and-discussion-immediately-following-the-conclusion-of-our-sunday-prayer-service-5/
LOCATION:DMIEC\, 3306 University Avenue\, Des Moines\, IA\, 50311\, United States
CATEGORIES:Community,Lectures & Presentations,Social Justice
ORGANIZER;CN="Bob Mulqueen":MAILTO:robert.mulqueen@gmail.com
GEO:41.6000075;-93.6619278
X-APPLE-STRUCTURED-LOCATION;VALUE=URI;X-ADDRESS=DMIEC 3306 University Avenue Des Moines IA 50311 United States;X-APPLE-RADIUS=500;X-TITLE=3306 University Avenue:geo:-93.6619278,41.6000075
END:VEVENT
END:VCALENDAR