BEGIN:VCALENDAR
VERSION:2.0
PRODID:-//Des Moines Intentional Eucharistic Community - ECPv6.15.13.1//NONSGML v1.0//EN
CALSCALE:GREGORIAN
METHOD:PUBLISH
X-ORIGINAL-URL:https://www.dmiec.org
X-WR-CALDESC:Events for Des Moines Intentional Eucharistic Community
REFRESH-INTERVAL;VALUE=DURATION:PT1H
X-Robots-Tag:noindex
X-PUBLISHED-TTL:PT1H
BEGIN:VTIMEZONE
TZID:America/Chicago
BEGIN:DAYLIGHT
TZOFFSETFROM:-0600
TZOFFSETTO:-0500
TZNAME:CDT
DTSTART:20210314T080000
END:DAYLIGHT
BEGIN:STANDARD
TZOFFSETFROM:-0500
TZOFFSETTO:-0600
TZNAME:CST
DTSTART:20211107T070000
END:STANDARD
BEGIN:DAYLIGHT
TZOFFSETFROM:-0600
TZOFFSETTO:-0500
TZNAME:CDT
DTSTART:20220313T080000
END:DAYLIGHT
BEGIN:STANDARD
TZOFFSETFROM:-0500
TZOFFSETTO:-0600
TZNAME:CST
DTSTART:20221106T070000
END:STANDARD
BEGIN:DAYLIGHT
TZOFFSETFROM:-0600
TZOFFSETTO:-0500
TZNAME:CDT
DTSTART:20230312T080000
END:DAYLIGHT
BEGIN:STANDARD
TZOFFSETFROM:-0500
TZOFFSETTO:-0600
TZNAME:CST
DTSTART:20231105T070000
END:STANDARD
END:VTIMEZONE
BEGIN:VEVENT
DTSTART;TZID=America/Chicago:20220102T100000
DTEND;TZID=America/Chicago:20220102T110000
DTSTAMP:20260420T183740
CREATED:20211011T142021Z
LAST-MODIFIED:20211117T182315Z
UID:13626-1641117600-1641121200@www.dmiec.org
SUMMARY:Weekly Worship Service
DESCRIPTION:Readings: \n\nEpiphany of the Lord  Year C  First Reading and *Alternate* Psalm\n\nEpiphany of the Lord  Year C  Gospel\nVolunteer(s) needed for this event. Click here to sign up.
URL:https://www.dmiec.org/event/weekly-worship-service-98/
LOCATION:DMIEC\, 3306 University Avenue\, Des Moines\, IA\, 50311\, United States
CATEGORIES:Weekly Worship Service
ATTACH;FMTTYPE=image/jpeg:https://www.dmiec.org/wp-content/uploads/2018/10/NewWeeklyReading.jpg
GEO:41.6000075;-93.6619278
X-APPLE-STRUCTURED-LOCATION;VALUE=URI;X-ADDRESS=DMIEC 3306 University Avenue Des Moines IA 50311 United States;X-APPLE-RADIUS=500;X-TITLE=3306 University Avenue:geo:-93.6619278,41.6000075
END:VEVENT
BEGIN:VEVENT
DTSTART;TZID=America/Chicago:20220107T150000
DTEND;TZID=America/Chicago:20220107T153000
DTSTAMP:20260420T183740
CREATED:20211213T220717Z
LAST-MODIFIED:20211213T220828Z
UID:14076-1641567600-1641569400@www.dmiec.org
SUMMARY:Sidewalk Solidarity at DMIEC
DESCRIPTION:As a community\, we continue to learn how we can be more aware of the racial injustice in the world. Several DMIEC committees work towards these efforts\, while individuals read and discuss books and seek out other ways to enhance understanding of racial injustice issues. \nBeginning on Good Friday 2021\, we have held a weekly Sidewalk Solidarity event every Friday afternoon as weather permitted. We hope this weekly commitment will demonstrate our desire to stand as allies and show our solidarity with the Black families who have lost loved ones. An optional debriefing follows at 3:30 p.m. each Friday. \nMeet in the west DMIEC parking lot to distribute posters honoring Black lives\, then proceed to the sidewalk in front of the DMIEC building. We will open with a prayer and say the names of those who have died\, then stand in silence. Please wear a mask and maintain social distancing. Lawn chairs welcome. Cancelled if raining\, snowing\, sleeting\, etc.
URL:https://www.dmiec.org/event/sidewalk-solidarity-at-dmiec-4/2022-01-07/
LOCATION:DMIEC\, 3306 University Avenue\, Des Moines\, IA\, 50311\, United States
CATEGORIES:Community Service Activities,Prayer,Social Justice
ORGANIZER;CN="Julie Powell-Mohr":MAILTO:julpowell@aol.com
GEO:41.6000075;-93.6619278
X-APPLE-STRUCTURED-LOCATION;VALUE=URI;X-ADDRESS=DMIEC 3306 University Avenue Des Moines IA 50311 United States;X-APPLE-RADIUS=500;X-TITLE=3306 University Avenue:geo:-93.6619278,41.6000075
END:VEVENT
BEGIN:VEVENT
DTSTART;TZID=America/Chicago:20220109T100000
DTEND;TZID=America/Chicago:20220109T110000
DTSTAMP:20260420T183740
CREATED:20211011T142529Z
LAST-MODIFIED:20211117T182452Z
UID:13630-1641722400-1641726000@www.dmiec.org
SUMMARY:Weekly Worship Service
DESCRIPTION:Readings: \n\nFeast of the Baptism of the Lord  Year C  Gospel\n\nFeast of the Baptism of the Lord  Year C  *Alternate* Second Gospel\nVolunteer(s) needed for this event. Click here to sign up.
URL:https://www.dmiec.org/event/weekly-worship-service-100/
LOCATION:DMIEC\, 3306 University Avenue\, Des Moines\, IA\, 50311\, United States
CATEGORIES:Weekly Worship Service
ATTACH;FMTTYPE=image/jpeg:https://www.dmiec.org/wp-content/uploads/2018/10/NewWeeklyReading.jpg
GEO:41.6000075;-93.6619278
X-APPLE-STRUCTURED-LOCATION;VALUE=URI;X-ADDRESS=DMIEC 3306 University Avenue Des Moines IA 50311 United States;X-APPLE-RADIUS=500;X-TITLE=3306 University Avenue:geo:-93.6619278,41.6000075
END:VEVENT
BEGIN:VEVENT
DTSTART;TZID=America/Chicago:20220109T103000
DTEND;TZID=America/Chicago:20220109T110000
DTSTAMP:20260420T183740
CREATED:20220101T232403Z
LAST-MODIFIED:20220101T232403Z
UID:14128-1641724200-1641726000@www.dmiec.org
SUMMARY:First Sunday Collection - IMPACT
DESCRIPTION:IMPACT Community Action Partnership\, Inc. (“IMPACT”)\, DMIEC’s neighbor to the east\, will be our January First Sunday collection recipient.  *** NOTE: Due to the New Year’s holiday\, the collection will be held Sunday\, January 9.*** \nIMPACT is committed to reducing the barriers and burdens of poverty experienced by families\, whether lifelong Iowans or new immigrants\, through IMPACT’s own programming or by creating connections to other community resources. Donations will help fund the organization’s THRIVE program\, which assists families directly with essential items\, which include car repair\, housing costs\, furnishings\, etc.   For more information\, please go to the www.impactcap.org website. \nCHECKS SHOULD BE MAILED TO: \nDMIEC\, P.O. Box 30065\, Des Moines\, IA  50310 \nChecks can be written either to “IMPACT” (mention DMIEC in the memo line) or to “DMIEC” with “First Sunday” in the memo line.  \nWhile we would prefer that all checks be mailed to DMIEC\, if you mail your check directly to the organization\, please inform Ed Arnold of the amount\, if you feel comfortable\, so the Social Justice Committee can get an accurate count of donations.  Thank you for your generosity. \n 
URL:https://www.dmiec.org/event/first-sunday-collection-impact/
LOCATION:DMIEC\, 3306 University Avenue\, Des Moines\, IA\, 50311\, United States
CATEGORIES:Community,Social Justice,Stewardship
GEO:41.6000075;-93.6619278
X-APPLE-STRUCTURED-LOCATION;VALUE=URI;X-ADDRESS=DMIEC 3306 University Avenue Des Moines IA 50311 United States;X-APPLE-RADIUS=500;X-TITLE=3306 University Avenue:geo:-93.6619278,41.6000075
END:VEVENT
BEGIN:VEVENT
DTSTART;TZID=America/Chicago:20220110T180000
DTEND;TZID=America/Chicago:20220110T193000
DTSTAMP:20260420T183740
CREATED:20211227T165932Z
LAST-MODIFIED:20211227T165932Z
UID:14108-1641837600-1641843000@www.dmiec.org
SUMMARY:DMIEC Council Meeting
DESCRIPTION:DMIEC’s Community Council meets monthly via Zoom.  All members are welcome to attend.  For more information\, please contact Council Chair Mary Ann Koch kochmaryann2014@gmail.com   (515-230-8410).
URL:https://www.dmiec.org/event/dmiec-council-meeting-5/
LOCATION:Zoom Meeting
CATEGORIES:Committees,Governance
ORGANIZER;CN="Mary Ann Koch":MAILTO:Kochmaryann2014@gmail.com
END:VEVENT
BEGIN:VEVENT
DTSTART;TZID=America/Chicago:20220113T183000
DTEND;TZID=America/Chicago:20220113T200000
DTSTAMP:20260420T183740
CREATED:20211230T043316Z
LAST-MODIFIED:20211230T043316Z
UID:14110-1642098600-1642104000@www.dmiec.org
SUMMARY:Social Justice Committee Meeting
DESCRIPTION:The Social Justice Committee meets the second Thursday of odd-numbered months. New committee members are needed and always welcome. Interested in joining us or nominating a First Sunday recipient organization? Please contact Kathy Eastman or Deana Carfrae\, Co-Chairs.
URL:https://www.dmiec.org/event/social-justice-committee-meeting-8/
LOCATION:Zoom Meeting
CATEGORIES:Committees,Community,Social Justice
ORGANIZER;CN="Kathy Eastman":MAILTO:keastman33@gmail.com
END:VEVENT
BEGIN:VEVENT
DTSTART;TZID=America/Chicago:20220116T100000
DTEND;TZID=America/Chicago:20220116T110000
DTSTAMP:20260420T183740
CREATED:20211011T142850Z
LAST-MODIFIED:20211117T182559Z
UID:13632-1642327200-1642330800@www.dmiec.org
SUMMARY:Weekly Worship Service
DESCRIPTION:Readings: \n\nSecond Sunday in Ordinary Time  Year C  *Alternate* First Reading (no Psalm)\n\nSecond Sunday in Ordinary Time  Year C  Second Reading\nVolunteer(s) needed for this event. Click here to sign up.
URL:https://www.dmiec.org/event/weekly-worship-service-101/
LOCATION:DMIEC\, 3306 University Avenue\, Des Moines\, IA\, 50311\, United States
CATEGORIES:Weekly Worship Service
ATTACH;FMTTYPE=image/jpeg:https://www.dmiec.org/wp-content/uploads/2018/10/NewWeeklyReading.jpg
GEO:41.6000075;-93.6619278
X-APPLE-STRUCTURED-LOCATION;VALUE=URI;X-ADDRESS=DMIEC 3306 University Avenue Des Moines IA 50311 United States;X-APPLE-RADIUS=500;X-TITLE=3306 University Avenue:geo:-93.6619278,41.6000075
END:VEVENT
BEGIN:VEVENT
DTSTART;TZID=America/Chicago:20220116T103000
DTEND;TZID=America/Chicago:20220116T110000
DTSTAMP:20260420T183740
CREATED:20220103T173759Z
LAST-MODIFIED:20220103T173759Z
UID:14189-1642329000-1642330800@www.dmiec.org
SUMMARY:DMARC Emergency Food Pantries Sunday Special Collection
DESCRIPTION:Every third Sunday is DMARC Emergency Food Pantries Sunday. \nBefore the pandemic began\, DMARC pantries were already operating at a 10% increase over 2019 levels.  As the economic crisis surrounding the pandemic has worsened\, pantry use has grown exponentially. \nTo send donation checks directly to DMARC.  Please write checks to “DMARC” and mail to DMARC\, 1435 Mulberry Street\, Des Moines\, IA 50309. Please include a note with your check indicating that you are part of the DMIEC community. \nFor more information\, please visit the DMARC Food Pantries website  https://www.dmarcunited.org/food/ \nRead the most recent quarterly newsletter here.
URL:https://www.dmiec.org/event/dmarc-emergency-food-pantries-sunday-special-collection-22/
LOCATION:DMIEC\, 3306 University Avenue\, Des Moines\, IA\, 50311\, United States
CATEGORIES:Social Justice,Stewardship
GEO:41.6000075;-93.6619278
X-APPLE-STRUCTURED-LOCATION;VALUE=URI;X-ADDRESS=DMIEC 3306 University Avenue Des Moines IA 50311 United States;X-APPLE-RADIUS=500;X-TITLE=3306 University Avenue:geo:-93.6619278,41.6000075
END:VEVENT
BEGIN:VEVENT
DTSTART;TZID=America/Chicago:20220117T150000
DTEND;TZID=America/Chicago:20220117T161500
DTSTAMP:20260420T183740
CREATED:20220102T002510Z
LAST-MODIFIED:20220103T160820Z
UID:14133-1642431600-1642436100@www.dmiec.org
SUMMARY:Compassion Study Group
DESCRIPTION:DMIEC GROUP STUDY on COMPASSION \nMondays\, January 17\, 24\, 31 and February 7\, 14\, 21\, 3:00-4:15 p.m.\, via Zoom \nWednesdays\, January 19\, 26 and February 2\, 9\, 16\, 23\, 6:30-7:45 p.m.\, via Zoom \nAs a lead up to Lent\, Kevin Pokorny will offer a 6-week group study using Joyce Rupp’s book Boundless Compassion – Creating a Way of Life.  This is a personal transformation process for developing and deepening compassion in our lives\, our community\, and our world.  Joyce’s book is the foundation for her four-day Boundless Compassion retreat which Kevin has been through on two occasions.  He’s currently a member of the Boundless Compassion Core Team supporting Joyce’s compassion work with over 100 Boundless Compassion facilitators to bring compassion and self-compassion into our communities. \nThe group study will meet once a week for 6 weeks beginning the week of January 17.\nEach week is devoted to one topic of compassion.  You can participate in all 6 weeks or weeks that interest you.  There will be two group study sessions per week (see above). Participants\nwill need to purchase Joyce’s book at www.joycerupp.com  If interested\, please email Kevin at pokornyk@hotmail.com by Wednesday\, January 12. He’ll follow up with a more detailed description of the group study.
URL:https://www.dmiec.org/event/compassion-study-group/2022-01-17/
LOCATION:Zoom Event\, United States
CATEGORIES:Community,Lectures & Presentations
ORGANIZER;CN="Kevin Pokorny":MAILTO:pokornyk@hotmail.com
END:VEVENT
BEGIN:VEVENT
DTSTART;TZID=America/Chicago:20220119T150000
DTEND;TZID=America/Chicago:20220119T163000
DTSTAMP:20260420T183740
CREATED:20211230T043727Z
LAST-MODIFIED:20211230T043727Z
UID:14112-1642604400-1642609800@www.dmiec.org
SUMMARY:Liturgy Team Planning Meeting
DESCRIPTION:The Liturgy Team is not a formally structured committee. Anyone interested is encouraged to participate. No experience required! If you would like to offer ideas or suggestions\, but are unable to attend\, you are urged to talk to someone on the Liturgy Team (which includes Julie Powell-Mohr\, Mona Gude\, Paula Hermann\, Lisa Mullen\, Lynn Laws\, and Martha Fifield).\nFor more information\, contact Julie at julpowell@aol.com
URL:https://www.dmiec.org/event/liturgy-team-planning-meeting-9/
LOCATION:DMIEC\, 3306 University Avenue\, Des Moines\, IA\, 50311\, United States
CATEGORIES:Committees,Community
ORGANIZER;CN="Julie Powell-Mohr":MAILTO:julpowell@aol.com
GEO:41.6000075;-93.6619278
X-APPLE-STRUCTURED-LOCATION;VALUE=URI;X-ADDRESS=DMIEC 3306 University Avenue Des Moines IA 50311 United States;X-APPLE-RADIUS=500;X-TITLE=3306 University Avenue:geo:-93.6619278,41.6000075
END:VEVENT
BEGIN:VEVENT
DTSTART;TZID=America/Chicago:20220119T183000
DTEND;TZID=America/Chicago:20220119T194500
DTSTAMP:20260420T183740
CREATED:20220103T161327Z
LAST-MODIFIED:20220103T161548Z
UID:14171-1642617000-1642621500@www.dmiec.org
SUMMARY:Compassion Study Group
DESCRIPTION:DMIEC GROUP STUDY on COMPASSION \nMondays\, January 17\, 24\, 31 and February 7\, 14\, 21\, 3:00-4:15 p.m.\, via Zoom \nWednesdays\, January 19\, 26 and February 2\, 9\, 16\, 23\, 6:30-7:45 p.m.\, via Zoom \nAs a lead up to Lent\, Kevin Pokorny will offer a 6-week group study using Joyce Rupp’s book Boundless Compassion – Creating a Way of Life.  This is a personal transformation process for developing and deepening compassion in our lives\, our community\, and our world.  Joyce’s book is the foundation for her four-day Boundless Compassion retreat which Kevin has been through on two occasions.  He’s currently a member of the Boundless Compassion Core Team supporting Joyce’s compassion work with over 100 Boundless Compassion facilitators to bring compassion and self-compassion into our communities. \nThe group study will meet once a week for 6 weeks beginning the week of January 17.\nEach week is devoted to one topic of compassion.  You can participate in all 6 weeks or weeks that interest you.  There will be two group study sessions per week (see above). Participants\nwill need to purchase Joyce’s book at www.joycerupp.com  If interested\, please email Kevin at pokornyk@hotmail.com by Wednesday\, January 12. He’ll follow up with a more detailed description of the group study.
URL:https://www.dmiec.org/event/compassion-study-group-2/2022-01-19/
LOCATION:DMIEC\, 3306 University Avenue\, Des Moines\, IA\, 50311\, United States
CATEGORIES:Community,Lectures & Presentations
ORGANIZER;CN="Kevin Pokorny":MAILTO:pokornyk@hotmail.com
GEO:41.6000075;-93.6619278
X-APPLE-STRUCTURED-LOCATION;VALUE=URI;X-ADDRESS=DMIEC 3306 University Avenue Des Moines IA 50311 United States;X-APPLE-RADIUS=500;X-TITLE=3306 University Avenue:geo:-93.6619278,41.6000075
END:VEVENT
BEGIN:VEVENT
DTSTART;TZID=America/Chicago:20220123T100000
DTEND;TZID=America/Chicago:20220123T110000
DTSTAMP:20260420T183740
CREATED:20211011T143016Z
LAST-MODIFIED:20211117T182709Z
UID:13634-1642932000-1642935600@www.dmiec.org
SUMMARY:Weekly Worship Service
DESCRIPTION:Readings: \n\nThird Sunday in Ordinary Time  Year C  *Alternate* First Reading\n\nThird Sunday in Ordinary Time  Year C  *Alternate* Second Reading\n\nThird Sunday in Ordinary Time  Year C  *Alternate Third* Reading\n\nThird Sunday in Ordinary Time  Year C  *Alternate* Fourth Reading\nVolunteer(s) needed for this event. Click here to sign up.
URL:https://www.dmiec.org/event/weekly-worship-service-102/
LOCATION:DMIEC\, 3306 University Avenue\, Des Moines\, IA\, 50311\, United States
CATEGORIES:Weekly Worship Service
ATTACH;FMTTYPE=image/jpeg:https://www.dmiec.org/wp-content/uploads/2018/10/NewWeeklyReading.jpg
GEO:41.6000075;-93.6619278
X-APPLE-STRUCTURED-LOCATION;VALUE=URI;X-ADDRESS=DMIEC 3306 University Avenue Des Moines IA 50311 United States;X-APPLE-RADIUS=500;X-TITLE=3306 University Avenue:geo:-93.6619278,41.6000075
END:VEVENT
BEGIN:VEVENT
DTSTART;TZID=America/Chicago:20220123T110000
DTEND;TZID=America/Chicago:20220123T113000
DTSTAMP:20260420T183740
CREATED:20220119T204033Z
LAST-MODIFIED:20220119T204033Z
UID:14236-1642935600-1642937400@www.dmiec.org
SUMMARY:State Legislative Update and Discussion (immediately following the conclusion of our Sunday prayer service)
DESCRIPTION:Led by veteran Iowa Statehouse observer\, Bob Mulqueen\, participants learn about and discuss recent legislative proposals and developments affecting social justice issues in Iowa. Please join us for our 2022 kickoff update and discussion.
URL:https://www.dmiec.org/event/state-legislative-update-and-discussion-immediately-following-the-conclusion-of-our-sunday-prayer-service/
LOCATION:Zoom Meeting
CATEGORIES:Community,Lectures & Presentations,Social Justice
ORGANIZER;CN="Bob Mulqueen":MAILTO:robert.mulqueen@gmail.com
END:VEVENT
BEGIN:VEVENT
DTSTART;TZID=America/Chicago:20220130T100000
DTEND;TZID=America/Chicago:20220130T110000
DTSTAMP:20260420T183740
CREATED:20211011T143109Z
LAST-MODIFIED:20211117T182822Z
UID:13636-1643536800-1643540400@www.dmiec.org
SUMMARY:Weekly Worship Service
DESCRIPTION:Readings: \n\nFourth Sunday in Ordinary Time  Year C  *Alternate*  Reading\n\nFourth Sunday in Ordinary Time  Year C  *Alternate* Gospel\nVolunteer(s) needed for this event. Click here to sign up.
URL:https://www.dmiec.org/event/weekly-worship-service-103/
LOCATION:DMIEC\, 3306 University Avenue\, Des Moines\, IA\, 50311\, United States
CATEGORIES:Weekly Worship Service
ATTACH;FMTTYPE=image/jpeg:https://www.dmiec.org/wp-content/uploads/2018/10/NewWeeklyReading.jpg
GEO:41.6000075;-93.6619278
X-APPLE-STRUCTURED-LOCATION;VALUE=URI;X-ADDRESS=DMIEC 3306 University Avenue Des Moines IA 50311 United States;X-APPLE-RADIUS=500;X-TITLE=3306 University Avenue:geo:-93.6619278,41.6000075
END:VEVENT
BEGIN:VEVENT
DTSTART;TZID=America/Chicago:20220130T110000
DTEND;TZID=America/Chicago:20220130T113000
DTSTAMP:20260420T183740
CREATED:20220119T203449Z
LAST-MODIFIED:20220130T014632Z
UID:14234-1643540400-1643542200@www.dmiec.org
SUMMARY:Community Conversation
DESCRIPTION:Our periodic Community Conversations afford the opportunity for updates from the Community Council and committees on recent activities and issues\, as well as a way for the community to provide input on matters of interest. All members are invited to stay after our worship service and be part of these important conversations.  For more information\, please contact Council Chair Mary Ann Koch   kochmaryann2014@gmail.com   (515-230-8410) \nFor a preview of some reports\, please click here.
URL:https://www.dmiec.org/event/community-conversation-8/
LOCATION:Zoom Meeting
CATEGORIES:Community,Governance
ORGANIZER;CN="Mary Ann Koch":MAILTO:Kochmaryann2014@gmail.com
END:VEVENT
END:VCALENDAR