BEGIN:VCALENDAR
VERSION:2.0
PRODID:-//Des Moines Intentional Eucharistic Community - ECPv6.15.13.1//NONSGML v1.0//EN
CALSCALE:GREGORIAN
METHOD:PUBLISH
X-ORIGINAL-URL:https://www.dmiec.org
X-WR-CALDESC:Events for Des Moines Intentional Eucharistic Community
REFRESH-INTERVAL;VALUE=DURATION:PT1H
X-Robots-Tag:noindex
X-PUBLISHED-TTL:PT1H
BEGIN:VTIMEZONE
TZID:America/Chicago
BEGIN:DAYLIGHT
TZOFFSETFROM:-0600
TZOFFSETTO:-0500
TZNAME:CDT
DTSTART:20200308T080000
END:DAYLIGHT
BEGIN:STANDARD
TZOFFSETFROM:-0500
TZOFFSETTO:-0600
TZNAME:CST
DTSTART:20201101T070000
END:STANDARD
BEGIN:DAYLIGHT
TZOFFSETFROM:-0600
TZOFFSETTO:-0500
TZNAME:CDT
DTSTART:20210314T080000
END:DAYLIGHT
BEGIN:STANDARD
TZOFFSETFROM:-0500
TZOFFSETTO:-0600
TZNAME:CST
DTSTART:20211107T070000
END:STANDARD
BEGIN:DAYLIGHT
TZOFFSETFROM:-0600
TZOFFSETTO:-0500
TZNAME:CDT
DTSTART:20220313T080000
END:DAYLIGHT
BEGIN:STANDARD
TZOFFSETFROM:-0500
TZOFFSETTO:-0600
TZNAME:CST
DTSTART:20221106T070000
END:STANDARD
END:VTIMEZONE
BEGIN:VEVENT
DTSTART;TZID=America/Chicago:20210801T100000
DTEND;TZID=America/Chicago:20210801T110000
DTSTAMP:20260421T015823
CREATED:20201204T053404Z
LAST-MODIFIED:20210722T141626Z
UID:12343-1627812000-1627815600@www.dmiec.org
SUMMARY:Weekly Worship Service
DESCRIPTION:Readings: \n\nPentecost Sunday Year B First Reading\n\nPentecost Sunday Year B Second Reading\n\nPentecost Sunday Year B Gospel\n\nSeventeenth Sunday in Ordinary Time Year B First Reading and Responsorial Psalm\n\nSeventeenth Sunday in Ordinary Time Year B Second Reading (Alternative)\n\nSeventeenth Sunday in Ordinary Time Year B Gospel\nVolunteer(s) needed for this event. Click here to sign up.
URL:https://www.dmiec.org/event/weekly-worship-service-76/
LOCATION:DMIEC\, 3306 University Avenue\, Des Moines\, IA\, 50311\, United States
CATEGORIES:Weekly Worship Service
ATTACH;FMTTYPE=image/jpeg:https://www.dmiec.org/wp-content/uploads/2018/10/NewWeeklyReading.jpg
GEO:41.6000075;-93.6619278
X-APPLE-STRUCTURED-LOCATION;VALUE=URI;X-ADDRESS=DMIEC 3306 University Avenue Des Moines IA 50311 United States;X-APPLE-RADIUS=500;X-TITLE=3306 University Avenue:geo:-93.6619278,41.6000075
END:VEVENT
BEGIN:VEVENT
DTSTART;TZID=America/Chicago:20210801T103000
DTEND;TZID=America/Chicago:20210801T110000
DTSTAMP:20260421T015823
CREATED:20210709T165046Z
LAST-MODIFIED:20210709T165046Z
UID:13317-1627813800-1627815600@www.dmiec.org
SUMMARY:First Sunday Collection: Young Women's Resource Center
DESCRIPTION:The Young Women’s Resource Center will be the recipient of our First Sunday collection on August 1. \nThe Young Women’s Resource Center is a non-profit organization whose mission is to empower participants to be strong\, self-confident\, and resilient. Each year the YWRC serves approximately 1\,000 girls and young women* ages 10-24 throughout the Greater Des Moines community. The organization offers small group and individual support aimed at building self-esteem\, healthy friendships/relationships\, goal setting\, and age-appropriate reproductive health. Young moms receive additional support focused on healthy pregnancy/childbirth\, parenting\, and life skills. The center includes an on-site food bank\, snacks and/or meals during programs\, transportation to and from groups\, diapers and formula\, on-site childcare during Young Moms groups\, and a computer lab equipped with laptops and internet. All programs are offered free to these young women. \nThe funding from the DMIEC First Sunday collection will be used to complete the transformation of a restroom into a laundry room. Funds have been raised to purchase a washer and dryer\, and another group has helped with the layout and design process. DMIEC donations will fund appliance installation and necessary supplies (detergent\, laundry baskets\, storage shelves\, etc.). The laundry room will be used by staff (kitchen towels\, blankets\, and bibs used onsite\, and donated clothing) and by program participants\, as many don’t have home laundry facilities. \n* The YWRC defines girls and young women as anyone who has been socialized and/or identifies as female. This includes cisgender girls\, cisgender women\, transgender persons and non-binary individuals. \nLearn more at www.ywrc.org \nCHECKS SHOULD BE MAILED TO: \nDMIEC\, P.O. Box 30065\, Des Moines\, IA  50310 \nChecks can be written either to “Young Women’s Resource Center” or “DMIEC” with “First Sunday” in the memo line.  \nWe would prefer that all checks be mailed to DMIEC. If you mail your check directly to the organization\, please inform Ed Arnold of the amount\, if you feel comfortable\, so the Social Justice Committee can get an accurate count of donations.
URL:https://www.dmiec.org/event/first-sunday-collection-young-womens-resource-center/
LOCATION:DMIEC\, 3306 University Avenue\, Des Moines\, IA\, 50311\, United States
CATEGORIES:Social Justice,Stewardship
GEO:41.6000075;-93.6619278
X-APPLE-STRUCTURED-LOCATION;VALUE=URI;X-ADDRESS=DMIEC 3306 University Avenue Des Moines IA 50311 United States;X-APPLE-RADIUS=500;X-TITLE=3306 University Avenue:geo:-93.6619278,41.6000075
END:VEVENT
BEGIN:VEVENT
DTSTART;TZID=America/Chicago:20210801T103000
DTEND;TZID=America/Chicago:20210801T110000
DTSTAMP:20260421T015823
CREATED:20210726T180421Z
LAST-MODIFIED:20210726T180421Z
UID:13360-1627813800-1627815600@www.dmiec.org
SUMMARY:First Sunday Collection -  Young Women's Resource Center
DESCRIPTION:The Young Women’s Resource Center will be the recipient of our First Sunday collection on August 1. \nThe Young Women’s Resource Center is a non-profit organization whose mission is to empower participants to be strong\, self-confident\, and resilient. Each year the YWRC serves approximately 1\,000 girls and young women* ages 10-24 throughout the Greater Des Moines community. The organization offers small group and individual support aimed at building self-esteem\, healthy friendships/relationships\, goal setting\, and age-appropriate reproductive health. Young moms receive additional support focused on healthy pregnancy/childbirth\, parenting\, and life skills. The center includes an on-site food bank\, snacks and/or meals during programs\, transportation to and from groups\, diapers and formula\, on-site childcare during Young Moms groups\, and a computer lab equipped with laptops and internet. All programs are offered free to these young women. Learn more at www.ywrc.org. \nThe funding from the DMIEC First Sunday collection will be used to complete the transformation of a restroom into a laundry room. Funds have been raised to purchase a washer and dryer\, and another group has helped with the layout and design process. DMIEC donations will fund appliance installation and necessary supplies (detergent\, laundry baskets\, storage shelves\, etc.). The laundry room will be used by staff (kitchen towels\, blankets\, and bibs used onsite\, and donated clothing) and by program participants\, as many don’t have home laundry facilities. \n* The YWRC defines girls and young women as anyone who has been socialized and/or identifies as female. This includes cisgender girls\, cisgender women\, transgender persons\, and non-binary individuals. \nCHECKS SHOULD BE MAILED TO: \nDMIEC\, P.O. Box 30065\, Des Moines\, IA  50310 \nChecks can be written either to “Young Women’s Resource Center” or “DMIEC” with “First Sunday” in the memo line.  \nWe would prefer that all checks be mailed to DMIEC. If you mail your check directly to the organization\, please inform Ed Arnold of the amount\, if you feel comfortable\, so the Social Justice Committee can get an accurate count of donations.
URL:https://www.dmiec.org/event/first-sunday-collection-young-womens-resource-center-2/
LOCATION:DMIEC\, 3306 University Avenue\, Des Moines\, IA\, 50311\, United States
CATEGORIES:Community Service Activities,Stewardship
GEO:41.6000075;-93.6619278
X-APPLE-STRUCTURED-LOCATION;VALUE=URI;X-ADDRESS=DMIEC 3306 University Avenue Des Moines IA 50311 United States;X-APPLE-RADIUS=500;X-TITLE=3306 University Avenue:geo:-93.6619278,41.6000075
END:VEVENT
BEGIN:VEVENT
DTSTART;TZID=America/Chicago:20210807T093000
DTEND;TZID=America/Chicago:20210807T113000
DTSTAMP:20260421T015823
CREATED:20210802T161315Z
LAST-MODIFIED:20210802T161502Z
UID:13380-1628328600-1628335800@www.dmiec.org
SUMMARY:Conversations on Death and Dying
DESCRIPTION:Judy Porter\, ACSW\, LISW\, offers this retreat\, which will have a casual\, interactive format.\nTopics will include the history of death\, emotional aspects\, thoughts and attitudes\, what is a good death.\nThe Zoom link will be sent the day before this retreat to those who have registered.\nPlease register here: judyporter@hotmail.com. If there are questions\, please contact Judy\, 515-657-3914.
URL:https://www.dmiec.org/event/conversations-on-death-and-dying/
LOCATION:Zoom Event\, United States
CATEGORIES:Community,Lectures & Presentations
ORGANIZER;CN="Judy Porter":MAILTO:judyporter@hotmail.com
END:VEVENT
BEGIN:VEVENT
DTSTART;TZID=America/Chicago:20210808T100000
DTEND;TZID=America/Chicago:20210808T110000
DTSTAMP:20260421T015823
CREATED:20201204T054032Z
LAST-MODIFIED:20210628T162858Z
UID:12346-1628416800-1628420400@www.dmiec.org
SUMMARY:Weekly Worship Service
DESCRIPTION:Readings: \n\nPentecost Sunday Year B First Reading\n\nPentecost Sunday Year B Second Reading\n\nPentecost Sunday Year B Gospel\n\nSeventeenth Sunday in Ordinary Time Year B First Reading and Responsorial Psalm\n\nSeventeenth Sunday in Ordinary Time Year B Second Reading (Alternative)\n\nSeventeenth Sunday in Ordinary Time Year B Gospel\nVolunteer(s) needed for this event. Click here to sign up.
URL:https://www.dmiec.org/event/weekly-worship-service-77/
LOCATION:DMIEC\, 3306 University Avenue\, Des Moines\, IA\, 50311\, United States
CATEGORIES:Weekly Worship Service
ATTACH;FMTTYPE=image/jpeg:https://www.dmiec.org/wp-content/uploads/2018/10/NewWeeklyReading.jpg
GEO:41.6000075;-93.6619278
X-APPLE-STRUCTURED-LOCATION;VALUE=URI;X-ADDRESS=DMIEC 3306 University Avenue Des Moines IA 50311 United States;X-APPLE-RADIUS=500;X-TITLE=3306 University Avenue:geo:-93.6619278,41.6000075
END:VEVENT
BEGIN:VEVENT
DTSTART;TZID=America/Chicago:20210809T110000
DTEND;TZID=America/Chicago:20210809T140000
DTSTAMP:20260421T015823
CREATED:20210621T125248Z
LAST-MODIFIED:20210621T125248Z
UID:13209-1628506800-1628517600@www.dmiec.org
SUMMARY:Cleaning Crew On Site
DESCRIPTION:
URL:https://www.dmiec.org/event/cleaning-crew-on-site-2/
LOCATION:DMIEC\, 3306 University Avenue\, Des Moines\, IA\, 50311\, United States
CATEGORIES:Building & Grounds
ORGANIZER;CN="Julie Powell-Mohr":MAILTO:julpowell@aol.com
GEO:41.6000075;-93.6619278
X-APPLE-STRUCTURED-LOCATION;VALUE=URI;X-ADDRESS=DMIEC 3306 University Avenue Des Moines IA 50311 United States;X-APPLE-RADIUS=500;X-TITLE=3306 University Avenue:geo:-93.6619278,41.6000075
END:VEVENT
BEGIN:VEVENT
DTSTART;TZID=America/Chicago:20210815T100000
DTEND;TZID=America/Chicago:20210815T110000
DTSTAMP:20260421T015823
CREATED:20201204T054132Z
LAST-MODIFIED:20210809T001423Z
UID:12347-1629021600-1629025200@www.dmiec.org
SUMMARY:Weekly Worship Service (*in-person*)
DESCRIPTION:Readings: \nVolunteer(s) needed for this event. Click here to sign up.
URL:https://www.dmiec.org/event/weekly-worship-service-78/
LOCATION:DMIEC\, 3306 University Avenue\, Des Moines\, IA\, 50311\, United States
CATEGORIES:Weekly Worship Service
ATTACH;FMTTYPE=image/jpeg:https://www.dmiec.org/wp-content/uploads/2018/10/NewWeeklyReading.jpg
GEO:41.6000075;-93.6619278
X-APPLE-STRUCTURED-LOCATION;VALUE=URI;X-ADDRESS=DMIEC 3306 University Avenue Des Moines IA 50311 United States;X-APPLE-RADIUS=500;X-TITLE=3306 University Avenue:geo:-93.6619278,41.6000075
END:VEVENT
BEGIN:VEVENT
DTSTART;TZID=America/Chicago:20210815T103000
DTEND;TZID=America/Chicago:20210815T110000
DTSTAMP:20260421T015823
CREATED:20210808T233015Z
LAST-MODIFIED:20210808T233223Z
UID:13410-1629023400-1629025200@www.dmiec.org
SUMMARY:DMARC Emergency Food Pantries Sunday Special Collection
DESCRIPTION:Every third Sunday is DMARC Emergency Food Pantries Sunday.  \nBefore the pandemic began\, DMARC pantries were already operating at a 10% increase over 2019 levels.  As the economic crisis surrounding the pandemic has worsened\, pantry use has grown exponentially. \nAs this third Sunday is also an in-person prayer service at DMIEC\, you may either mail your donations directly to DMARC or put it in one of the specially marked envelopes available that morning at DMIEC. \nTo send donation checks directly to DMARC.  Please write checks to “DMARC” and mail to DMARC\, 1435 Mulberry Street\, Des Moines\, IA 50309. Please include a note with your check indicating that you are part of the DMIEC community. \nFor more information\, please visit the DMARC Food Pantries website  https://www.dmarcunited.org/food/ \nRead the most recent quarterly newsletter here.
URL:https://www.dmiec.org/event/dmarc-emergency-food-pantries-sunday-special-collection-17/
LOCATION:DMIEC\, 3306 University Avenue\, Des Moines\, IA\, 50311\, United States
CATEGORIES:Community Service Activities,Stewardship
GEO:41.6000075;-93.6619278
X-APPLE-STRUCTURED-LOCATION;VALUE=URI;X-ADDRESS=DMIEC 3306 University Avenue Des Moines IA 50311 United States;X-APPLE-RADIUS=500;X-TITLE=3306 University Avenue:geo:-93.6619278,41.6000075
END:VEVENT
BEGIN:VEVENT
DTSTART;TZID=America/Chicago:20210822T100000
DTEND;TZID=America/Chicago:20210822T110000
DTSTAMP:20260421T015823
CREATED:20201204T054247Z
LAST-MODIFIED:20210628T043430Z
UID:12350-1629626400-1629630000@www.dmiec.org
SUMMARY:Weekly Worship Service
DESCRIPTION:Readings: \n\nPentecost Sunday Year B First Reading\n\nPentecost Sunday Year B Second Reading\n\nPentecost Sunday Year B Gospel\n\nSeventeenth Sunday in Ordinary Time Year B First Reading and Responsorial Psalm\n\nSeventeenth Sunday in Ordinary Time Year B Second Reading (Alternative)\n\nSeventeenth Sunday in Ordinary Time Year B Gospel\nVolunteer(s) needed for this event. Click here to sign up.
URL:https://www.dmiec.org/event/weekly-worship-service-79/
LOCATION:DMIEC\, 3306 University Avenue\, Des Moines\, IA\, 50311\, United States
CATEGORIES:Weekly Worship Service
ATTACH;FMTTYPE=image/jpeg:https://www.dmiec.org/wp-content/uploads/2018/10/NewWeeklyReading.jpg
GEO:41.6000075;-93.6619278
X-APPLE-STRUCTURED-LOCATION;VALUE=URI;X-ADDRESS=DMIEC 3306 University Avenue Des Moines IA 50311 United States;X-APPLE-RADIUS=500;X-TITLE=3306 University Avenue:geo:-93.6619278,41.6000075
END:VEVENT
BEGIN:VEVENT
DTSTART;TZID=America/Chicago:20210825T150000
DTEND;TZID=America/Chicago:20210825T163000
DTSTAMP:20260421T015823
CREATED:20210819T232605Z
LAST-MODIFIED:20210819T232605Z
UID:13439-1629903600-1629909000@www.dmiec.org
SUMMARY:Liturgy Team Planning Meeting
DESCRIPTION:The Liturgy Team is not a formally structured committee. Anyone interested is encouraged to participate. No experience required! If you would like to offer ideas or suggestions but are unable to attend\, you are urged to talk to someone on the Liturgy Team (which includes Julie Powell-Mohr\, Mona Gude\, Paula Hermann\, Lisa Mullen\, Lynn Laws\, and Martha Fifield).\nFor more information\, contact Julie at julpowell@aol.com
URL:https://www.dmiec.org/event/liturgy-team-planning-meeting-7/
LOCATION:DMIEC\, 3306 University Avenue\, Des Moines\, IA\, 50311\, United States
CATEGORIES:Committees,Community
ORGANIZER;CN="Julie Powell-Mohr":MAILTO:julpowell@aol.com
GEO:41.6000075;-93.6619278
X-APPLE-STRUCTURED-LOCATION;VALUE=URI;X-ADDRESS=DMIEC 3306 University Avenue Des Moines IA 50311 United States;X-APPLE-RADIUS=500;X-TITLE=3306 University Avenue:geo:-93.6619278,41.6000075
END:VEVENT
BEGIN:VEVENT
DTSTART;TZID=America/Chicago:20210829T100000
DTEND;TZID=America/Chicago:20210829T110000
DTSTAMP:20260421T015823
CREATED:20201204T054336Z
LAST-MODIFIED:20210628T043507Z
UID:12352-1630231200-1630234800@www.dmiec.org
SUMMARY:Weekly Worship Service
DESCRIPTION:Readings: \n\nPentecost Sunday Year B First Reading\n\nPentecost Sunday Year B Second Reading\n\nPentecost Sunday Year B Gospel\n\nSeventeenth Sunday in Ordinary Time Year B First Reading and Responsorial Psalm\n\nSeventeenth Sunday in Ordinary Time Year B Second Reading (Alternative)\n\nSeventeenth Sunday in Ordinary Time Year B Gospel\nVolunteer(s) needed for this event. Click here to sign up.
URL:https://www.dmiec.org/event/weekly-worship-service-80/
LOCATION:DMIEC\, 3306 University Avenue\, Des Moines\, IA\, 50311\, United States
CATEGORIES:Weekly Worship Service
ATTACH;FMTTYPE=image/jpeg:https://www.dmiec.org/wp-content/uploads/2018/10/NewWeeklyReading.jpg
GEO:41.6000075;-93.6619278
X-APPLE-STRUCTURED-LOCATION;VALUE=URI;X-ADDRESS=DMIEC 3306 University Avenue Des Moines IA 50311 United States;X-APPLE-RADIUS=500;X-TITLE=3306 University Avenue:geo:-93.6619278,41.6000075
END:VEVENT
END:VCALENDAR