BEGIN:VCALENDAR
VERSION:2.0
PRODID:-//Des Moines Intentional Eucharistic Community - ECPv6.15.13.1//NONSGML v1.0//EN
CALSCALE:GREGORIAN
METHOD:PUBLISH
X-ORIGINAL-URL:https://www.dmiec.org
X-WR-CALDESC:Events for Des Moines Intentional Eucharistic Community
REFRESH-INTERVAL;VALUE=DURATION:PT1H
X-Robots-Tag:noindex
X-PUBLISHED-TTL:PT1H
BEGIN:VTIMEZONE
TZID:America/Chicago
BEGIN:DAYLIGHT
TZOFFSETFROM:-0600
TZOFFSETTO:-0500
TZNAME:CDT
DTSTART:20200308T080000
END:DAYLIGHT
BEGIN:STANDARD
TZOFFSETFROM:-0500
TZOFFSETTO:-0600
TZNAME:CST
DTSTART:20201101T070000
END:STANDARD
BEGIN:DAYLIGHT
TZOFFSETFROM:-0600
TZOFFSETTO:-0500
TZNAME:CDT
DTSTART:20210314T080000
END:DAYLIGHT
BEGIN:STANDARD
TZOFFSETFROM:-0500
TZOFFSETTO:-0600
TZNAME:CST
DTSTART:20211107T070000
END:STANDARD
BEGIN:DAYLIGHT
TZOFFSETFROM:-0600
TZOFFSETTO:-0500
TZNAME:CDT
DTSTART:20220313T080000
END:DAYLIGHT
BEGIN:STANDARD
TZOFFSETFROM:-0500
TZOFFSETTO:-0600
TZNAME:CST
DTSTART:20221106T070000
END:STANDARD
END:VTIMEZONE
BEGIN:VEVENT
DTSTART;TZID=America/Chicago:20210606T100000
DTEND;TZID=America/Chicago:20210606T110000
DTSTAMP:20260421T050210
CREATED:20201204T051253Z
LAST-MODIFIED:20201204T051403Z
UID:12327-1622973600-1622977200@www.dmiec.org
SUMMARY:Weekly Worship Service
DESCRIPTION:Readings: \n\nPentecost Sunday Year B First Reading\n\nPentecost Sunday Year B Second Reading\n\nPentecost Sunday Year B Gospel\n\nSeventeenth Sunday in Ordinary Time Year B First Reading and Responsorial Psalm\n\nSeventeenth Sunday in Ordinary Time Year B Second Reading (Alternative)\n\nSeventeenth Sunday in Ordinary Time Year B Gospel\nVolunteer(s) needed for this event. Click here to sign up.
URL:https://www.dmiec.org/event/weekly-worship-service-68/
LOCATION:DMIEC\, 3306 University Avenue\, Des Moines\, IA\, 50311\, United States
CATEGORIES:Weekly Worship Service
ATTACH;FMTTYPE=image/jpeg:https://www.dmiec.org/wp-content/uploads/2018/10/NewWeeklyReading.jpg
GEO:41.6000075;-93.6619278
X-APPLE-STRUCTURED-LOCATION;VALUE=URI;X-ADDRESS=DMIEC 3306 University Avenue Des Moines IA 50311 United States;X-APPLE-RADIUS=500;X-TITLE=3306 University Avenue:geo:-93.6619278,41.6000075
END:VEVENT
BEGIN:VEVENT
DTSTART;TZID=America/Chicago:20210606T103000
DTEND;TZID=America/Chicago:20210606T110000
DTSTAMP:20260421T050210
CREATED:20210527T161506Z
LAST-MODIFIED:20210527T161506Z
UID:13137-1622975400-1622977200@www.dmiec.org
SUMMARY:First Sunday Collection: Latinx Knock and Drop Iowa
DESCRIPTION:Latinx Knock and Drop Iowa will be the recipient of our First Sunday collection on June 6.   \nNearly half of the Hispanic population in the US is food insecure\, partially due to the pandemic and subsequent unemployment. Latinx Knock and Drop Iowa\, a new 501c3 non-profit\, addresses this acute and ongoing need in our local community. Beginning in March 2020 with deliveries of 50 twice weekly food boxes\, this creative small volunteer organization now reaches over 2\,000 households (including over 1\,100 children) through a neighborhood food pantry. Latinx Knock and Drop Iowa is the only Des Moines metro food pantry in which Spanish is the primary language. Earning trust in the community has helped them reach more people during this unsettling time.  \nThey do not work in a vacuum\, however\, partnering early on with Eat Greater Des Moines\, Capital City Fruit\, and La Tapatia\, and now also with Food Bank of Iowa\, HyVee\, and others. They have expanded to include personal hygiene items and recently offered COVID19 immunizations serving over 600 people. Though food stability is the main purpose and focus\, they have hopes of providing a computer room\, English and citizenship classes\, resume’ workshop and more for the local Hispanic community.  \nJoin us Sunday\, June 6\, to hear from our First Sunday recipient’s director/advocate about this vital and vibrant agency serving the needs of people of color in our community. For more information\, go to the organization’s website. \nChecks can be written either to:\n– “Latinx Knock and Drop Iowa” (If you mail your check directly to the organization\, please note “DMIEC First Sunday” in the memo line and inform Ed Arnold of the amount\, if you feel comfortable\, so the Social Justice Committee can get an accurate count of donations.) or\n– “DMIEC” with “First Sunday” in the memo line. We would prefer that all checks be mailed to DMIEC at P.O. Box 30065\, Des Moines\, IA 50310.
URL:https://www.dmiec.org/event/first-sunday-collection-latinx-knock-and-drop-iowa/
LOCATION:DMIEC\, 3306 University Avenue\, Des Moines\, IA\, 50311\, United States
CATEGORIES:Stewardship
GEO:41.6000075;-93.6619278
X-APPLE-STRUCTURED-LOCATION;VALUE=URI;X-ADDRESS=DMIEC 3306 University Avenue Des Moines IA 50311 United States;X-APPLE-RADIUS=500;X-TITLE=3306 University Avenue:geo:-93.6619278,41.6000075
END:VEVENT
BEGIN:VEVENT
DTSTART;TZID=America/Chicago:20210607T093000
DTEND;TZID=America/Chicago:20210607T110000
DTSTAMP:20260421T050210
CREATED:20210531T165443Z
LAST-MODIFIED:20210531T170631Z
UID:13152-1623058200-1623063600@www.dmiec.org
SUMMARY:White Antiracist Ancestry Project Weekly Gathering
DESCRIPTION:Mondays in June\, 9:30 a.m.\, on the “back porch” at DMIEC (Bring a lawn chair)\nNo need to attend every session. You can step in for one or attend all. The group that meets\nmay decide to read and reflect on more than the person listed\, but we will start here:\nJune 7    Vernon Brown\nJune 14   Heather Booth\nJune 21   Guy and Candie Carawan\nJune 28   Bob Fitch\nFind short bios at:\n https://crossculturalsolidarity.com/short-portraits-of-white-antiracists-in-u-s-history/ \nWe hope reading the stories of the courage of our white antiracist ancestors can strengthen us\nto be in solidarity with people of color today. After reading bios\, we’ll use the following format:\n1.     Self-reflection\n2.     Strategies and lessons\n3.     Mistakes from which we can learn
URL:https://www.dmiec.org/event/white-antiracist-ancestry-project-weekly-gathering/2021-06-07/
LOCATION:DMIEC\, 3306 University Avenue\, Des Moines\, IA\, 50311\, United States
ORGANIZER;CN="Mona Gude":MAILTO:monasweeneygude@gmail.com
GEO:41.6000075;-93.6619278
X-APPLE-STRUCTURED-LOCATION;VALUE=URI;X-ADDRESS=DMIEC 3306 University Avenue Des Moines IA 50311 United States;X-APPLE-RADIUS=500;X-TITLE=3306 University Avenue:geo:-93.6619278,41.6000075
END:VEVENT
BEGIN:VEVENT
DTSTART;TZID=America/Chicago:20210613T100000
DTEND;TZID=America/Chicago:20210613T110000
DTSTAMP:20260421T050210
CREATED:20201204T051456Z
LAST-MODIFIED:20210528T212857Z
UID:12329-1623578400-1623582000@www.dmiec.org
SUMMARY:Weekly Worship Service (*in-person*)
DESCRIPTION:Readings: \n\nPentecost Sunday Year B First Reading\n\nPentecost Sunday Year B Second Reading\n\nPentecost Sunday Year B Gospel\n\nSeventeenth Sunday in Ordinary Time Year B First Reading and Responsorial Psalm\n\nSeventeenth Sunday in Ordinary Time Year B Second Reading (Alternative)\n\nSeventeenth Sunday in Ordinary Time Year B Gospel\nVolunteer(s) needed for this event. Click here to sign up.
URL:https://www.dmiec.org/event/weekly-worship-service-69/
LOCATION:DMIEC\, 3306 University Avenue\, Des Moines\, IA\, 50311\, United States
CATEGORIES:Weekly Worship Service
ATTACH;FMTTYPE=image/jpeg:https://www.dmiec.org/wp-content/uploads/2018/10/NewWeeklyReading.jpg
GEO:41.6000075;-93.6619278
X-APPLE-STRUCTURED-LOCATION;VALUE=URI;X-ADDRESS=DMIEC 3306 University Avenue Des Moines IA 50311 United States;X-APPLE-RADIUS=500;X-TITLE=3306 University Avenue:geo:-93.6619278,41.6000075
END:VEVENT
BEGIN:VEVENT
DTSTART;TZID=America/Chicago:20210620T100000
DTEND;TZID=America/Chicago:20210620T110000
DTSTAMP:20260421T050210
CREATED:20201204T051554Z
LAST-MODIFIED:20201204T051658Z
UID:12331-1624183200-1624186800@www.dmiec.org
SUMMARY:Weekly Worship Service
DESCRIPTION:Readings: \n\nPentecost Sunday Year B First Reading\n\nPentecost Sunday Year B Second Reading\n\nPentecost Sunday Year B Gospel\n\nSeventeenth Sunday in Ordinary Time Year B First Reading and Responsorial Psalm\n\nSeventeenth Sunday in Ordinary Time Year B Second Reading (Alternative)\n\nSeventeenth Sunday in Ordinary Time Year B Gospel\nVolunteer(s) needed for this event. Click here to sign up.
URL:https://www.dmiec.org/event/weekly-worship-service-70/
LOCATION:DMIEC\, 3306 University Avenue\, Des Moines\, IA\, 50311\, United States
CATEGORIES:Weekly Worship Service
ATTACH;FMTTYPE=image/jpeg:https://www.dmiec.org/wp-content/uploads/2018/10/NewWeeklyReading.jpg
GEO:41.6000075;-93.6619278
X-APPLE-STRUCTURED-LOCATION;VALUE=URI;X-ADDRESS=DMIEC 3306 University Avenue Des Moines IA 50311 United States;X-APPLE-RADIUS=500;X-TITLE=3306 University Avenue:geo:-93.6619278,41.6000075
END:VEVENT
BEGIN:VEVENT
DTSTART;TZID=America/Chicago:20210620T103000
DTEND;TZID=America/Chicago:20210620T110000
DTSTAMP:20260421T050210
CREATED:20210607T150014Z
LAST-MODIFIED:20210607T150014Z
UID:13174-1624185000-1624186800@www.dmiec.org
SUMMARY:DMARC Emergency Food Pantries Sunday Special Collection
DESCRIPTION:Every third Sunday is DMARC Emergency Food Pantries Sunday.  \nBefore the pandemic began\, DMARC pantries were already operating at a 10% increase over 2019 levels.  As the economic crisis surrounding the pandemic has worsened\, pantry use has grown exponentially. \nPlease send donation checks directly to DMARC.  Please write checks to “DMARC” and mail to DMARC\, 1435 Mulberry Street\, Des Moines\, IA 50309. Please include a note with your check indicating that you are part of the DMIEC community. \nFor more information\, please visit the DMARC Food Pantries website  https://www.dmarcunited.org/food/ \nRead the most recent quarterly newsletter here.
URL:https://www.dmiec.org/event/dmarc-emergency-food-pantries-sunday-special-collection-15/
LOCATION:DMIEC\, 3306 University Avenue\, Des Moines\, IA\, 50311\, United States
CATEGORIES:Stewardship
GEO:41.6000075;-93.6619278
X-APPLE-STRUCTURED-LOCATION;VALUE=URI;X-ADDRESS=DMIEC 3306 University Avenue Des Moines IA 50311 United States;X-APPLE-RADIUS=500;X-TITLE=3306 University Avenue:geo:-93.6619278,41.6000075
END:VEVENT
BEGIN:VEVENT
DTSTART;TZID=America/Chicago:20210627T100000
DTEND;TZID=America/Chicago:20210627T110000
DTSTAMP:20260421T050210
CREATED:20201204T051718Z
LAST-MODIFIED:20201204T051809Z
UID:12334-1624788000-1624791600@www.dmiec.org
SUMMARY:Weekly Worship Service
DESCRIPTION:Readings: \n\nPentecost Sunday Year B First Reading\n\nPentecost Sunday Year B Second Reading\n\nPentecost Sunday Year B Gospel\n\nSeventeenth Sunday in Ordinary Time Year B First Reading and Responsorial Psalm\n\nSeventeenth Sunday in Ordinary Time Year B Second Reading (Alternative)\n\nSeventeenth Sunday in Ordinary Time Year B Gospel\nVolunteer(s) needed for this event. Click here to sign up.
URL:https://www.dmiec.org/event/weekly-worship-service-71/
LOCATION:DMIEC\, 3306 University Avenue\, Des Moines\, IA\, 50311\, United States
CATEGORIES:Weekly Worship Service
ATTACH;FMTTYPE=image/jpeg:https://www.dmiec.org/wp-content/uploads/2018/10/NewWeeklyReading.jpg
GEO:41.6000075;-93.6619278
X-APPLE-STRUCTURED-LOCATION;VALUE=URI;X-ADDRESS=DMIEC 3306 University Avenue Des Moines IA 50311 United States;X-APPLE-RADIUS=500;X-TITLE=3306 University Avenue:geo:-93.6619278,41.6000075
END:VEVENT
END:VCALENDAR