BEGIN:VCALENDAR
VERSION:2.0
PRODID:-//Des Moines Intentional Eucharistic Community - ECPv6.15.13.1//NONSGML v1.0//EN
CALSCALE:GREGORIAN
METHOD:PUBLISH
X-ORIGINAL-URL:https://www.dmiec.org
X-WR-CALDESC:Events for Des Moines Intentional Eucharistic Community
REFRESH-INTERVAL;VALUE=DURATION:PT1H
X-Robots-Tag:noindex
X-PUBLISHED-TTL:PT1H
BEGIN:VTIMEZONE
TZID:America/Chicago
BEGIN:DAYLIGHT
TZOFFSETFROM:-0600
TZOFFSETTO:-0500
TZNAME:CDT
DTSTART:20200308T080000
END:DAYLIGHT
BEGIN:STANDARD
TZOFFSETFROM:-0500
TZOFFSETTO:-0600
TZNAME:CST
DTSTART:20201101T070000
END:STANDARD
BEGIN:DAYLIGHT
TZOFFSETFROM:-0600
TZOFFSETTO:-0500
TZNAME:CDT
DTSTART:20210314T080000
END:DAYLIGHT
BEGIN:STANDARD
TZOFFSETFROM:-0500
TZOFFSETTO:-0600
TZNAME:CST
DTSTART:20211107T070000
END:STANDARD
BEGIN:DAYLIGHT
TZOFFSETFROM:-0600
TZOFFSETTO:-0500
TZNAME:CDT
DTSTART:20220313T080000
END:DAYLIGHT
BEGIN:STANDARD
TZOFFSETFROM:-0500
TZOFFSETTO:-0600
TZNAME:CST
DTSTART:20221106T070000
END:STANDARD
END:VTIMEZONE
BEGIN:VEVENT
DTSTART;TZID=America/Chicago:20210401T190000
DTEND;TZID=America/Chicago:20210401T200000
DTSTAMP:20260421T075003
CREATED:20201203T100738Z
LAST-MODIFIED:20210212T161530Z
UID:12292-1617303600-1617307200@www.dmiec.org
SUMMARY:Holy Thursday At Home\, Individual Observance
DESCRIPTION:Readings: \n\nPentecost Sunday Year B First Reading\n\nPentecost Sunday Year B Second Reading\n\nPentecost Sunday Year B Gospel\n\nSeventeenth Sunday in Ordinary Time Year B First Reading and Responsorial Psalm\n\nSeventeenth Sunday in Ordinary Time Year B Second Reading (Alternative)\n\nSeventeenth Sunday in Ordinary Time Year B Gospel\nVolunteer(s) are not needed for our 2021 Holy Thursday\, which will encourage at home individual reflection\, rather than a communal service. 
URL:https://www.dmiec.org/event/weekly-worship-service-57/
LOCATION:IA\, United States
CATEGORIES:Weekly Worship Service
ATTACH;FMTTYPE=image/jpeg:https://www.dmiec.org/wp-content/uploads/2018/10/NewWeeklyReading.jpg
END:VEVENT
BEGIN:VEVENT
DTSTART;TZID=America/Chicago:20210402T190000
DTEND;TZID=America/Chicago:20210402T200000
DTSTAMP:20260421T075003
CREATED:20201203T100912Z
LAST-MODIFIED:20210212T155836Z
UID:12300-1617390000-1617393600@www.dmiec.org
SUMMARY:Good Friday At Home\, Individual Observance
DESCRIPTION:Readings: \n\nPentecost Sunday Year B First Reading\n\nPentecost Sunday Year B Second Reading\n\nPentecost Sunday Year B Gospel\n\nSeventeenth Sunday in Ordinary Time Year B First Reading and Responsorial Psalm\n\nSeventeenth Sunday in Ordinary Time Year B Second Reading (Alternative)\n\nSeventeenth Sunday in Ordinary Time Year B Gospel\nVolunteer(s) are not needed for our 2021 Good Friday\, which will encourage at home\, individual reflection\, rather than a communal service.
URL:https://www.dmiec.org/event/weekly-worship-service-58/
LOCATION:IA\, United States
CATEGORIES:Weekly Worship Service
ATTACH;FMTTYPE=image/jpeg:https://www.dmiec.org/wp-content/uploads/2018/10/NewWeeklyReading.jpg
END:VEVENT
BEGIN:VEVENT
DTSTART;VALUE=DATE:20210403
DTEND;VALUE=DATE:20210404
DTSTAMP:20260421T075003
CREATED:20210212T160051Z
LAST-MODIFIED:20210212T160401Z
UID:12730-1617408000-1617494399@www.dmiec.org
SUMMARY:Note: **No 2021 Easter Vigil**
DESCRIPTION:Holy Week 2021 will not include an Easter Vigil service\, but will feature at home\, individual reflections to observe Holy Thursday and Good Friday\, along with zoom services for Palm Sunday and Easter Sunday.
URL:https://www.dmiec.org/event/note-no-2021-easter-vigil/
LOCATION:IA
END:VEVENT
BEGIN:VEVENT
DTSTART;TZID=America/Chicago:20210404T100000
DTEND;TZID=America/Chicago:20210404T110000
DTSTAMP:20260421T075003
CREATED:20210214T191048Z
LAST-MODIFIED:20210312T170514Z
UID:12743-1617530400-1617534000@www.dmiec.org
SUMMARY:Easter Sunday Prayer Service
DESCRIPTION:Readings \nEaster *Alternate* First Reading \nEaster Gospel \nVolunteer(s) Needed for This Event.   Click here to sign up.
URL:https://www.dmiec.org/event/easter-sunday-prayer-service/
LOCATION:Zoom Event\, United States
END:VEVENT
BEGIN:VEVENT
DTSTART;TZID=America/Chicago:20210411T100000
DTEND;TZID=America/Chicago:20210411T110000
DTSTAMP:20260421T075003
CREATED:20201204T045637Z
LAST-MODIFIED:20210305T232036Z
UID:12312-1618135200-1618138800@www.dmiec.org
SUMMARY:Weekly Worship Service
DESCRIPTION:Readings: \n\nPentecost Sunday Year B First Reading\n\nPentecost Sunday Year B Second Reading\n\nPentecost Sunday Year B Gospel\n\nSeventeenth Sunday in Ordinary Time Year B First Reading and Responsorial Psalm\n\nSeventeenth Sunday in Ordinary Time Year B Second Reading (Alternative)\n\nSeventeenth Sunday in Ordinary Time Year B Gospel\nVolunteer(s) needed for this event. Click here to sign up.
URL:https://www.dmiec.org/event/weekly-worship-service-60/
LOCATION:DMIEC\, 3306 University Avenue\, Des Moines\, IA\, 50311\, United States
CATEGORIES:Weekly Worship Service
ATTACH;FMTTYPE=image/jpeg:https://www.dmiec.org/wp-content/uploads/2018/10/NewWeeklyReading.jpg
GEO:41.6000075;-93.6619278
X-APPLE-STRUCTURED-LOCATION;VALUE=URI;X-ADDRESS=DMIEC 3306 University Avenue Des Moines IA 50311 United States;X-APPLE-RADIUS=500;X-TITLE=3306 University Avenue:geo:-93.6619278,41.6000075
END:VEVENT
BEGIN:VEVENT
DTSTART;TZID=America/Chicago:20210411T103000
DTEND;TZID=America/Chicago:20210411T110000
DTSTAMP:20260421T075003
CREATED:20210406T152847Z
LAST-MODIFIED:20210406T152847Z
UID:12947-1618137000-1618138800@www.dmiec.org
SUMMARY:First Sunday Collection -  Iowa Natural Heritage Foundation
DESCRIPTION:Iowa Natural Heritage Foundation (INHF) will be the recipient of our First Sunday collection on April 11 (delayed a week due to Easter).  To visit the INHF website\, please click here.   \nChecks can be written either to “Iowa Natural Heritage Foundation” (If you mail your check directly to the organization\, please note “DMIEC First Sunday” in the memo line and inform Ed Arnold of the amount\, if you feel comfortable\, so the Social Justice Committee can get an accurate count of donations.) or to “DMIEC” with “First Sunday” in the memo line. We would prefer that all checks be mailed to DMIEC at P.O. Box 30065\, Des Moines\, IA 50310.
URL:https://www.dmiec.org/event/first-sunday-collection-iowa-natural-heritage-foundation/
LOCATION:DMIEC\, 3306 University Avenue\, Des Moines\, IA\, 50311\, United States
CATEGORIES:Stewardship
GEO:41.6000075;-93.6619278
X-APPLE-STRUCTURED-LOCATION;VALUE=URI;X-ADDRESS=DMIEC 3306 University Avenue Des Moines IA 50311 United States;X-APPLE-RADIUS=500;X-TITLE=3306 University Avenue:geo:-93.6619278,41.6000075
END:VEVENT
BEGIN:VEVENT
DTSTART;TZID=America/Chicago:20210411T110000
DTEND;TZID=America/Chicago:20210411T113000
DTSTAMP:20260421T075003
CREATED:20210210T153532Z
LAST-MODIFIED:20210210T153622Z
UID:12691-1618138800-1618140600@www.dmiec.org
SUMMARY:State Legislative Bi-Weekly Update and Discussion (immediately following the conclusion of our Sunday prayer service)
DESCRIPTION:Led by veteran Iowa Statehouse observer\, Bob Mulqueen\, participants learn about and discuss recent legislative proposals and developments affecting social justice issues in Iowa.
URL:https://www.dmiec.org/event/state-legislative-bi-weekly-update-and-discussion-immediately-following-the-conclusion-of-our-sunday-prayer-service-5/
LOCATION:Zoom Event\, United States
ORGANIZER;CN="Bob Mulqueen":MAILTO:robert.mulqueen@gmail.com
END:VEVENT
BEGIN:VEVENT
DTSTART;TZID=America/Chicago:20210412T180000
DTEND;TZID=America/Chicago:20210412T193000
DTSTAMP:20260421T075003
CREATED:20210402T203603Z
LAST-MODIFIED:20210402T203603Z
UID:12932-1618250400-1618255800@www.dmiec.org
SUMMARY:Community Council Meeting
DESCRIPTION:DMIEC Community Council meetings are open to all members. While we are in the COVID-19 environment\, meetings will be held via Zoom. For more information\, please contact Council Secretary Jim Fifield at dmiec11@gmail.com
URL:https://www.dmiec.org/event/community-council-meeting-21/
LOCATION:Zoom Meeting
CATEGORIES:Committees,Governance
ORGANIZER;CN="Betty Baird":MAILTO:eambaird@aol.com
END:VEVENT
BEGIN:VEVENT
DTSTART;TZID=America/Chicago:20210417T083000
DTEND;TZID=America/Chicago:20210417T120000
DTSTAMP:20260421T075003
CREATED:20210326T211146Z
LAST-MODIFIED:20210401T013211Z
UID:12891-1618648200-1618660800@www.dmiec.org
SUMMARY:Spring Cleanup Day
DESCRIPTION:Mark your calendar for the spring clean up of the IEC grounds – Saturday\, April 17\nfrom 8:30 to noon. (Rain date will be April 24.) We will be raking\, cleaning out garden\nareas\, and mulching. We will practice social distancing – plenty of space to do that! Please wear your masks.\nGarden tools to bring: Wheelbarrows (we always need more)\, rakes\, shovels\, hand\npruners\, and Des Moines yard waste bags. \nTo volunteer\, please sign up via the Fall Cleanup Day sign-up sheet here.
URL:https://www.dmiec.org/event/spring-cleanup-day/
LOCATION:DMIEC\, 3306 University Avenue\, Des Moines\, IA\, 50311\, United States
CATEGORIES:Building & Grounds,Stewardship
ORGANIZER;CN="Martha Gelhaus":MAILTO:mgelhaus@hotmail.com
GEO:41.6000075;-93.6619278
X-APPLE-STRUCTURED-LOCATION;VALUE=URI;X-ADDRESS=DMIEC 3306 University Avenue Des Moines IA 50311 United States;X-APPLE-RADIUS=500;X-TITLE=3306 University Avenue:geo:-93.6619278,41.6000075
END:VEVENT
BEGIN:VEVENT
DTSTART;TZID=America/Chicago:20210418T100000
DTEND;TZID=America/Chicago:20210418T110000
DTSTAMP:20260421T075004
CREATED:20201204T045859Z
LAST-MODIFIED:20210305T232225Z
UID:12314-1618740000-1618743600@www.dmiec.org
SUMMARY:Weekly Worship Service
DESCRIPTION:Readings: \n\nPentecost Sunday Year B First Reading\n\nPentecost Sunday Year B Second Reading\n\nPentecost Sunday Year B Gospel\n\nSeventeenth Sunday in Ordinary Time Year B First Reading and Responsorial Psalm\n\nSeventeenth Sunday in Ordinary Time Year B Second Reading (Alternative)\n\nSeventeenth Sunday in Ordinary Time Year B Gospel\nVolunteer(s) needed for this event. Click here to sign up.
URL:https://www.dmiec.org/event/weekly-worship-service-61/
LOCATION:DMIEC\, 3306 University Avenue\, Des Moines\, IA\, 50311\, United States
CATEGORIES:Weekly Worship Service
ATTACH;FMTTYPE=image/jpeg:https://www.dmiec.org/wp-content/uploads/2018/10/NewWeeklyReading.jpg
GEO:41.6000075;-93.6619278
X-APPLE-STRUCTURED-LOCATION;VALUE=URI;X-ADDRESS=DMIEC 3306 University Avenue Des Moines IA 50311 United States;X-APPLE-RADIUS=500;X-TITLE=3306 University Avenue:geo:-93.6619278,41.6000075
END:VEVENT
BEGIN:VEVENT
DTSTART;TZID=America/Chicago:20210418T103000
DTEND;TZID=America/Chicago:20210418T110000
DTSTAMP:20260421T075004
CREATED:20210406T162627Z
LAST-MODIFIED:20210406T162627Z
UID:12998-1618741800-1618743600@www.dmiec.org
SUMMARY:
DESCRIPTION:Every third Sunday is DMARC Emergency Food Pantries Sunday.  \nBefore the pandemic began\, DMARC pantries were already operating at a 10% increase over 2019 levels.  As the economic crisis surrounding the pandemic has worsened\, pantry use has grown exponentially. \nPlease send donation checks directly to DMARC.  Please write checks to “DMARC” and mail to DMARC\, 1435 Mulberry Street\, Des Moines\, IA 50309. Please include a note with your check indicating that you are part of the DMIEC community. \nFor more information\, please visit the DMARC Food Pantries website  https://www.dmarcunited.org/food/ \nRead the most recent quarterly newsletter here.
URL:https://www.dmiec.org/event/12998/
LOCATION:DMIEC\, 3306 University Avenue\, Des Moines\, IA\, 50311\, United States
CATEGORIES:Stewardship
GEO:41.6000075;-93.6619278
X-APPLE-STRUCTURED-LOCATION;VALUE=URI;X-ADDRESS=DMIEC 3306 University Avenue Des Moines IA 50311 United States;X-APPLE-RADIUS=500;X-TITLE=3306 University Avenue:geo:-93.6619278,41.6000075
END:VEVENT
BEGIN:VEVENT
DTSTART;TZID=America/Chicago:20210418T103000
DTEND;TZID=America/Chicago:20210418T110000
DTSTAMP:20260421T075004
CREATED:20210411T190148Z
LAST-MODIFIED:20210411T190148Z
UID:13007-1618741800-1618743600@www.dmiec.org
SUMMARY:DMARC Emergency Food Pantries Sunday Special Collection
DESCRIPTION:Every third Sunday is DMARC Emergency Food Pantries Sunday.  \nBefore the pandemic began\, DMARC pantries were already operating at a 10% increase over 2019 levels.  As the economic crisis surrounding the pandemic has worsened\, pantry use has grown exponentially. \nPlease send donation checks directly to DMARC.  Please write checks to “DMARC” and mail to DMARC\, 1435 Mulberry Street\, Des Moines\, IA 50309. Please include a note with your check indicating that you are part of the DMIEC community. \nFor more information\, please visit the DMARC Food Pantries website  https://www.dmarcunited.org/food/ \nRead the most recent quarterly newsletter here.
URL:https://www.dmiec.org/event/dmarc-emergency-food-pantries-sunday-special-collection-13/
LOCATION:DMIEC\, 3306 University Avenue\, Des Moines\, IA\, 50311\, United States
CATEGORIES:Stewardship
GEO:41.6000075;-93.6619278
X-APPLE-STRUCTURED-LOCATION;VALUE=URI;X-ADDRESS=DMIEC 3306 University Avenue Des Moines IA 50311 United States;X-APPLE-RADIUS=500;X-TITLE=3306 University Avenue:geo:-93.6619278,41.6000075
END:VEVENT
BEGIN:VEVENT
DTSTART;TZID=America/Chicago:20210418T110000
DTEND;TZID=America/Chicago:20210418T120000
DTSTAMP:20260421T075004
CREATED:20210210T150712Z
LAST-MODIFIED:20210210T150832Z
UID:12673-1618743600-1618747200@www.dmiec.org
SUMMARY:Community Conversation
DESCRIPTION:Our periodic Community Conversations afford the opportunity for updates from the Community Council and committees on recent activities and issues\, as well as a way for the community to provide input on matters of interest. All members are invited to stay after our worship service and be part of these important conversations.  For more information\, please contact Council Chair Betty Baird bbaird1000@gmail.com  (515-232-5415)
URL:https://www.dmiec.org/event/community-conversation-6/
LOCATION:Zoom Event\, United States
CATEGORIES:Governance
ORGANIZER;CN="Betty Baird":MAILTO:eambaird@aol.com
END:VEVENT
BEGIN:VEVENT
DTSTART;TZID=America/Chicago:20210425T100000
DTEND;TZID=America/Chicago:20210425T110000
DTSTAMP:20260421T075004
CREATED:20201204T050039Z
LAST-MODIFIED:20210305T232305Z
UID:12315-1619344800-1619348400@www.dmiec.org
SUMMARY:Weekly Worship Service
DESCRIPTION:Readings: \n\nPentecost Sunday Year B First Reading\n\nPentecost Sunday Year B Second Reading\n\nPentecost Sunday Year B Gospel\n\nSeventeenth Sunday in Ordinary Time Year B First Reading and Responsorial Psalm\n\nSeventeenth Sunday in Ordinary Time Year B Second Reading (Alternative)\n\nSeventeenth Sunday in Ordinary Time Year B Gospel\nVolunteer(s) needed for this event. Click here to sign up.
URL:https://www.dmiec.org/event/weekly-worship-service-62/
LOCATION:DMIEC\, 3306 University Avenue\, Des Moines\, IA\, 50311\, United States
CATEGORIES:Weekly Worship Service
ATTACH;FMTTYPE=image/jpeg:https://www.dmiec.org/wp-content/uploads/2018/10/NewWeeklyReading.jpg
GEO:41.6000075;-93.6619278
X-APPLE-STRUCTURED-LOCATION;VALUE=URI;X-ADDRESS=DMIEC 3306 University Avenue Des Moines IA 50311 United States;X-APPLE-RADIUS=500;X-TITLE=3306 University Avenue:geo:-93.6619278,41.6000075
END:VEVENT
BEGIN:VEVENT
DTSTART;TZID=America/Chicago:20210425T110000
DTEND;TZID=America/Chicago:20210425T113000
DTSTAMP:20260421T075004
CREATED:20210210T153454Z
LAST-MODIFIED:20210210T153651Z
UID:12690-1619348400-1619350200@www.dmiec.org
SUMMARY:State Legislative Bi-Weekly Update and Discussion (immediately following the conclusion of our Sunday prayer service)
DESCRIPTION:Led by veteran Iowa Statehouse observer\, Bob Mulqueen\, participants learn about and discuss recent legislative proposals and developments affecting social justice issues in Iowa.
URL:https://www.dmiec.org/event/state-legislative-bi-weekly-update-and-discussion-immediately-following-the-conclusion-of-our-sunday-prayer-service-6/
LOCATION:Zoom Event\, United States
CATEGORIES:Community,Lectures & Presentations
ORGANIZER;CN="Bob Mulqueen":MAILTO:robert.mulqueen@gmail.com
END:VEVENT
END:VCALENDAR