BEGIN:VCALENDAR
VERSION:2.0
PRODID:-//Des Moines Intentional Eucharistic Community - ECPv6.15.13.1//NONSGML v1.0//EN
CALSCALE:GREGORIAN
METHOD:PUBLISH
X-ORIGINAL-URL:https://www.dmiec.org
X-WR-CALDESC:Events for Des Moines Intentional Eucharistic Community
REFRESH-INTERVAL;VALUE=DURATION:PT1H
X-Robots-Tag:noindex
X-PUBLISHED-TTL:PT1H
BEGIN:VTIMEZONE
TZID:America/Chicago
BEGIN:DAYLIGHT
TZOFFSETFROM:-0600
TZOFFSETTO:-0500
TZNAME:CDT
DTSTART:20200308T080000
END:DAYLIGHT
BEGIN:STANDARD
TZOFFSETFROM:-0500
TZOFFSETTO:-0600
TZNAME:CST
DTSTART:20201101T070000
END:STANDARD
BEGIN:DAYLIGHT
TZOFFSETFROM:-0600
TZOFFSETTO:-0500
TZNAME:CDT
DTSTART:20210314T080000
END:DAYLIGHT
BEGIN:STANDARD
TZOFFSETFROM:-0500
TZOFFSETTO:-0600
TZNAME:CST
DTSTART:20211107T070000
END:STANDARD
BEGIN:DAYLIGHT
TZOFFSETFROM:-0600
TZOFFSETTO:-0500
TZNAME:CDT
DTSTART:20220313T080000
END:DAYLIGHT
BEGIN:STANDARD
TZOFFSETFROM:-0500
TZOFFSETTO:-0600
TZNAME:CST
DTSTART:20221106T070000
END:STANDARD
END:VTIMEZONE
BEGIN:VEVENT
DTSTART;TZID=America/Chicago:20210306T090000
DTEND;TZID=America/Chicago:20210306T120000
DTSTAMP:20260421T091614
CREATED:20210116T220121Z
LAST-MODIFIED:20210209T180042Z
UID:12531-1615021200-1615032000@www.dmiec.org
SUMMARY:Lenten Morning of Reflection
DESCRIPTION:Kevin Pokorny will email to the community:\n    1)  Zoom link\n    2)  Booklet for reflection\nThe Lenten Morning of Reflection will proceed as follows:   \n    9:00    Gather on Zoom for opening reflection\n    9:30    Silent reflection in your own space\n    11:00  Gather again on Zoom for small group sharing in chat rooms\n    11:30  Gather in large group for sharing our Word\, and closing prayer\n    12:00  Leave Zoom\nYou may sign up here or join in as you wish. Invite a friend if you wish.\nDavid Wright will facilitate the Zoom technology.
URL:https://www.dmiec.org/event/lenten-morning-of-reflection/
LOCATION:Zoom Event\, United States
CATEGORIES:Prayer
ORGANIZER;CN="Mary Ann Koch":MAILTO:Kochmaryann2014@gmail.com
END:VEVENT
BEGIN:VEVENT
DTSTART;TZID=America/Chicago:20210307T100000
DTEND;TZID=America/Chicago:20210307T110000
DTSTAMP:20260421T091614
CREATED:20201203T095046Z
LAST-MODIFIED:20210131T202918Z
UID:12283-1615111200-1615114800@www.dmiec.org
SUMMARY:Weekly Worship Service
DESCRIPTION:Readings: \n\nPentecost Sunday Year B First Reading\n\nPentecost Sunday Year B Second Reading\n\nPentecost Sunday Year B Gospel\n\nSeventeenth Sunday in Ordinary Time Year B First Reading and Responsorial Psalm\n\nSeventeenth Sunday in Ordinary Time Year B Second Reading (Alternative)\n\nSeventeenth Sunday in Ordinary Time Year B Gospel\nVolunteer(s) needed for this event. Click here to sign up.
URL:https://www.dmiec.org/event/weekly-worship-service-53/
LOCATION:DMIEC\, 3306 University Avenue\, Des Moines\, IA\, 50311\, United States
CATEGORIES:Weekly Worship Service
ATTACH;FMTTYPE=image/jpeg:https://www.dmiec.org/wp-content/uploads/2018/10/NewWeeklyReading.jpg
GEO:41.6000075;-93.6619278
X-APPLE-STRUCTURED-LOCATION;VALUE=URI;X-ADDRESS=DMIEC 3306 University Avenue Des Moines IA 50311 United States;X-APPLE-RADIUS=500;X-TITLE=3306 University Avenue:geo:-93.6619278,41.6000075
END:VEVENT
BEGIN:VEVENT
DTSTART;TZID=America/Chicago:20210307T103000
DTEND;TZID=America/Chicago:20210307T110000
DTSTAMP:20260421T091614
CREATED:20210214T210934Z
LAST-MODIFIED:20210217T162430Z
UID:12747-1615113000-1615114800@www.dmiec.org
SUMMARY:First Sunday Collection -  By Degrees Foundation
DESCRIPTION:By Degrees Foundation (P.O. Box 41070\, Des Moines\, IA 50311.  Phone: 515.650.8230) will be the recipient of our First Sunday collection on March 7. CEO Emily Westergaard will join us that morning.  By Degrees works with schools\, families\, and neighborhoods to set students on a path to higher education.  Their work is currently focused at Findley Elementary\, Harding Middle School\, and North High School. To visit the By Degrees website\, please click here.  Watch this short video to learn more:  (578) By Degrees 2020: What We Do – YouTube.  Our First Sunday collection will support college savings accounts. \nChecks can be written either to “By Degrees Foundation” (If you mail your check directly to the organization\, please note “DMIEC First Sunday” in the memo line and inform Ed Arnold of the amount\, if you feel comfortable\, so the Social Justice Committee can get an accurate count of donations.) or to “DMIEC” with “First Sunday” in the memo line. We would prefer that all checks be mailed to DMIEC.
URL:https://www.dmiec.org/event/first-sunday-collection-by-degrees-foundation/
LOCATION:Zoom Event\, United States
CATEGORIES:Stewardship
END:VEVENT
BEGIN:VEVENT
DTSTART;TZID=America/Chicago:20210308T180000
DTEND;TZID=America/Chicago:20210308T193000
DTSTAMP:20260421T091614
CREATED:20210210T150348Z
LAST-MODIFIED:20210402T203527Z
UID:12671-1615226400-1615231800@www.dmiec.org
SUMMARY:Community Council Meeting
DESCRIPTION:DMIEC Community Council meetings are open to all members. While we are in the COVID-19 environment\, meetings will be held via Zoom. For more information\, please contact Council Secretary Jim Fifield at dmiec11@gmail.com
URL:https://www.dmiec.org/event/community-council-meeting-20/
LOCATION:Zoom Event\, United States
CATEGORIES:Committees,Governance
ORGANIZER;CN="Betty Baird":MAILTO:eambaird@aol.com
END:VEVENT
BEGIN:VEVENT
DTSTART;TZID=America/Chicago:20210310T150000
DTEND;TZID=America/Chicago:20210310T163000
DTSTAMP:20260421T091614
CREATED:20210211T145601Z
LAST-MODIFIED:20210211T145709Z
UID:12705-1615388400-1615393800@www.dmiec.org
SUMMARY:Liturgy Team Planning Meeting
DESCRIPTION:The Liturgy Team is not a formally structured committee. Anyone interested is encouraged to participate. No experience required! If you would like to offer ideas or suggestions but are unable to attend\, you are urged to talk to someone on the Liturgy Team (which includes Julie Powell-Mohr\, Mona Gude\, Paula Hermann\, Lisa Mullen\, and Martha Fifield).\nFor the Zoom link to the meeting\, contact Julie at julpowell@aol.com
URL:https://www.dmiec.org/event/liturgy-team-planning-meeting-4/
LOCATION:Zoom Event\, United States
CATEGORIES:Committees,Community
ORGANIZER;CN="Julie Powell-Mohr":MAILTO:julpowell@aol.com
END:VEVENT
BEGIN:VEVENT
DTSTART;TZID=America/Chicago:20210314T100000
DTEND;TZID=America/Chicago:20210314T110000
DTSTAMP:20260421T091614
CREATED:20201203T095159Z
LAST-MODIFIED:20210131T203034Z
UID:12287-1615716000-1615719600@www.dmiec.org
SUMMARY:Weekly Worship Service
DESCRIPTION:Readings: \n\nPentecost Sunday Year B First Reading\n\nPentecost Sunday Year B Second Reading\n\nPentecost Sunday Year B Gospel\n\nSeventeenth Sunday in Ordinary Time Year B First Reading and Responsorial Psalm\n\nSeventeenth Sunday in Ordinary Time Year B Second Reading (Alternative)\n\nSeventeenth Sunday in Ordinary Time Year B Gospel\nVolunteer(s) needed for this event. Click here to sign up.
URL:https://www.dmiec.org/event/weekly-worship-service-54/
LOCATION:DMIEC\, 3306 University Avenue\, Des Moines\, IA\, 50311\, United States
CATEGORIES:Weekly Worship Service
ATTACH;FMTTYPE=image/jpeg:https://www.dmiec.org/wp-content/uploads/2018/10/NewWeeklyReading.jpg
GEO:41.6000075;-93.6619278
X-APPLE-STRUCTURED-LOCATION;VALUE=URI;X-ADDRESS=DMIEC 3306 University Avenue Des Moines IA 50311 United States;X-APPLE-RADIUS=500;X-TITLE=3306 University Avenue:geo:-93.6619278,41.6000075
END:VEVENT
BEGIN:VEVENT
DTSTART;TZID=America/Chicago:20210314T110000
DTEND;TZID=America/Chicago:20210314T113000
DTSTAMP:20260421T091614
CREATED:20210210T152443Z
LAST-MODIFIED:20210210T152755Z
UID:12681-1615719600-1615721400@www.dmiec.org
SUMMARY:State Legislative Bi-Weekly Update and Discussion (immediately following the conclusion of our Sunday prayer service)
DESCRIPTION:Led by veteran Iowa Statehouse observer\, Bob Mulqueen\, participants learn about and discuss recent legislative proposals and developments affecting social justice issues in Iowa.
URL:https://www.dmiec.org/event/state-legislative-bi-weekly-update-and-discussion-immediately-following-the-conclusion-of-our-sunday-prayer-service-3/
LOCATION:Zoom Event\, United States
CATEGORIES:Community,Lectures & Presentations
ORGANIZER;CN="Bob Mulqueen":MAILTO:robert.mulqueen@gmail.com
END:VEVENT
BEGIN:VEVENT
DTSTART;TZID=America/Chicago:20210321T100000
DTEND;TZID=America/Chicago:20210321T110000
DTSTAMP:20260421T091614
CREATED:20201203T095259Z
LAST-MODIFIED:20210131T203150Z
UID:12286-1616320800-1616324400@www.dmiec.org
SUMMARY:Weekly Worship Service
DESCRIPTION:Readings: \n\nPentecost Sunday Year B First Reading\n\nPentecost Sunday Year B Second Reading\n\nPentecost Sunday Year B Gospel\n\nSeventeenth Sunday in Ordinary Time Year B First Reading and Responsorial Psalm\n\nSeventeenth Sunday in Ordinary Time Year B Second Reading (Alternative)\n\nSeventeenth Sunday in Ordinary Time Year B Gospel\nVolunteer(s) needed for this event. Click here to sign up.
URL:https://www.dmiec.org/event/weekly-worship-service-55/
LOCATION:DMIEC\, 3306 University Avenue\, Des Moines\, IA\, 50311\, United States
CATEGORIES:Weekly Worship Service
ATTACH;FMTTYPE=image/jpeg:https://www.dmiec.org/wp-content/uploads/2018/10/NewWeeklyReading.jpg
GEO:41.6000075;-93.6619278
X-APPLE-STRUCTURED-LOCATION;VALUE=URI;X-ADDRESS=DMIEC 3306 University Avenue Des Moines IA 50311 United States;X-APPLE-RADIUS=500;X-TITLE=3306 University Avenue:geo:-93.6619278,41.6000075
END:VEVENT
BEGIN:VEVENT
DTSTART;TZID=America/Chicago:20210321T103000
DTEND;TZID=America/Chicago:20210321T110000
DTSTAMP:20260421T091614
CREATED:20210315T143836Z
LAST-MODIFIED:20210315T153807Z
UID:12860-1616322600-1616324400@www.dmiec.org
SUMMARY:DMARC Emergency Food Pantries Sunday Special Collection
DESCRIPTION:Every third Sunday is DMARC Emergency Food Pantries Sunday.  \nBefore the pandemic began\, DMARC pantries were already operating at a 10% increase over 2019 levels.  As the economic crisis surrounding the pandemic has worsened\, pantry use has grown exponentially. \n*** IMPORTANT MATCHING GIFT OPPORTUNITY ***DOUGLAS M. WOODS HUNGER CHALLENGE through March 28Now its ninth year\, the Hunger Challenge offers $20\,000 of matching gifts to the DMARC FoodPantry Network. Your March gift is matched dollar for dollar—a $10 gift provides 33 meals! \nPlease send donation checks directly to DMARC.  Please write checks to “DMARC” and mail to DMARC\, 1435 Mulberry Street\, Des Moines\, IA 50309. Please include a note with your check indicating that you are part of the DMIEC community. \nFor more information\, please visit the DMARC Food Pantries website  https://www.dmarcunited.org/food/ \nRead the most recent quarterly newsletter here.
URL:https://www.dmiec.org/event/dmarc-emergency-food-pantries-sunday-special-collection-11/
LOCATION:DMIEC\, 3306 University Avenue\, Des Moines\, IA\, 50311\, United States
CATEGORIES:Stewardship
GEO:41.6000075;-93.6619278
X-APPLE-STRUCTURED-LOCATION;VALUE=URI;X-ADDRESS=DMIEC 3306 University Avenue Des Moines IA 50311 United States;X-APPLE-RADIUS=500;X-TITLE=3306 University Avenue:geo:-93.6619278,41.6000075
END:VEVENT
BEGIN:VEVENT
DTSTART;TZID=America/Chicago:20210327T090000
DTEND;TZID=America/Chicago:20210327T120000
DTSTAMP:20260421T091614
CREATED:20210315T154315Z
LAST-MODIFIED:20210315T160440Z
UID:12873-1616835600-1616846400@www.dmiec.org
SUMMARY:Palm Branch Pickup (outside main door)
DESCRIPTION:Palms for in-home Palm Sunday use will be available in a bucket outside the main door to the DMIEC building.  Due to limited numbers\, one palm per household\, please.
URL:https://www.dmiec.org/event/palm-branch-pickup-outside-main-door/
LOCATION:DMIEC\, 3306 University Avenue\, Des Moines\, IA\, 50311\, United States
ORGANIZER;CN="Mona Gude":MAILTO:monasweeneygude@gmail.com
GEO:41.6000075;-93.6619278
X-APPLE-STRUCTURED-LOCATION;VALUE=URI;X-ADDRESS=DMIEC 3306 University Avenue Des Moines IA 50311 United States;X-APPLE-RADIUS=500;X-TITLE=3306 University Avenue:geo:-93.6619278,41.6000075
END:VEVENT
BEGIN:VEVENT
DTSTART;VALUE=DATE:20210328
DTEND;VALUE=DATE:20210329
DTSTAMP:20260421T091614
CREATED:20210212T160539Z
LAST-MODIFIED:20210214T182837Z
UID:12733-1616889600-1616975999@www.dmiec.org
SUMMARY:Note: **2021 Holy Week Arrangements**
DESCRIPTION:Holy Week 2021 will feature at home\, individual reflections to observe Holy Thursday and Good Friday\, along with Zoom services for Palm Sunday and Easter Sunday. There will be no 2021 Easter Vigil.
URL:https://www.dmiec.org/event/note-2021-holy-week-arrangements/
LOCATION:IA
END:VEVENT
BEGIN:VEVENT
DTSTART;TZID=America/Chicago:20210328T100000
DTEND;TZID=America/Chicago:20210328T110000
DTSTAMP:20260421T091614
CREATED:20201203T095358Z
LAST-MODIFIED:20201203T100730Z
UID:12288-1616925600-1616929200@www.dmiec.org
SUMMARY:Weekly Worship Service
DESCRIPTION:Readings: \n\nPentecost Sunday Year B First Reading\n\nPentecost Sunday Year B Second Reading\n\nPentecost Sunday Year B Gospel\n\nSeventeenth Sunday in Ordinary Time Year B First Reading and Responsorial Psalm\n\nSeventeenth Sunday in Ordinary Time Year B Second Reading (Alternative)\n\nSeventeenth Sunday in Ordinary Time Year B Gospel\nVolunteer(s) needed for this event. Click here to sign up.
URL:https://www.dmiec.org/event/weekly-worship-service-56/
LOCATION:DMIEC\, 3306 University Avenue\, Des Moines\, IA\, 50311\, United States
CATEGORIES:Weekly Worship Service
ATTACH;FMTTYPE=image/jpeg:https://www.dmiec.org/wp-content/uploads/2018/10/NewWeeklyReading.jpg
GEO:41.6000075;-93.6619278
X-APPLE-STRUCTURED-LOCATION;VALUE=URI;X-ADDRESS=DMIEC 3306 University Avenue Des Moines IA 50311 United States;X-APPLE-RADIUS=500;X-TITLE=3306 University Avenue:geo:-93.6619278,41.6000075
END:VEVENT
BEGIN:VEVENT
DTSTART;TZID=America/Chicago:20210328T110000
DTEND;TZID=America/Chicago:20210328T113000
DTSTAMP:20260421T091614
CREATED:20210210T152902Z
LAST-MODIFIED:20210210T152923Z
UID:12685-1616929200-1616931000@www.dmiec.org
SUMMARY:State Legislative Bi-Weekly Update and Discussion (immediately following the conclusion of our Sunday prayer service)
DESCRIPTION:Led by veteran Iowa Statehouse observer\, Bob Mulqueen\, participants learn about and discuss recent legislative proposals and developments affecting social justice issues in Iowa.
URL:https://www.dmiec.org/event/state-legislative-bi-weekly-update-and-discussion-immediately-following-the-conclusion-of-our-sunday-prayer-service-4/
LOCATION:Zoom Event\, United States
CATEGORIES:Community,Lectures & Presentations
ORGANIZER;CN="Bob Mulqueen":MAILTO:robert.mulqueen@gmail.com
END:VEVENT
END:VCALENDAR