BEGIN:VCALENDAR
VERSION:2.0
PRODID:-//Des Moines Intentional Eucharistic Community - ECPv6.15.13.1//NONSGML v1.0//EN
CALSCALE:GREGORIAN
METHOD:PUBLISH
X-WR-CALNAME:Des Moines Intentional Eucharistic Community
X-ORIGINAL-URL:https://www.dmiec.org
X-WR-CALDESC:Events for Des Moines Intentional Eucharistic Community
REFRESH-INTERVAL;VALUE=DURATION:PT1H
X-Robots-Tag:noindex
X-PUBLISHED-TTL:PT1H
BEGIN:VTIMEZONE
TZID:America/Chicago
BEGIN:DAYLIGHT
TZOFFSETFROM:-0600
TZOFFSETTO:-0500
TZNAME:CDT
DTSTART:20190310T080000
END:DAYLIGHT
BEGIN:STANDARD
TZOFFSETFROM:-0500
TZOFFSETTO:-0600
TZNAME:CST
DTSTART:20191103T070000
END:STANDARD
BEGIN:DAYLIGHT
TZOFFSETFROM:-0600
TZOFFSETTO:-0500
TZNAME:CDT
DTSTART:20200308T080000
END:DAYLIGHT
BEGIN:STANDARD
TZOFFSETFROM:-0500
TZOFFSETTO:-0600
TZNAME:CST
DTSTART:20201101T070000
END:STANDARD
BEGIN:DAYLIGHT
TZOFFSETFROM:-0600
TZOFFSETTO:-0500
TZNAME:CDT
DTSTART:20210314T080000
END:DAYLIGHT
BEGIN:STANDARD
TZOFFSETFROM:-0500
TZOFFSETTO:-0600
TZNAME:CST
DTSTART:20211107T070000
END:STANDARD
END:VTIMEZONE
BEGIN:VEVENT
DTSTART;TZID=America/Chicago:20201004T100000
DTEND;TZID=America/Chicago:20201004T110000
DTSTAMP:20260421T165137
CREATED:20191213T081550Z
LAST-MODIFIED:20200826T161034Z
UID:8825-1601805600-1601809200@www.dmiec.org
SUMMARY:Weekly Worship Service
DESCRIPTION:Readings: \n\nAll Saints Year A **Alternate** First Reading\n\nSeventh Sunday in Ordinary Time  Year C  *Alternate* Second Reading\n\nEpiphany of the Lord  Year A *Alternate* First Reading and *Alternate* Psalm (no response)\n\nEpiphany of the Lord  Year A *Alternate* Second Reading\n\nFeast of the Baptism of the Lord  Year A  First Reading (No Psalm)\n\nFeast of the Baptism of the Lord  Year A  Gospel\nVolunteer(s) needed for this event. Click here to sign up.
URL:https://www.dmiec.org/event/weekly-worship-service-27/
LOCATION:DMIEC\, 3306 University Avenue\, Des Moines\, IA\, 50311\, United States
CATEGORIES:Weekly Worship Service
ATTACH;FMTTYPE=image/jpeg:https://www.dmiec.org/wp-content/uploads/2018/10/NewWeeklyReading.jpg
GEO:41.6000075;-93.6619278
X-APPLE-STRUCTURED-LOCATION;VALUE=URI;X-ADDRESS=DMIEC 3306 University Avenue Des Moines IA 50311 United States;X-APPLE-RADIUS=500;X-TITLE=3306 University Avenue:geo:-93.6619278,41.6000075
END:VEVENT
BEGIN:VEVENT
DTSTART;TZID=America/Chicago:20201004T103000
DTEND;TZID=America/Chicago:20201004T110000
DTSTAMP:20260421T165137
CREATED:20200925T142008Z
LAST-MODIFIED:20200925T142905Z
UID:11902-1601807400-1601809200@www.dmiec.org
SUMMARY:First Sunday Collection - L.U.N.A. (Latinas United for a New Dawn)
DESCRIPTION:L.U.N.A. (Latinas Unidas Por Un Nuevo Amanecer) Iowa was created in 1999 by a group of survivors of domestic violence and sexual abuse who noticed the lack of resources available to the LatinX community in Iowa. L.U.N.A. Iowa has evolved into a statewide organization with offices in Des Moines and Marshalltown. The L.U.N.A. mission is to empower\, educate\, and advocate for survivors of domestic violence and sexual abuse so they may build futures free of violence. Recognizing that domestic violence\, sexual assault\, and human trafficking are serious problems that impact everyone\, L.U.N.A strives to educate and protect families. \nChecks can be written either to “L.U.N.A.” or “DMIEC” with “First Sunday” in the memo line.  \nWe would prefer that all checks be mailed to DMIEC. If you mail your check directly to the organization\, please inform Ed Arnold of the amount\, if you feel comfortable\, so the Social Justice Committee can get an accurate count of donations.  For more information\, please visit L.U.N.A.’s Facebook page
URL:https://www.dmiec.org/event/first-sunday-collection-l-u-n-a-latinas-united-for-a-new-dawn/
LOCATION:DMIEC\, 3306 University Avenue\, Des Moines\, IA\, 50311\, United States
CATEGORIES:Stewardship
GEO:41.6000075;-93.6619278
X-APPLE-STRUCTURED-LOCATION;VALUE=URI;X-ADDRESS=DMIEC 3306 University Avenue Des Moines IA 50311 United States;X-APPLE-RADIUS=500;X-TITLE=3306 University Avenue:geo:-93.6619278,41.6000075
END:VEVENT
BEGIN:VEVENT
DTSTART;TZID=America/Chicago:20201008T190000
DTEND;TZID=America/Chicago:20201008T203000
DTSTAMP:20260421T165137
CREATED:20200902T224148Z
LAST-MODIFIED:20200902T224407Z
UID:11611-1602183600-1602189000@www.dmiec.org
SUMMARY:Community Conversation on Racism and Black Lives Matter
DESCRIPTION:The Social Justice Committee and Community Council invite the community to dialogue about racism and the Black Lives Matter movement during a Community Conversation on Thursday\, October 8\, 2020 from 7:00 to 8:30 pm. The conversation will focus on self-reflection and will be an opportunity to talk and listen to others about what we feel about racial inequality. \nThis is one step in our community’s collective understanding of the call for racial justice. We recognize that more dialogue\, prayer\, and reflection will be needed to understand and respond to the call for justice. \nOver the next few weeks\, the Social Justice Committee will provide resources and questions through email to further our community’s education and self-reflection. We will provide more details about the Community Conversation closer to the event. We invite all to participate in this journey.
URL:https://www.dmiec.org/event/community-conversation-on-racism-and-black-lives-matter/
LOCATION:Zoom Event\, United States
END:VEVENT
BEGIN:VEVENT
DTSTART;TZID=America/Chicago:20201011T100000
DTEND;TZID=America/Chicago:20201011T110000
DTSTAMP:20260421T165137
CREATED:20191213T081723Z
LAST-MODIFIED:20200826T161200Z
UID:8827-1602410400-1602414000@www.dmiec.org
SUMMARY:Weekly Worship Service
DESCRIPTION:Readings: \n\nAll Saints Year A **Alternate** First Reading\n\nSeventh Sunday in Ordinary Time  Year C  *Alternate* Second Reading\n\nEpiphany of the Lord  Year A *Alternate* First Reading and *Alternate* Psalm (no response)\n\nEpiphany of the Lord  Year A *Alternate* Second Reading\n\nFeast of the Baptism of the Lord  Year A  First Reading (No Psalm)\n\nFeast of the Baptism of the Lord  Year A  Gospel\nVolunteer(s) needed for this event. Click here to sign up.
URL:https://www.dmiec.org/event/weekly-worship-service-28/
LOCATION:DMIEC\, 3306 University Avenue\, Des Moines\, IA\, 50311\, United States
CATEGORIES:Weekly Worship Service
ATTACH;FMTTYPE=image/jpeg:https://www.dmiec.org/wp-content/uploads/2018/10/NewWeeklyReading.jpg
GEO:41.6000075;-93.6619278
X-APPLE-STRUCTURED-LOCATION;VALUE=URI;X-ADDRESS=DMIEC 3306 University Avenue Des Moines IA 50311 United States;X-APPLE-RADIUS=500;X-TITLE=3306 University Avenue:geo:-93.6619278,41.6000075
END:VEVENT
BEGIN:VEVENT
DTSTART;TZID=America/Chicago:20201014T180000
DTEND;TZID=America/Chicago:20201014T193000
DTSTAMP:20260421T165137
CREATED:20200905T220040Z
LAST-MODIFIED:20200905T220525Z
UID:11635-1602698400-1602703800@www.dmiec.org
SUMMARY:Community Council Meeting
DESCRIPTION:DMIEC Community Council meetings are open to all members. While we are in the COVID-19 environment\, meetings will be held via Zoom. For more information\, please contact Council Secretary Jim Fifield at dmiec11@gmail.com
URL:https://www.dmiec.org/event/community-council-meeting-15/
LOCATION:Zoom Event\, United States
CATEGORIES:Committees,Governance
ORGANIZER;CN="Jim Fifield":MAILTO:dmiec11@gmail.com
END:VEVENT
BEGIN:VEVENT
DTSTART;TZID=America/Chicago:20201018T100000
DTEND;TZID=America/Chicago:20201018T110000
DTSTAMP:20260421T165137
CREATED:20191213T082226Z
LAST-MODIFIED:20200826T161317Z
UID:8829-1603015200-1603018800@www.dmiec.org
SUMMARY:Weekly Worship Service
DESCRIPTION:Readings: \n\nAll Saints Year A **Alternate** First Reading\n\nSeventh Sunday in Ordinary Time  Year C  *Alternate* Second Reading\n\nEpiphany of the Lord  Year A *Alternate* First Reading and *Alternate* Psalm (no response)\n\nEpiphany of the Lord  Year A *Alternate* Second Reading\n\nFeast of the Baptism of the Lord  Year A  First Reading (No Psalm)\n\nFeast of the Baptism of the Lord  Year A  Gospel\nVolunteer(s) needed for this event. Click here to sign up.
URL:https://www.dmiec.org/event/weekly-worship-service-29/
LOCATION:DMIEC\, 3306 University Avenue\, Des Moines\, IA\, 50311\, United States
CATEGORIES:Weekly Worship Service
ATTACH;FMTTYPE=image/jpeg:https://www.dmiec.org/wp-content/uploads/2018/10/NewWeeklyReading.jpg
GEO:41.6000075;-93.6619278
X-APPLE-STRUCTURED-LOCATION;VALUE=URI;X-ADDRESS=DMIEC 3306 University Avenue Des Moines IA 50311 United States;X-APPLE-RADIUS=500;X-TITLE=3306 University Avenue:geo:-93.6619278,41.6000075
END:VEVENT
BEGIN:VEVENT
DTSTART;TZID=America/Chicago:20201018T103000
DTEND;TZID=America/Chicago:20201018T110000
DTSTAMP:20260421T165137
CREATED:20201013T190752Z
LAST-MODIFIED:20201013T191224Z
UID:12004-1603017000-1603018800@www.dmiec.org
SUMMARY:DMARC Emergency Food Pantries Sunday Special Collection
DESCRIPTION:Every third Sunday is DMARC Emergency Food Pantries Sunday.  \nBefore the pandemic began\, DMARC pantries were already operating at a 10% increase over 2019 levels.  As the economic crisis surrounding the pandemic has worsened\, pantry use has grown exponentially. \nPlease send donation checks directly to DMARC.  Please write checks to “DMARC” and mail to DMARC\, 1435 Mulberry Street\, Des Moines\, IA 50309. Please include a note with your check indicating that you are part of the DMIEC community. \nFor more information\, please visit the DMARC Food Pantries website  https://www.dmarcunited.org/food/ \nRead the most recent quarterly newsletter here.
URL:https://www.dmiec.org/event/dmarc-emergency-food-pantries-sunday-special-collection-8/
LOCATION:DMIEC\, 3306 University Avenue\, Des Moines\, IA\, 50311\, United States
CATEGORIES:Stewardship
GEO:41.6000075;-93.6619278
X-APPLE-STRUCTURED-LOCATION;VALUE=URI;X-ADDRESS=DMIEC 3306 University Avenue Des Moines IA 50311 United States;X-APPLE-RADIUS=500;X-TITLE=3306 University Avenue:geo:-93.6619278,41.6000075
END:VEVENT
BEGIN:VEVENT
DTSTART;TZID=America/Chicago:20201025T100000
DTEND;TZID=America/Chicago:20201025T110000
DTSTAMP:20260421T165137
CREATED:20191213T083106Z
LAST-MODIFIED:20200826T161517Z
UID:8837-1603620000-1603623600@www.dmiec.org
SUMMARY:Weekly Worship Service
DESCRIPTION:Readings: \n\nAll Saints Year A **Alternate** First Reading\n\nSeventh Sunday in Ordinary Time  Year C  *Alternate* Second Reading\n\nEpiphany of the Lord  Year A *Alternate* First Reading and *Alternate* Psalm (no response)\n\nEpiphany of the Lord  Year A *Alternate* Second Reading\n\nFeast of the Baptism of the Lord  Year A  First Reading (No Psalm)\n\nFeast of the Baptism of the Lord  Year A  Gospel\nVolunteer(s) needed for this event. Click here to sign up.
URL:https://www.dmiec.org/event/weekly-worship-service-31/
LOCATION:DMIEC\, 3306 University Avenue\, Des Moines\, IA\, 50311\, United States
CATEGORIES:Weekly Worship Service
ATTACH;FMTTYPE=image/jpeg:https://www.dmiec.org/wp-content/uploads/2018/10/NewWeeklyReading.jpg
GEO:41.6000075;-93.6619278
X-APPLE-STRUCTURED-LOCATION;VALUE=URI;X-ADDRESS=DMIEC 3306 University Avenue Des Moines IA 50311 United States;X-APPLE-RADIUS=500;X-TITLE=3306 University Avenue:geo:-93.6619278,41.6000075
END:VEVENT
BEGIN:VEVENT
DTSTART;TZID=America/Chicago:20201027T103000
DTEND;TZID=America/Chicago:20201101T110000
DTSTAMP:20260421T165137
CREATED:20201028T000857Z
LAST-MODIFIED:20201028T002348Z
UID:12037-1603794600-1604228400@www.dmiec.org
SUMMARY:First Sunday Collection - NETWORK Advocates for Catholic Social Justice
DESCRIPTION:The recipient of the November 1 First Sunday collection will be NETWORK Advocates for Catholic Social Justice.  NETWORK Advocates (widely known for its Nuns on the Bus campaign that DMIEC’s own Hagedorn sisters participated in) is a Catholic leader in the global movement for justice and peace.  Advocates Teams connect spirit-filled justice seekers within a metropolitan area and empower them to act effectively for social change\, working to develop and pass legislation that builds an economy of inclusion. \nThe teams: \n\nwork with NETWORK staff to build relationships with their members of Congress;\nbecome well-versed in federal policies that support the common good;\ndevelop organizing and leadership skills to strengthen a sense of community\n\nChecks can either be written to “NETWORK Advocates” or “DMIEC” with “First Sunday” in the memo line.  We would prefer that all checks be mailed to DMIEC.  If you mail your check directly to the organization\, please inform Ed Arnold of the amount\, if you feel comfortable\, so the Social Justice Committee can get an accurate account of donations. \nFor more information\, please visit NETWORK Advocates’ website.
URL:https://www.dmiec.org/event/first-sunday-collection-network-advocates-for-catholic-social-justice/
LOCATION:DMIEC\, 3306 University Avenue\, Des Moines\, IA\, 50311\, United States
CATEGORIES:Stewardship
GEO:41.6000075;-93.6619278
X-APPLE-STRUCTURED-LOCATION;VALUE=URI;X-ADDRESS=DMIEC 3306 University Avenue Des Moines IA 50311 United States;X-APPLE-RADIUS=500;X-TITLE=3306 University Avenue:geo:-93.6619278,41.6000075
END:VEVENT
BEGIN:VEVENT
DTSTART;TZID=America/Chicago:20201028T101500
DTEND;TZID=America/Chicago:20201028T111500
DTSTAMP:20260421T165137
CREATED:20200917T194410Z
LAST-MODIFIED:20201103T180232Z
UID:11697-1603880100-1603883700@www.dmiec.org
SUMMARY:Community Council Retreat (3 sessions)
DESCRIPTION:
URL:https://www.dmiec.org/event/community-council-retreat-3-sessions/2020-10-28/
LOCATION:Zoom Event\, United States
CATEGORIES:Committees,Community,Governance
ORGANIZER;CN="Kevin Pokorny":MAILTO:pokornyk@hotmail.com
END:VEVENT
BEGIN:VEVENT
DTSTART;TZID=America/Chicago:20201031T083000
DTEND;TZID=America/Chicago:20201031T120000
DTSTAMP:20260421T165137
CREATED:20200930T164659Z
LAST-MODIFIED:20200930T170012Z
UID:11922-1604133000-1604145600@www.dmiec.org
SUMMARY:Fall Cleanup Day
DESCRIPTION:Mark your calendar for the fall cleanup of the IEC grounds. (Rain date November 7.) \nWe will rake\, weed\, trim\, and prepare the garden areas for winter.  We will be practicing social distancing — plenty of space to do that!  Wear your Halloween masks! \nGarden tools to bring: Wheelbarrows (we always need more)\, rakes\, hand pruners and Des Moines yard waste bags. \nTo volunteer\, please sign up via the Fall Cleanup Day sign-up sheet here.
URL:https://www.dmiec.org/event/fall-cleanup-day-2/
LOCATION:DMIEC\, 3306 University Avenue\, Des Moines\, IA\, 50311\, United States
ORGANIZER;CN="Martha Gelhaus":MAILTO:mgelhaus@hotmail.com
GEO:41.6000075;-93.6619278
X-APPLE-STRUCTURED-LOCATION;VALUE=URI;X-ADDRESS=DMIEC 3306 University Avenue Des Moines IA 50311 United States;X-APPLE-RADIUS=500;X-TITLE=3306 University Avenue:geo:-93.6619278,41.6000075
END:VEVENT
END:VCALENDAR