BEGIN:VCALENDAR
VERSION:2.0
PRODID:-//Des Moines Intentional Eucharistic Community - ECPv6.15.13.1//NONSGML v1.0//EN
CALSCALE:GREGORIAN
METHOD:PUBLISH
X-ORIGINAL-URL:https://www.dmiec.org
X-WR-CALDESC:Events for Des Moines Intentional Eucharistic Community
REFRESH-INTERVAL;VALUE=DURATION:PT1H
X-Robots-Tag:noindex
X-PUBLISHED-TTL:PT1H
BEGIN:VTIMEZONE
TZID:America/Chicago
BEGIN:DAYLIGHT
TZOFFSETFROM:-0600
TZOFFSETTO:-0500
TZNAME:CDT
DTSTART:20190310T080000
END:DAYLIGHT
BEGIN:STANDARD
TZOFFSETFROM:-0500
TZOFFSETTO:-0600
TZNAME:CST
DTSTART:20191103T070000
END:STANDARD
BEGIN:DAYLIGHT
TZOFFSETFROM:-0600
TZOFFSETTO:-0500
TZNAME:CDT
DTSTART:20200308T080000
END:DAYLIGHT
BEGIN:STANDARD
TZOFFSETFROM:-0500
TZOFFSETTO:-0600
TZNAME:CST
DTSTART:20201101T070000
END:STANDARD
BEGIN:DAYLIGHT
TZOFFSETFROM:-0600
TZOFFSETTO:-0500
TZNAME:CDT
DTSTART:20210314T080000
END:DAYLIGHT
BEGIN:STANDARD
TZOFFSETFROM:-0500
TZOFFSETTO:-0600
TZNAME:CST
DTSTART:20211107T070000
END:STANDARD
END:VTIMEZONE
BEGIN:VEVENT
DTSTART;TZID=America/Chicago:20200906T100000
DTEND;TZID=America/Chicago:20200906T110000
DTSTAMP:20260421T182347
CREATED:20191213T082432Z
LAST-MODIFIED:20200807T195926Z
UID:8831-1599386400-1599390000@www.dmiec.org
SUMMARY:Weekly Worship Service
DESCRIPTION:Readings: \n\nAll Saints Year A **Alternate** First Reading\n\nSeventh Sunday in Ordinary Time  Year C  *Alternate* Second Reading\n\nEpiphany of the Lord  Year A *Alternate* First Reading and *Alternate* Psalm (no response)\n\nEpiphany of the Lord  Year A *Alternate* Second Reading\n\nFeast of the Baptism of the Lord  Year A  First Reading (No Psalm)\n\nFeast of the Baptism of the Lord  Year A  Gospel\nVolunteer(s) needed for this event. Click here to sign up.
URL:https://www.dmiec.org/event/weekly-worship-service-30/
LOCATION:DMIEC\, 3306 University Avenue\, Des Moines\, IA\, 50311\, United States
CATEGORIES:Weekly Worship Service
ATTACH;FMTTYPE=image/jpeg:https://www.dmiec.org/wp-content/uploads/2018/10/NewWeeklyReading.jpg
GEO:41.6000075;-93.6619278
X-APPLE-STRUCTURED-LOCATION;VALUE=URI;X-ADDRESS=DMIEC 3306 University Avenue Des Moines IA 50311 United States;X-APPLE-RADIUS=500;X-TITLE=3306 University Avenue:geo:-93.6619278,41.6000075
END:VEVENT
BEGIN:VEVENT
DTSTART;TZID=America/Chicago:20200910T190000
DTEND;TZID=America/Chicago:20200910T200000
DTSTAMP:20260421T182347
CREATED:20200902T225635Z
LAST-MODIFIED:20200902T225745Z
UID:11618-1599764400-1599768000@www.dmiec.org
SUMMARY:Community Discussion - David Haas Music
DESCRIPTION:Susan Barnes and Jean Davis will facilitate the conversation about David Haas music. An invitation to join the Zoom session will be sent prior to the event.
URL:https://www.dmiec.org/event/community-discussion-david-haas-music/
LOCATION:Zoom Event\, United States
ORGANIZER;CN="Susan Barnes":MAILTO:susanbarnes52@gmail.com
END:VEVENT
BEGIN:VEVENT
DTSTART;TZID=America/Chicago:20200913T100000
DTEND;TZID=America/Chicago:20200913T110000
DTSTAMP:20260421T182347
CREATED:20191213T083234Z
LAST-MODIFIED:20200807T143843Z
UID:8839-1599991200-1599994800@www.dmiec.org
SUMMARY:Weekly Worship Service
DESCRIPTION:Readings: \n\nAll Saints Year A **Alternate** First Reading\n\nSeventh Sunday in Ordinary Time  Year C  *Alternate* Second Reading\n\nEpiphany of the Lord  Year A *Alternate* First Reading and *Alternate* Psalm (no response)\n\nEpiphany of the Lord  Year A *Alternate* Second Reading\n\nFeast of the Baptism of the Lord  Year A  First Reading (No Psalm)\n\nFeast of the Baptism of the Lord  Year A  Gospel\nVolunteer(s) needed for this event. Click here to sign up.
URL:https://www.dmiec.org/event/weekly-worship-service-32/
LOCATION:DMIEC\, 3306 University Avenue\, Des Moines\, IA\, 50311\, United States
CATEGORIES:Weekly Worship Service
ATTACH;FMTTYPE=image/jpeg:https://www.dmiec.org/wp-content/uploads/2018/10/NewWeeklyReading.jpg
GEO:41.6000075;-93.6619278
X-APPLE-STRUCTURED-LOCATION;VALUE=URI;X-ADDRESS=DMIEC 3306 University Avenue Des Moines IA 50311 United States;X-APPLE-RADIUS=500;X-TITLE=3306 University Avenue:geo:-93.6619278,41.6000075
END:VEVENT
BEGIN:VEVENT
DTSTART;TZID=America/Chicago:20200913T103000
DTEND;TZID=America/Chicago:20200913T110000
DTSTAMP:20260421T182347
CREATED:20200907T191644Z
LAST-MODIFIED:20200907T193611Z
UID:11647-1599993000-1599994800@www.dmiec.org
SUMMARY:First Sunday Collection - Youth Emergency Shelter and Services of Iowa (YESS)
DESCRIPTION:FIRST SUNDAY COLLECTION FOR SEPTEMBER. \nDue to the Labor Day weekend\, the September First Sunday collection will be the week of September 13. \nCollection recipient:  YESS (Youth Emergency Services and Shelter of Iowa) \nCHECKS SHOULD BE MAILED TO: \nDMIEC\, P.O. Box 30065\, Des Moines\, IA 50310 \nYESS provides a safety net of programs for kids\, including emergency shelter\, crisis nursery care\, mental health counseling\, and care coordination.  As Iowa’s largest provider of emergency services for youth\, the agency connects more than 2\,000 children per year with healing and hope.  YESS is home to Iowa’s largest and most comprehensive shelter for kids\, which provides a safe haven and wraparound support to more than 800 children (newborn through age 17) per year.  In addition\, the agency cares for hundreds of children in the community to keep them safe and healthy in their own homes.  YESS is a nationally accredited nonprofit organization that uniquely serves the community’s most vulnerable children and creates an environment where families can thrive.  For more information\, please visit the YESS website: https://www.yessiowa.org/ \nChecks can be written either to (a) “YESS” or (b) “DMIEC” with “First Sunday” in the memo line. We would prefer that all checks be mailed to DMIEC.  If you mail your check directly to the organization\, please inform Ed Arnold of the amount\, if you feel comfortable\, so the Social Justice Committee can get an accurate count of donations.  Thank you for your generous support!
URL:https://www.dmiec.org/event/first-sunday-collection-youth-emergency-shelter-and-services-of-iowa-yess/
LOCATION:DMIEC\, 3306 University Avenue\, Des Moines\, IA\, 50311\, United States
CATEGORIES:Stewardship
GEO:41.6000075;-93.6619278
X-APPLE-STRUCTURED-LOCATION;VALUE=URI;X-ADDRESS=DMIEC 3306 University Avenue Des Moines IA 50311 United States;X-APPLE-RADIUS=500;X-TITLE=3306 University Avenue:geo:-93.6619278,41.6000075
END:VEVENT
BEGIN:VEVENT
DTSTART;TZID=America/Chicago:20200914T180000
DTEND;TZID=America/Chicago:20200914T193000
DTSTAMP:20260421T182347
CREATED:20200905T215437Z
LAST-MODIFIED:20200905T220634Z
UID:11633-1600106400-1600111800@www.dmiec.org
SUMMARY:Community Council Meeting
DESCRIPTION:DMIEC Community Council meetings are open to all members. While we are in the COVID-19 environment\, meetings will be held via Zoom. For more information\, please contact Council Secretary Jim Fifield at dmiec11@gmail.com
URL:https://www.dmiec.org/event/community-council-meeting-16/
LOCATION:Zoom Event\, United States
CATEGORIES:Committees,Governance
ORGANIZER;CN="Jim Fifield":MAILTO:dmiec11@gmail.com
END:VEVENT
BEGIN:VEVENT
DTSTART;TZID=America/Chicago:20200920T100000
DTEND;TZID=America/Chicago:20200920T110000
DTSTAMP:20260421T182347
CREATED:20191213T083346Z
LAST-MODIFIED:20200921T193848Z
UID:8841-1600596000-1600599600@www.dmiec.org
SUMMARY:Weekly Worship Service
DESCRIPTION:Readings: \n\nAll Saints Year A **Alternate** First Reading\n\nSeventh Sunday in Ordinary Time  Year C  *Alternate* Second Reading\n\nEpiphany of the Lord  Year A *Alternate* First Reading and *Alternate* Psalm (no response)\n\nEpiphany of the Lord  Year A *Alternate* Second Reading\n\nFeast of the Baptism of the Lord  Year A  First Reading (No Psalm)\n\nFeast of the Baptism of the Lord  Year A  Gospel\nVolunteer(s) needed for this event. Click here to sign up.
URL:https://www.dmiec.org/event/weekly-worship-service-33-2/
LOCATION:DMIEC\, 3306 University Avenue\, Des Moines\, IA\, 50311\, United States
CATEGORIES:Weekly Worship Service
ATTACH;FMTTYPE=image/jpeg:https://www.dmiec.org/wp-content/uploads/2018/10/NewWeeklyReading.jpg
GEO:41.6000075;-93.6619278
X-APPLE-STRUCTURED-LOCATION;VALUE=URI;X-ADDRESS=DMIEC 3306 University Avenue Des Moines IA 50311 United States;X-APPLE-RADIUS=500;X-TITLE=3306 University Avenue:geo:-93.6619278,41.6000075
END:VEVENT
BEGIN:VEVENT
DTSTART;TZID=America/Chicago:20200927T100000
DTEND;TZID=America/Chicago:20200927T110000
DTSTAMP:20260421T182347
CREATED:20191213T083506Z
LAST-MODIFIED:20200807T201817Z
UID:8844-1601200800-1601204400@www.dmiec.org
SUMMARY:Weekly Worship Service
DESCRIPTION:Readings: \n\nAll Saints Year A **Alternate** First Reading\n\nSeventh Sunday in Ordinary Time  Year C  *Alternate* Second Reading\n\nEpiphany of the Lord  Year A *Alternate* First Reading and *Alternate* Psalm (no response)\n\nEpiphany of the Lord  Year A *Alternate* Second Reading\n\nFeast of the Baptism of the Lord  Year A  First Reading (No Psalm)\n\nFeast of the Baptism of the Lord  Year A  Gospel\nVolunteer(s) needed for this event. Click here to sign up.
URL:https://www.dmiec.org/event/weekly-worship-service-34/
LOCATION:DMIEC\, 3306 University Avenue\, Des Moines\, IA\, 50311\, United States
CATEGORIES:Weekly Worship Service
ATTACH;FMTTYPE=image/jpeg:https://www.dmiec.org/wp-content/uploads/2018/10/NewWeeklyReading.jpg
GEO:41.6000075;-93.6619278
X-APPLE-STRUCTURED-LOCATION;VALUE=URI;X-ADDRESS=DMIEC 3306 University Avenue Des Moines IA 50311 United States;X-APPLE-RADIUS=500;X-TITLE=3306 University Avenue:geo:-93.6619278,41.6000075
END:VEVENT
END:VCALENDAR