BEGIN:VCALENDAR
VERSION:2.0
PRODID:-//Des Moines Intentional Eucharistic Community - ECPv6.15.13.1//NONSGML v1.0//EN
CALSCALE:GREGORIAN
METHOD:PUBLISH
X-ORIGINAL-URL:https://www.dmiec.org
X-WR-CALDESC:Events for Des Moines Intentional Eucharistic Community
REFRESH-INTERVAL;VALUE=DURATION:PT1H
X-Robots-Tag:noindex
X-PUBLISHED-TTL:PT1H
BEGIN:VTIMEZONE
TZID:America/Chicago
BEGIN:DAYLIGHT
TZOFFSETFROM:-0600
TZOFFSETTO:-0500
TZNAME:CDT
DTSTART:20190310T080000
END:DAYLIGHT
BEGIN:STANDARD
TZOFFSETFROM:-0500
TZOFFSETTO:-0600
TZNAME:CST
DTSTART:20191103T070000
END:STANDARD
BEGIN:DAYLIGHT
TZOFFSETFROM:-0600
TZOFFSETTO:-0500
TZNAME:CDT
DTSTART:20200308T080000
END:DAYLIGHT
BEGIN:STANDARD
TZOFFSETFROM:-0500
TZOFFSETTO:-0600
TZNAME:CST
DTSTART:20201101T070000
END:STANDARD
BEGIN:DAYLIGHT
TZOFFSETFROM:-0600
TZOFFSETTO:-0500
TZNAME:CDT
DTSTART:20210314T080000
END:DAYLIGHT
BEGIN:STANDARD
TZOFFSETFROM:-0500
TZOFFSETTO:-0600
TZNAME:CST
DTSTART:20211107T070000
END:STANDARD
END:VTIMEZONE
BEGIN:VEVENT
DTSTART;TZID=America/Chicago:20200202T100000
DTEND;TZID=America/Chicago:20200202T110000
DTSTAMP:20260422T042937
CREATED:20191014T170519Z
LAST-MODIFIED:20191212T001930Z
UID:7584-1580637600-1580641200@www.dmiec.org
SUMMARY:Weekly Worship Service
DESCRIPTION:Readings: \n\nAll Saints Year A **Alternate** First Reading\n\nSeventh Sunday in Ordinary Time  Year C  *Alternate* Second Reading\n\nEpiphany of the Lord  Year A *Alternate* First Reading and *Alternate* Psalm (no response)\n\nEpiphany of the Lord  Year A *Alternate* Second Reading\n\nFeast of the Baptism of the Lord  Year A  First Reading (No Psalm)\n\nFeast of the Baptism of the Lord  Year A  Gospel\nVolunteer(s) needed for this event. Click here to sign up.
URL:https://www.dmiec.org/event/weekly-worship-service-2020-2-2/
LOCATION:DMIEC\, 3306 University Avenue\, Des Moines\, IA\, 50311\, United States
CATEGORIES:Weekly Worship Service
ATTACH;FMTTYPE=image/jpeg:https://www.dmiec.org/wp-content/uploads/2018/10/NewWeeklyReading.jpg
GEO:41.6000075;-93.6619278
X-APPLE-STRUCTURED-LOCATION;VALUE=URI;X-ADDRESS=DMIEC 3306 University Avenue Des Moines IA 50311 United States;X-APPLE-RADIUS=500;X-TITLE=3306 University Avenue:geo:-93.6619278,41.6000075
END:VEVENT
BEGIN:VEVENT
DTSTART;TZID=America/Chicago:20200202T103000
DTEND;TZID=America/Chicago:20200202T110000
DTSTAMP:20260422T042938
CREATED:20200121T155935Z
LAST-MODIFIED:20200121T160429Z
UID:10837-1580639400-1580641200@www.dmiec.org
SUMMARY:First Sunday Collection - Faith & Grace Garden
DESCRIPTION:Collection recipient for FEBRUARY 2:  FAITH & GRACE GARDEN \nEstablished in 2001\, Faith & Grace Garden is a one-acre food pantry garden\, meaning all the fruits and vegetables grown in the garden are donated to feed hungry local people. The garden is located in the ‘backyards’ of both St. Timothy’s Episcopal Church and Covenant Presbyterian Church in West Des Moines and can be seen along Ashworth Road. In 2019\, Faith & Grace Garden donated over 12\,700 pounds of fresh organic fruits and vegetables to feed hungry people throughout Polk County. \nLast year\, a large greenhouse was built near the garden to grow food year round. DMIEC funds will be used to help run a waterline to the new greenhouse\, purchase garden supplies\, and start plants as seedlings. \nFor more information about Faith & Grace Garden\, click here. \nDonations may be made in cash or via checks made payable either to “St. Timothy’s Episcopal Church” with “Faith & Grace Garden” in the memo line\, or to “DMIEC.”
URL:https://www.dmiec.org/event/first-sunday-collection-faith-grace-garden/
LOCATION:DMIEC Worship Space
CATEGORIES:Stewardship
END:VEVENT
BEGIN:VEVENT
DTSTART;TZID=America/Chicago:20200209T100000
DTEND;TZID=America/Chicago:20200209T110000
DTSTAMP:20260422T042938
CREATED:20191014T170621Z
LAST-MODIFIED:20200106T220006Z
UID:7586-1581242400-1581246000@www.dmiec.org
SUMMARY:Weekly Worship Service
DESCRIPTION:Readings: \n\nAll Saints Year A **Alternate** First Reading\n\nSeventh Sunday in Ordinary Time  Year C  *Alternate* Second Reading\n\nEpiphany of the Lord  Year A *Alternate* First Reading and *Alternate* Psalm (no response)\n\nEpiphany of the Lord  Year A *Alternate* Second Reading\n\nFeast of the Baptism of the Lord  Year A  First Reading (No Psalm)\n\nFeast of the Baptism of the Lord  Year A  Gospel\nVolunteer(s) needed for this event. Click here to sign up.
URL:https://www.dmiec.org/event/weekly-worship-service-2020-2-9/
LOCATION:DMIEC\, 3306 University Avenue\, Des Moines\, IA\, 50311\, United States
CATEGORIES:Weekly Worship Service
ATTACH;FMTTYPE=image/jpeg:https://www.dmiec.org/wp-content/uploads/2018/10/NewWeeklyReading.jpg
GEO:41.6000075;-93.6619278
X-APPLE-STRUCTURED-LOCATION;VALUE=URI;X-ADDRESS=DMIEC 3306 University Avenue Des Moines IA 50311 United States;X-APPLE-RADIUS=500;X-TITLE=3306 University Avenue:geo:-93.6619278,41.6000075
END:VEVENT
BEGIN:VEVENT
DTSTART;TZID=America/Chicago:20200209T110000
DTEND;TZID=America/Chicago:20200209T120000
DTSTAMP:20260422T042938
CREATED:20200121T033042Z
LAST-MODIFIED:20200201T045356Z
UID:10828-1581246000-1581249600@www.dmiec.org
SUMMARY:Community Conversation
DESCRIPTION:Our periodic Community Conversations afford the opportunity for updates from the Community Council and committees on recent activities and issues\, as well as a way for the community to provide input on matters of interest. All members are invited to stay after our worship service and be part of these important conversations.  For more information\, please contact Donna Dressel  familydressel@gmail.com  (515-313-6184)
URL:https://www.dmiec.org/event/community-conversation-4/
LOCATION:DMIEC Worship Space
CATEGORIES:Community,Governance
ORGANIZER;CN="Donna Dressel":MAILTO:familydressel@gmail.com
END:VEVENT
BEGIN:VEVENT
DTSTART;TZID=America/Chicago:20200210T180000
DTEND;TZID=America/Chicago:20200210T193000
DTSTAMP:20260422T042938
CREATED:20200217T224533Z
LAST-MODIFIED:20200217T224653Z
UID:10923-1581357600-1581363000@www.dmiec.org
SUMMARY:Community Council Meeting
DESCRIPTION:
URL:https://www.dmiec.org/event/community-council-meeting-12/
LOCATION:DMIEC Library
CATEGORIES:Committees,Community,Governance
ORGANIZER;CN="Donna Dressel":MAILTO:familydressel@gmail.com
END:VEVENT
BEGIN:VEVENT
DTSTART;TZID=America/Chicago:20200216T100000
DTEND;TZID=America/Chicago:20200216T110000
DTSTAMP:20260422T042938
CREATED:20191014T170710Z
LAST-MODIFIED:20200213T202655Z
UID:7588-1581847200-1581850800@www.dmiec.org
SUMMARY:Weekly Worship Service
DESCRIPTION:Readings: \n\nAll Saints Year A **Alternate** First Reading\n\nSeventh Sunday in Ordinary Time  Year C  *Alternate* Second Reading\n\nEpiphany of the Lord  Year A *Alternate* First Reading and *Alternate* Psalm (no response)\n\nEpiphany of the Lord  Year A *Alternate* Second Reading\n\nFeast of the Baptism of the Lord  Year A  First Reading (No Psalm)\n\nFeast of the Baptism of the Lord  Year A  Gospel\nVolunteer(s) needed for this event. Click here to sign up.
URL:https://www.dmiec.org/event/weekly-worship-service-2020-2-16/
LOCATION:DMIEC\, 3306 University Avenue\, Des Moines\, IA\, 50311\, United States
CATEGORIES:Weekly Worship Service
ATTACH;FMTTYPE=image/jpeg:https://www.dmiec.org/wp-content/uploads/2018/10/NewWeeklyReading.jpg
GEO:41.6000075;-93.6619278
X-APPLE-STRUCTURED-LOCATION;VALUE=URI;X-ADDRESS=DMIEC 3306 University Avenue Des Moines IA 50311 United States;X-APPLE-RADIUS=500;X-TITLE=3306 University Avenue:geo:-93.6619278,41.6000075
END:VEVENT
BEGIN:VEVENT
DTSTART;TZID=America/Chicago:20200216T103000
DTEND;TZID=America/Chicago:20200216T110000
DTSTAMP:20260422T042938
CREATED:20200213T015630Z
LAST-MODIFIED:20200213T015804Z
UID:10880-1581849000-1581850800@www.dmiec.org
SUMMARY:
DESCRIPTION:Every third Sunday is DMARC Emergency Food Pantries Sunday.  \nEnvelopes will be available for donations to the Des Moines Area Religious Council’s Emergency Food Pantries at our February 16 worship service.  Please write checks to “DMARC\,”  place cash in our specially designated envelopes and add to the collection basket\, or feel free to take an envelope home and make a donation directly to DMARC. \nFor more information\, please visit the DMARC Food Pantries website  https://www.dmarcunited.org/food/
URL:https://www.dmiec.org/event/10880/
LOCATION:DMIEC\, 3306 University Avenue\, Des Moines\, IA\, 50311\, United States
CATEGORIES:Stewardship
GEO:41.6000075;-93.6619278
X-APPLE-STRUCTURED-LOCATION;VALUE=URI;X-ADDRESS=DMIEC 3306 University Avenue Des Moines IA 50311 United States;X-APPLE-RADIUS=500;X-TITLE=3306 University Avenue:geo:-93.6619278,41.6000075
END:VEVENT
BEGIN:VEVENT
DTSTART;TZID=America/Chicago:20200216T111500
DTEND;TZID=America/Chicago:20200216T114500
DTSTAMP:20260422T042938
CREATED:20200115T213649Z
LAST-MODIFIED:20200201T045623Z
UID:9928-1581851700-1581853500@www.dmiec.org
SUMMARY:State Legislative Updates and Discussion
DESCRIPTION:Led by veteran Iowa Statehouse observer\, Bob Mulqueen\, participants learn about and discuss recent legislative proposals and developments affecting social justice issues in Iowa.
URL:https://www.dmiec.org/event/state-legislative-updates-and-discussion-2-2020-02-09/
LOCATION:DMIEC Library
CATEGORIES:Lectures & Presentations
END:VEVENT
BEGIN:VEVENT
DTSTART;TZID=America/Chicago:20200223T100000
DTEND;TZID=America/Chicago:20200223T110000
DTSTAMP:20260422T042938
CREATED:20191014T170803Z
LAST-MODIFIED:20200107T130214Z
UID:7590-1582452000-1582455600@www.dmiec.org
SUMMARY:Weekly Worship Service
DESCRIPTION:Readings: \n\nAll Saints Year A **Alternate** First Reading\n\nSeventh Sunday in Ordinary Time  Year C  *Alternate* Second Reading\n\nEpiphany of the Lord  Year A *Alternate* First Reading and *Alternate* Psalm (no response)\n\nEpiphany of the Lord  Year A *Alternate* Second Reading\n\nFeast of the Baptism of the Lord  Year A  First Reading (No Psalm)\n\nFeast of the Baptism of the Lord  Year A  Gospel\nVolunteer(s) needed for this event. Click here to sign up.
URL:https://www.dmiec.org/event/weekly-worship-service-2020-2-23/
LOCATION:DMIEC\, 3306 University Avenue\, Des Moines\, IA\, 50311\, United States
CATEGORIES:Weekly Worship Service
ATTACH;FMTTYPE=image/jpeg:https://www.dmiec.org/wp-content/uploads/2018/10/NewWeeklyReading.jpg
GEO:41.6000075;-93.6619278
X-APPLE-STRUCTURED-LOCATION;VALUE=URI;X-ADDRESS=DMIEC 3306 University Avenue Des Moines IA 50311 United States;X-APPLE-RADIUS=500;X-TITLE=3306 University Avenue:geo:-93.6619278,41.6000075
END:VEVENT
BEGIN:VEVENT
DTSTART;TZID=America/Chicago:20200223T110000
DTEND;TZID=America/Chicago:20200223T113000
DTSTAMP:20260422T042938
CREATED:20191031T162459Z
LAST-MODIFIED:20191226T165335Z
UID:7787-1582455600-1582457400@www.dmiec.org
SUMMARY:Exploring DMIEC's Website - A Presentation by David Wright
DESCRIPTION:Need Help Maneuvering Our  dmiec.org  Website? \nAfter the conclusion of our February 23rd Sunday worship service\, David Wright will take us on a walk through the revamped website.  If you aren’t already using it\, aren’t sure what’s on the site\, or just want to see if there’s anything you’ve overlooked\, please plan to stay after the service to attend David’s presentation.
URL:https://www.dmiec.org/event/exploring-dmiecs-website-a-presentation-by-david-wright/
LOCATION:DMIEC Worship Space
CATEGORIES:Lectures & Presentations
ORGANIZER;CN="Jim Fifield":MAILTO:dmiec11@gmail.com
END:VEVENT
BEGIN:VEVENT
DTSTART;TZID=America/Chicago:20200226T190000
DTEND;TZID=America/Chicago:20200226T200000
DTSTAMP:20260422T042938
CREATED:20191014T170909Z
LAST-MODIFIED:20200225T151557Z
UID:7592-1582743600-1582747200@www.dmiec.org
SUMMARY:Ash Wednesday Prayer Service
DESCRIPTION:Readings: \n\nAll Saints Year A **Alternate** First Reading\n\nSeventh Sunday in Ordinary Time  Year C  *Alternate* Second Reading\n\nEpiphany of the Lord  Year A *Alternate* First Reading and *Alternate* Psalm (no response)\n\nEpiphany of the Lord  Year A *Alternate* Second Reading\n\nFeast of the Baptism of the Lord  Year A  First Reading (No Psalm)\n\nFeast of the Baptism of the Lord  Year A  Gospel
URL:https://www.dmiec.org/event/weekly-worship-service-2020-2-26/
LOCATION:DMIEC\, 3306 University Avenue\, Des Moines\, IA\, 50311\, United States
CATEGORIES:Ash Wednesday,Special Worship Service
ATTACH;FMTTYPE=image/jpeg:https://www.dmiec.org/wp-content/uploads/2018/10/NewWeeklyReading.jpg
GEO:41.6000075;-93.6619278
X-APPLE-STRUCTURED-LOCATION;VALUE=URI;X-ADDRESS=DMIEC 3306 University Avenue Des Moines IA 50311 United States;X-APPLE-RADIUS=500;X-TITLE=3306 University Avenue:geo:-93.6619278,41.6000075
END:VEVENT
BEGIN:VEVENT
DTSTART;TZID=America/Chicago:20200228T173000
DTEND;TZID=America/Chicago:20200228T193000
DTSTAMP:20260422T042938
CREATED:20191211T025608Z
LAST-MODIFIED:20191211T025751Z
UID:8739-1582911000-1582918200@www.dmiec.org
SUMMARY:Serve Shelter Meal
DESCRIPTION:Please join us for our next opportunity to help provide a meal at Central Iowa Shelter and Services\, 1420 Mulberry Street in Des Moines.  The food will arrive already prepared from the Johnston Hy-Vee. Volunteers needed to assist in serving and hospitality/fellowship. We need several volunteers to be available about 5:30 p.m. and everyone else to arrive by 6:00 p.m. so we can make assignments\, get the foods set up\, and be ready to serve at 6:30. Serving will be completed about 7:30 p.m.. The shelter staff handles cleanup. \nIf you sign up as a volunteer and are interested in carpooling\, please also let us know on the sign-up sheet if you need\, or are willing to offer\, a ride from the DMIEC parking lot.  Otherwise\, please show up at the shelter (1420 Mulberry) at your scheduled time. Thanks! \nQuestions?  Contact Kathy Eastman at keastman33@gmail.com or 515-255-7885 \nTo volunteer\, click here.
URL:https://www.dmiec.org/event/serve-shelter-meal-3/
LOCATION:Central Iowa Shelter and Services\, 1420 Mulberry St\, Des Moines\, IA\, United States
CATEGORIES:Community Service Activities
ORGANIZER;CN="Kathy Eastman":MAILTO:keastman33@gmail.com
END:VEVENT
END:VCALENDAR