BEGIN:VCALENDAR
VERSION:2.0
PRODID:-//Des Moines Intentional Eucharistic Community - ECPv6.15.13.1//NONSGML v1.0//EN
CALSCALE:GREGORIAN
METHOD:PUBLISH
X-ORIGINAL-URL:https://www.dmiec.org
X-WR-CALDESC:Events for Des Moines Intentional Eucharistic Community
REFRESH-INTERVAL;VALUE=DURATION:PT1H
X-Robots-Tag:noindex
X-PUBLISHED-TTL:PT1H
BEGIN:VTIMEZONE
TZID:America/Chicago
BEGIN:DAYLIGHT
TZOFFSETFROM:-0600
TZOFFSETTO:-0500
TZNAME:CDT
DTSTART:20190310T080000
END:DAYLIGHT
BEGIN:STANDARD
TZOFFSETFROM:-0500
TZOFFSETTO:-0600
TZNAME:CST
DTSTART:20191103T070000
END:STANDARD
BEGIN:DAYLIGHT
TZOFFSETFROM:-0600
TZOFFSETTO:-0500
TZNAME:CDT
DTSTART:20200308T080000
END:DAYLIGHT
BEGIN:STANDARD
TZOFFSETFROM:-0500
TZOFFSETTO:-0600
TZNAME:CST
DTSTART:20201101T070000
END:STANDARD
BEGIN:DAYLIGHT
TZOFFSETFROM:-0600
TZOFFSETTO:-0500
TZNAME:CDT
DTSTART:20210314T080000
END:DAYLIGHT
BEGIN:STANDARD
TZOFFSETFROM:-0500
TZOFFSETTO:-0600
TZNAME:CST
DTSTART:20211107T070000
END:STANDARD
END:VTIMEZONE
BEGIN:VEVENT
DTSTART;TZID=America/Chicago:20200105T100000
DTEND;TZID=America/Chicago:20200105T110000
DTSTAMP:20260422T055555
CREATED:20191014T170057Z
LAST-MODIFIED:20191212T001616Z
UID:7576-1578218400-1578222000@www.dmiec.org
SUMMARY:Weekly Worship Service
DESCRIPTION:Readings: \n\nAll Saints Year A **Alternate** First Reading\n\nSeventh Sunday in Ordinary Time  Year C  *Alternate* Second Reading\n\nEpiphany of the Lord  Year A *Alternate* First Reading and *Alternate* Psalm (no response)\n\nEpiphany of the Lord  Year A *Alternate* Second Reading\n\nFeast of the Baptism of the Lord  Year A  First Reading (No Psalm)\n\nFeast of the Baptism of the Lord  Year A  Gospel\nVolunteer(s) needed for this event. Click here to sign up.
URL:https://www.dmiec.org/event/weekly-worship-service-2020-1-5/
LOCATION:DMIEC\, 3306 University Avenue\, Des Moines\, IA\, 50311\, United States
CATEGORIES:Weekly Worship Service
ATTACH;FMTTYPE=image/jpeg:https://www.dmiec.org/wp-content/uploads/2018/10/NewWeeklyReading.jpg
GEO:41.6000075;-93.6619278
X-APPLE-STRUCTURED-LOCATION;VALUE=URI;X-ADDRESS=DMIEC 3306 University Avenue Des Moines IA 50311 United States;X-APPLE-RADIUS=500;X-TITLE=3306 University Avenue:geo:-93.6619278,41.6000075
END:VEVENT
BEGIN:VEVENT
DTSTART;TZID=America/Chicago:20200112T100000
DTEND;TZID=America/Chicago:20200112T110000
DTSTAMP:20260422T055555
CREATED:20191014T170154Z
LAST-MODIFIED:20191212T001658Z
UID:7578-1578823200-1578826800@www.dmiec.org
SUMMARY:Weekly Worship Service
DESCRIPTION:Readings: \n\nAll Saints Year A **Alternate** First Reading\n\nSeventh Sunday in Ordinary Time  Year C  *Alternate* Second Reading\n\nEpiphany of the Lord  Year A *Alternate* First Reading and *Alternate* Psalm (no response)\n\nEpiphany of the Lord  Year A *Alternate* Second Reading\n\nFeast of the Baptism of the Lord  Year A  First Reading (No Psalm)\n\nFeast of the Baptism of the Lord  Year A  Gospel\nVolunteer(s) needed for this event. Click here to sign up.
URL:https://www.dmiec.org/event/weekly-worship-service-2020-1-12/
LOCATION:DMIEC\, 3306 University Avenue\, Des Moines\, IA\, 50311\, United States
CATEGORIES:Weekly Worship Service
ATTACH;FMTTYPE=image/jpeg:https://www.dmiec.org/wp-content/uploads/2018/10/NewWeeklyReading.jpg
GEO:41.6000075;-93.6619278
X-APPLE-STRUCTURED-LOCATION;VALUE=URI;X-ADDRESS=DMIEC 3306 University Avenue Des Moines IA 50311 United States;X-APPLE-RADIUS=500;X-TITLE=3306 University Avenue:geo:-93.6619278,41.6000075
END:VEVENT
BEGIN:VEVENT
DTSTART;TZID=America/Chicago:20200113T180000
DTEND;TZID=America/Chicago:20200113T190000
DTSTAMP:20260422T055555
CREATED:20191114T153925Z
LAST-MODIFIED:20191216T200005Z
UID:7976-1578938400-1578942000@www.dmiec.org
SUMMARY:Community Council Meeting
DESCRIPTION:DMIEC’s Community Council meets monthly in the DMIEC Library.  All members are welcome to attend.  For more information\, please contact Council Secretary Jim Fifield at dmiec11@gmail.com 
URL:https://www.dmiec.org/event/community-council-meeting-10/
LOCATION:DMIEC Library
CATEGORIES:Committees,Governance
ORGANIZER;CN="Donna Dressel":MAILTO:familydressel@gmail.com
END:VEVENT
BEGIN:VEVENT
DTSTART;TZID=America/Chicago:20200119T100000
DTEND;TZID=America/Chicago:20200119T110000
DTSTAMP:20260422T055555
CREATED:20191014T170303Z
LAST-MODIFIED:20191212T001758Z
UID:7580-1579428000-1579431600@www.dmiec.org
SUMMARY:Weekly Worship Service
DESCRIPTION:Readings: \n\nAll Saints Year A **Alternate** First Reading\n\nSeventh Sunday in Ordinary Time  Year C  *Alternate* Second Reading\n\nEpiphany of the Lord  Year A *Alternate* First Reading and *Alternate* Psalm (no response)\n\nEpiphany of the Lord  Year A *Alternate* Second Reading\n\nFeast of the Baptism of the Lord  Year A  First Reading (No Psalm)\n\nFeast of the Baptism of the Lord  Year A  Gospel\nVolunteer(s) needed for this event. Click here to sign up.
URL:https://www.dmiec.org/event/weekly-worship-service-2020-1-19/
LOCATION:DMIEC\, 3306 University Avenue\, Des Moines\, IA\, 50311\, United States
CATEGORIES:Weekly Worship Service
ATTACH;FMTTYPE=image/jpeg:https://www.dmiec.org/wp-content/uploads/2018/10/NewWeeklyReading.jpg
GEO:41.6000075;-93.6619278
X-APPLE-STRUCTURED-LOCATION;VALUE=URI;X-ADDRESS=DMIEC 3306 University Avenue Des Moines IA 50311 United States;X-APPLE-RADIUS=500;X-TITLE=3306 University Avenue:geo:-93.6619278,41.6000075
END:VEVENT
BEGIN:VEVENT
DTSTART;TZID=America/Chicago:20200119T103000
DTEND;TZID=America/Chicago:20200119T110000
DTSTAMP:20260422T055555
CREATED:20200112T222603Z
LAST-MODIFIED:20200112T222818Z
UID:8949-1579429800-1579431600@www.dmiec.org
SUMMARY:DMARC Emergency Food Pantries Sunday Special Collection
DESCRIPTION:Every third Sunday is DMARC Emergency Food Pantries Sunday.  \nEnvelopes will be available for donations to the Des Moines Area Religious Council’s Emergency Food Pantries at our January 19 worship service.  Please write checks to “DMARC\,”  place cash in our specially designated envelopes and add to the collection basket\, or feel free to take an envelope home and make a donation directly to DMARC. \nFor more information\, please visit the DMARC Food Pantries website  https://www.dmarcunited.org/food/
URL:https://www.dmiec.org/event/dmarc-emergency-food-pantries-sunday-special-collection-3/
LOCATION:DMIEC\, 3306 University Avenue\, Des Moines\, IA\, 50311\, United States
CATEGORIES:Stewardship
GEO:41.6000075;-93.6619278
X-APPLE-STRUCTURED-LOCATION;VALUE=URI;X-ADDRESS=DMIEC 3306 University Avenue Des Moines IA 50311 United States;X-APPLE-RADIUS=500;X-TITLE=3306 University Avenue:geo:-93.6619278,41.6000075
END:VEVENT
BEGIN:VEVENT
DTSTART;TZID=America/Chicago:20200126T100000
DTEND;TZID=America/Chicago:20200126T110000
DTSTAMP:20260422T055555
CREATED:20191014T170408Z
LAST-MODIFIED:20191212T001847Z
UID:7582-1580032800-1580036400@www.dmiec.org
SUMMARY:Weekly Worship Service
DESCRIPTION:Readings: \n\nAll Saints Year A **Alternate** First Reading\n\nSeventh Sunday in Ordinary Time  Year C  *Alternate* Second Reading\n\nEpiphany of the Lord  Year A *Alternate* First Reading and *Alternate* Psalm (no response)\n\nEpiphany of the Lord  Year A *Alternate* Second Reading\n\nFeast of the Baptism of the Lord  Year A  First Reading (No Psalm)\n\nFeast of the Baptism of the Lord  Year A  Gospel\nVolunteer(s) needed for this event. Click here to sign up.
URL:https://www.dmiec.org/event/weekly-worship-service-2020-1-26/
LOCATION:DMIEC\, 3306 University Avenue\, Des Moines\, IA\, 50311\, United States
CATEGORIES:Weekly Worship Service
ATTACH;FMTTYPE=image/jpeg:https://www.dmiec.org/wp-content/uploads/2018/10/NewWeeklyReading.jpg
GEO:41.6000075;-93.6619278
X-APPLE-STRUCTURED-LOCATION;VALUE=URI;X-ADDRESS=DMIEC 3306 University Avenue Des Moines IA 50311 United States;X-APPLE-RADIUS=500;X-TITLE=3306 University Avenue:geo:-93.6619278,41.6000075
END:VEVENT
BEGIN:VEVENT
DTSTART;TZID=America/Chicago:20200126T111500
DTEND;TZID=America/Chicago:20200126T114500
DTSTAMP:20260422T055555
CREATED:20200115T213649Z
LAST-MODIFIED:20200115T214523Z
UID:9923-1580037300-1580039100@www.dmiec.org
SUMMARY:State Legislative Updates and Discussion
DESCRIPTION:Led by veteran Iowa Statehouse observer\, Bob Mulqueen\, participants learn about and discuss recent legislative proposals and developments affecting social justice issues in Iowa.
URL:https://www.dmiec.org/event/state-legislative-updates-and-discussion-2/2020-01-26/
LOCATION:DMIEC Library
CATEGORIES:Lectures & Presentations
END:VEVENT
END:VCALENDAR