BEGIN:VCALENDAR
VERSION:2.0
PRODID:-//Des Moines Intentional Eucharistic Community - ECPv6.15.13.1//NONSGML v1.0//EN
CALSCALE:GREGORIAN
METHOD:PUBLISH
X-ORIGINAL-URL:https://www.dmiec.org
X-WR-CALDESC:Events for Des Moines Intentional Eucharistic Community
REFRESH-INTERVAL;VALUE=DURATION:PT1H
X-Robots-Tag:noindex
X-PUBLISHED-TTL:PT1H
BEGIN:VTIMEZONE
TZID:America/Chicago
BEGIN:DAYLIGHT
TZOFFSETFROM:-0600
TZOFFSETTO:-0500
TZNAME:CDT
DTSTART:20180311T080000
END:DAYLIGHT
BEGIN:STANDARD
TZOFFSETFROM:-0500
TZOFFSETTO:-0600
TZNAME:CST
DTSTART:20181104T070000
END:STANDARD
BEGIN:DAYLIGHT
TZOFFSETFROM:-0600
TZOFFSETTO:-0500
TZNAME:CDT
DTSTART:20190310T080000
END:DAYLIGHT
BEGIN:STANDARD
TZOFFSETFROM:-0500
TZOFFSETTO:-0600
TZNAME:CST
DTSTART:20191103T070000
END:STANDARD
BEGIN:DAYLIGHT
TZOFFSETFROM:-0600
TZOFFSETTO:-0500
TZNAME:CDT
DTSTART:20200308T080000
END:DAYLIGHT
BEGIN:STANDARD
TZOFFSETFROM:-0500
TZOFFSETTO:-0600
TZNAME:CST
DTSTART:20201101T070000
END:STANDARD
END:VTIMEZONE
BEGIN:VEVENT
DTSTART;TZID=America/Chicago:20191201T100000
DTEND;TZID=America/Chicago:20191201T110000
DTSTAMP:20260422T072534
CREATED:20191014T165252Z
LAST-MODIFIED:20191021T191832Z
UID:7561-1575194400-1575198000@www.dmiec.org
SUMMARY:Weekly Worship Service
DESCRIPTION:Readings: \n\nAll Saints Year A **Alternate** First Reading\n\nSeventh Sunday in Ordinary Time  Year C  *Alternate* Second Reading\n\nEpiphany of the Lord  Year A *Alternate* First Reading and *Alternate* Psalm (no response)\n\nEpiphany of the Lord  Year A *Alternate* Second Reading\n\nFeast of the Baptism of the Lord  Year A  First Reading (No Psalm)\n\nFeast of the Baptism of the Lord  Year A  Gospel\nVolunteer(s) needed for this event. Click here to sign up.
URL:https://www.dmiec.org/event/weekly-worship-service-2019-12-1/
LOCATION:DMIEC\, 3306 University Avenue\, Des Moines\, IA\, 50311\, United States
CATEGORIES:Weekly Worship Service
ATTACH;FMTTYPE=image/jpeg:https://www.dmiec.org/wp-content/uploads/2018/10/NewWeeklyReading.jpg
GEO:41.6000075;-93.6619278
X-APPLE-STRUCTURED-LOCATION;VALUE=URI;X-ADDRESS=DMIEC 3306 University Avenue Des Moines IA 50311 United States;X-APPLE-RADIUS=500;X-TITLE=3306 University Avenue:geo:-93.6619278,41.6000075
END:VEVENT
BEGIN:VEVENT
DTSTART;TZID=America/Chicago:20191201T103000
DTEND;TZID=America/Chicago:20191201T110000
DTSTAMP:20260422T072534
CREATED:20191118T174014Z
LAST-MODIFIED:20191118T190240Z
UID:8221-1575196200-1575198000@www.dmiec.org
SUMMARY:First Sunday Collection - Anawim's "Women Empowering Families"
DESCRIPTION:Since 1987\, Anawim Housing has been building homes\, hope\, and community. From its start—as a vision of Sister Stella Neill and a group of community activists—Anawim Housing has been a leading provider of safe\, affordable housing in Des Moines. Today\, Anawim Housing serves over 380 individuals who have experienced homelessness in their Permanent Supportive Housing programs and is home to over 1\,200 individuals who live in Anawim owned properties. Founded by two passionate board members\, the Women Empowering Families group has inspired hundreds of women across central Iowa to support and empower the people who call Anawim Housing home.  Every year\, this group raises money and collects household items so that each person that comes to Anawim can focus on reaching their full potential. The warm welcome of Women Empowering Families gives the households Anawim serves the resources and opportunity they need to make their house a home.  For more information\, click here. \nDonations may be made in cash or via checks made payable to either “Women Empowering Families\, Anawim Housing” or “DMIEC”
URL:https://www.dmiec.org/event/first-sunday-collection-anawims-women-empowering-families/
LOCATION:DMIEC\, 3306 University Avenue\, Des Moines\, IA\, 50311\, United States
CATEGORIES:Stewardship
GEO:41.6000075;-93.6619278
X-APPLE-STRUCTURED-LOCATION;VALUE=URI;X-ADDRESS=DMIEC 3306 University Avenue Des Moines IA 50311 United States;X-APPLE-RADIUS=500;X-TITLE=3306 University Avenue:geo:-93.6619278,41.6000075
END:VEVENT
BEGIN:VEVENT
DTSTART;TZID=America/Chicago:20191204T190000
DTEND;TZID=America/Chicago:20191204T200000
DTSTAMP:20260422T072534
CREATED:20191029T021719Z
LAST-MODIFIED:20191122T151318Z
UID:7777-1575486000-1575489600@www.dmiec.org
SUMMARY:Advent Prayer Service
DESCRIPTION:In this season\, more than any other\, we are aware of our longing for God’s peace among us.  Come pray and sing your longing. Our Advent service will offer time to pray\, to think\, to reflect\, and to sing.
URL:https://www.dmiec.org/event/advent-prayer-service/
LOCATION:DMIEC Worship Space
CATEGORIES:Special Worship Service
ORGANIZER;CN="Lisa Mullen":MAILTO:lisajm28@gmail.com
END:VEVENT
BEGIN:VEVENT
DTSTART;TZID=America/Chicago:20191206T183000
DTEND;TZID=America/Chicago:20191206T220000
DTSTAMP:20260422T072534
CREATED:20191031T182041Z
LAST-MODIFIED:20191031T182041Z
UID:7789-1575657000-1575669600@www.dmiec.org
SUMMARY:
DESCRIPTION:DMIEC Tenth Anniversary Wine & Cheese Celebration
URL:https://www.dmiec.org/event/7789/
LOCATION:DMIEC\, 3306 University Avenue\, Des Moines\, IA\, 50311\, United States
CATEGORIES:Community
GEO:41.6000075;-93.6619278
X-APPLE-STRUCTURED-LOCATION;VALUE=URI;X-ADDRESS=DMIEC 3306 University Avenue Des Moines IA 50311 United States;X-APPLE-RADIUS=500;X-TITLE=3306 University Avenue:geo:-93.6619278,41.6000075
END:VEVENT
BEGIN:VEVENT
DTSTART;TZID=America/Chicago:20191206T183000
DTEND;TZID=America/Chicago:20191206T220000
DTSTAMP:20260422T072534
CREATED:20191105T205619Z
LAST-MODIFIED:20191112T200531Z
UID:7233-1575657000-1575669600@www.dmiec.org
SUMMARY:DMIEC 10th Anniversary - "A Toast to Ten" Wine and Cheese Party
DESCRIPTION:Fellowship and Feasting!\nA Toast To Ten Years: Raise a glass to DMIEC’s 10th anniversary and join DMIEC members\, volunteers and friends from along our community’s journey in a festive celebration Friday\, December 6\, 2019\,6:30 p.m. at DMIEC: Enjoy savory nibbles\, suitable adult beverages\, and a celebration cake along with warm fellowship. Please sign up here if you think you’ll attend\, so we can plan accordingly.
URL:https://www.dmiec.org/event/dmiec-10th-anniversary-a-toast-to-ten-wine-and-cheese-party/
LOCATION:DMIEC\, 3306 University Avenue\, Des Moines\, IA\, 50311\, United States
CATEGORIES:Community
GEO:41.6000075;-93.6619278
X-APPLE-STRUCTURED-LOCATION;VALUE=URI;X-ADDRESS=DMIEC 3306 University Avenue Des Moines IA 50311 United States;X-APPLE-RADIUS=500;X-TITLE=3306 University Avenue:geo:-93.6619278,41.6000075
END:VEVENT
BEGIN:VEVENT
DTSTART;TZID=America/Chicago:20191208T100000
DTEND;TZID=America/Chicago:20191208T110000
DTSTAMP:20260422T072534
CREATED:20191014T165506Z
LAST-MODIFIED:20191021T191932Z
UID:7565-1575799200-1575802800@www.dmiec.org
SUMMARY:Weekly Worship Service
DESCRIPTION:Readings: \n\nAll Saints Year A **Alternate** First Reading\n\nSeventh Sunday in Ordinary Time  Year C  *Alternate* Second Reading\n\nEpiphany of the Lord  Year A *Alternate* First Reading and *Alternate* Psalm (no response)\n\nEpiphany of the Lord  Year A *Alternate* Second Reading\n\nFeast of the Baptism of the Lord  Year A  First Reading (No Psalm)\n\nFeast of the Baptism of the Lord  Year A  Gospel\nVolunteer(s) needed for this event. Click here to sign up.
URL:https://www.dmiec.org/event/weekly-worship-service-2019-12-8/
LOCATION:DMIEC\, 3306 University Avenue\, Des Moines\, IA\, 50311\, United States
CATEGORIES:Weekly Worship Service
ATTACH;FMTTYPE=image/jpeg:https://www.dmiec.org/wp-content/uploads/2018/10/NewWeeklyReading.jpg
GEO:41.6000075;-93.6619278
X-APPLE-STRUCTURED-LOCATION;VALUE=URI;X-ADDRESS=DMIEC 3306 University Avenue Des Moines IA 50311 United States;X-APPLE-RADIUS=500;X-TITLE=3306 University Avenue:geo:-93.6619278,41.6000075
END:VEVENT
BEGIN:VEVENT
DTSTART;TZID=America/Chicago:20191211T153000
DTEND;TZID=America/Chicago:20191211T173000
DTSTAMP:20260422T072534
CREATED:20191201T134748Z
LAST-MODIFIED:20191201T134748Z
UID:8476-1576078200-1576085400@www.dmiec.org
SUMMARY:Liturgy Committee Planning Meeting
DESCRIPTION:The Liturgy Committee meets regularly to discuss and plan DMIEC’s weekly and special worship services.  Please contact Julie Powell-Mohr for more information. julpowell@aol.com  (515-255-3789)
URL:https://www.dmiec.org/event/liturgy-committee-planning-meeting-4/
LOCATION:DMIEC\, 3306 University Avenue\, Des Moines\, IA\, 50311\, United States
CATEGORIES:Committees
ORGANIZER;CN="Julie Powell-Mohr":MAILTO:julpowell@aol.com
GEO:41.6000075;-93.6619278
X-APPLE-STRUCTURED-LOCATION;VALUE=URI;X-ADDRESS=DMIEC 3306 University Avenue Des Moines IA 50311 United States;X-APPLE-RADIUS=500;X-TITLE=3306 University Avenue:geo:-93.6619278,41.6000075
END:VEVENT
BEGIN:VEVENT
DTSTART;TZID=America/Chicago:20191214T090000
DTEND;TZID=America/Chicago:20191214T120000
DTSTAMP:20260422T072534
CREATED:20191009T015625Z
LAST-MODIFIED:20191210T173810Z
UID:7354-1576314000-1576324800@www.dmiec.org
SUMMARY:Advent Morning of Reflection: Birthing Hope
DESCRIPTION:Take time out for this retreat morning using the Trinitarian Prayer Model: silent meditation\, reflective journaling\, and sharing. Advent booklet provided for meditation. Bring a journal if you wish. Coffee and tea available. Otherwise bring your own drink. RSVP by signing the clipboard at DMIEC\, or phone 230-8410. Facilitators:  Mary Ann Koch\, Lou Ann Burkle\, and Kris Wells.
URL:https://www.dmiec.org/event/advent-retreat/
LOCATION:DMIEC\, 3306 University Avenue\, Des Moines\, IA\, 50311\, United States
CATEGORIES:Prayer,Special Worship Service
GEO:41.6000075;-93.6619278
X-APPLE-STRUCTURED-LOCATION;VALUE=URI;X-ADDRESS=DMIEC 3306 University Avenue Des Moines IA 50311 United States;X-APPLE-RADIUS=500;X-TITLE=3306 University Avenue:geo:-93.6619278,41.6000075
END:VEVENT
BEGIN:VEVENT
DTSTART;TZID=America/Chicago:20191215T100000
DTEND;TZID=America/Chicago:20191215T110000
DTSTAMP:20260422T072534
CREATED:20191014T165708Z
LAST-MODIFIED:20191021T192025Z
UID:7567-1576404000-1576407600@www.dmiec.org
SUMMARY:Weekly Worship Service
DESCRIPTION:Readings: \n\nAll Saints Year A **Alternate** First Reading\n\nSeventh Sunday in Ordinary Time  Year C  *Alternate* Second Reading\n\nEpiphany of the Lord  Year A *Alternate* First Reading and *Alternate* Psalm (no response)\n\nEpiphany of the Lord  Year A *Alternate* Second Reading\n\nFeast of the Baptism of the Lord  Year A  First Reading (No Psalm)\n\nFeast of the Baptism of the Lord  Year A  Gospel\nVolunteer(s) needed for this event. Click here to sign up.
URL:https://www.dmiec.org/event/weekly-worship-service-2019-12-15/
LOCATION:DMIEC\, 3306 University Avenue\, Des Moines\, IA\, 50311\, United States
CATEGORIES:Weekly Worship Service
ATTACH;FMTTYPE=image/jpeg:https://www.dmiec.org/wp-content/uploads/2018/10/NewWeeklyReading.jpg
GEO:41.6000075;-93.6619278
X-APPLE-STRUCTURED-LOCATION;VALUE=URI;X-ADDRESS=DMIEC 3306 University Avenue Des Moines IA 50311 United States;X-APPLE-RADIUS=500;X-TITLE=3306 University Avenue:geo:-93.6619278,41.6000075
END:VEVENT
BEGIN:VEVENT
DTSTART;TZID=America/Chicago:20191222T100000
DTEND;TZID=America/Chicago:20191222T110000
DTSTAMP:20260422T072534
CREATED:20191014T165804Z
LAST-MODIFIED:20191021T192134Z
UID:7569-1577008800-1577012400@www.dmiec.org
SUMMARY:Weekly Worship Service
DESCRIPTION:Readings: \n\nAll Saints Year A **Alternate** First Reading\n\nSeventh Sunday in Ordinary Time  Year C  *Alternate* Second Reading\n\nEpiphany of the Lord  Year A *Alternate* First Reading and *Alternate* Psalm (no response)\n\nEpiphany of the Lord  Year A *Alternate* Second Reading\n\nFeast of the Baptism of the Lord  Year A  First Reading (No Psalm)\n\nFeast of the Baptism of the Lord  Year A  Gospel\nVolunteer(s) needed for this event. Click here to sign up.
URL:https://www.dmiec.org/event/weekly-worship-service-2019-12-22/
LOCATION:DMIEC\, 3306 University Avenue\, Des Moines\, IA\, 50311\, United States
CATEGORIES:Weekly Worship Service
ATTACH;FMTTYPE=image/jpeg:https://www.dmiec.org/wp-content/uploads/2018/10/NewWeeklyReading.jpg
GEO:41.6000075;-93.6619278
X-APPLE-STRUCTURED-LOCATION;VALUE=URI;X-ADDRESS=DMIEC 3306 University Avenue Des Moines IA 50311 United States;X-APPLE-RADIUS=500;X-TITLE=3306 University Avenue:geo:-93.6619278,41.6000075
END:VEVENT
BEGIN:VEVENT
DTSTART;TZID=America/Chicago:20191224T170000
DTEND;TZID=America/Chicago:20191224T180000
DTSTAMP:20260422T072534
CREATED:20191014T165856Z
LAST-MODIFIED:20191205T212254Z
UID:7571-1577206800-1577210400@www.dmiec.org
SUMMARY:Christmas Eve Worship Service
DESCRIPTION:Readings: \n\nAll Saints Year A **Alternate** First Reading\n\nSeventh Sunday in Ordinary Time  Year C  *Alternate* Second Reading\n\nEpiphany of the Lord  Year A *Alternate* First Reading and *Alternate* Psalm (no response)\n\nEpiphany of the Lord  Year A *Alternate* Second Reading\n\nFeast of the Baptism of the Lord  Year A  First Reading (No Psalm)\n\nFeast of the Baptism of the Lord  Year A  Gospel\nVolunteer(s) needed for this event. Click here to sign up.
URL:https://www.dmiec.org/event/weekly-worship-service-2019-12-24/
LOCATION:DMIEC\, 3306 University Avenue\, Des Moines\, IA\, 50311\, United States
CATEGORIES:Weekly Worship Service
ATTACH;FMTTYPE=image/jpeg:https://www.dmiec.org/wp-content/uploads/2018/10/NewWeeklyReading.jpg
GEO:41.6000075;-93.6619278
X-APPLE-STRUCTURED-LOCATION;VALUE=URI;X-ADDRESS=DMIEC 3306 University Avenue Des Moines IA 50311 United States;X-APPLE-RADIUS=500;X-TITLE=3306 University Avenue:geo:-93.6619278,41.6000075
END:VEVENT
BEGIN:VEVENT
DTSTART;TZID=America/Chicago:20191229T100000
DTEND;TZID=America/Chicago:20191229T110000
DTSTAMP:20260422T072534
CREATED:20191014T165943Z
LAST-MODIFIED:20191021T192358Z
UID:7573-1577613600-1577617200@www.dmiec.org
SUMMARY:Weekly Worship Service
DESCRIPTION:Readings: \n\nAll Saints Year A **Alternate** First Reading\n\nSeventh Sunday in Ordinary Time  Year C  *Alternate* Second Reading\n\nEpiphany of the Lord  Year A *Alternate* First Reading and *Alternate* Psalm (no response)\n\nEpiphany of the Lord  Year A *Alternate* Second Reading\n\nFeast of the Baptism of the Lord  Year A  First Reading (No Psalm)\n\nFeast of the Baptism of the Lord  Year A  Gospel\nVolunteer(s) needed for this event. Click here to sign up.
URL:https://www.dmiec.org/event/weekly-worship-service-2019-12-29/
LOCATION:DMIEC\, 3306 University Avenue\, Des Moines\, IA\, 50311\, United States
CATEGORIES:Weekly Worship Service
ATTACH;FMTTYPE=image/jpeg:https://www.dmiec.org/wp-content/uploads/2018/10/NewWeeklyReading.jpg
GEO:41.6000075;-93.6619278
X-APPLE-STRUCTURED-LOCATION;VALUE=URI;X-ADDRESS=DMIEC 3306 University Avenue Des Moines IA 50311 United States;X-APPLE-RADIUS=500;X-TITLE=3306 University Avenue:geo:-93.6619278,41.6000075
END:VEVENT
END:VCALENDAR