BEGIN:VCALENDAR
VERSION:2.0
PRODID:-//Des Moines Intentional Eucharistic Community - ECPv6.15.13.1//NONSGML v1.0//EN
CALSCALE:GREGORIAN
METHOD:PUBLISH
X-WR-CALNAME:Des Moines Intentional Eucharistic Community
X-ORIGINAL-URL:https://www.dmiec.org
X-WR-CALDESC:Events for Des Moines Intentional Eucharistic Community
REFRESH-INTERVAL;VALUE=DURATION:PT1H
X-Robots-Tag:noindex
X-PUBLISHED-TTL:PT1H
BEGIN:VTIMEZONE
TZID:America/New_York
BEGIN:DAYLIGHT
TZOFFSETFROM:-0500
TZOFFSETTO:-0400
TZNAME:EDT
DTSTART:20180311T070000
END:DAYLIGHT
BEGIN:STANDARD
TZOFFSETFROM:-0400
TZOFFSETTO:-0500
TZNAME:EST
DTSTART:20181104T060000
END:STANDARD
BEGIN:DAYLIGHT
TZOFFSETFROM:-0500
TZOFFSETTO:-0400
TZNAME:EDT
DTSTART:20190310T070000
END:DAYLIGHT
BEGIN:STANDARD
TZOFFSETFROM:-0400
TZOFFSETTO:-0500
TZNAME:EST
DTSTART:20191103T060000
END:STANDARD
BEGIN:DAYLIGHT
TZOFFSETFROM:-0500
TZOFFSETTO:-0400
TZNAME:EDT
DTSTART:20200308T070000
END:DAYLIGHT
BEGIN:STANDARD
TZOFFSETFROM:-0400
TZOFFSETTO:-0500
TZNAME:EST
DTSTART:20201101T060000
END:STANDARD
END:VTIMEZONE
BEGIN:VTIMEZONE
TZID:America/Chicago
BEGIN:DAYLIGHT
TZOFFSETFROM:-0600
TZOFFSETTO:-0500
TZNAME:CDT
DTSTART:20180311T080000
END:DAYLIGHT
BEGIN:STANDARD
TZOFFSETFROM:-0500
TZOFFSETTO:-0600
TZNAME:CST
DTSTART:20181104T070000
END:STANDARD
BEGIN:DAYLIGHT
TZOFFSETFROM:-0600
TZOFFSETTO:-0500
TZNAME:CDT
DTSTART:20190310T080000
END:DAYLIGHT
BEGIN:STANDARD
TZOFFSETFROM:-0500
TZOFFSETTO:-0600
TZNAME:CST
DTSTART:20191103T070000
END:STANDARD
BEGIN:DAYLIGHT
TZOFFSETFROM:-0600
TZOFFSETTO:-0500
TZNAME:CDT
DTSTART:20200308T080000
END:DAYLIGHT
BEGIN:STANDARD
TZOFFSETFROM:-0500
TZOFFSETTO:-0600
TZNAME:CST
DTSTART:20201101T070000
END:STANDARD
END:VTIMEZONE
BEGIN:VEVENT
DTSTART;TZID=America/New_York:20190804T100000
DTEND;TZID=America/New_York:20190804T110000
DTSTAMP:20260422T132422
CREATED:20181031T061329Z
LAST-MODIFIED:20190608T231632Z
UID:3282-1564912800-1564916400@www.dmiec.org
SUMMARY:Weekly Worship Service
DESCRIPTION:Readings: \n\nPentecost Sunday Year B First Reading\n\nPentecost Sunday Year B Second Reading\n\nPentecost Sunday Year B Gospel\n\nSeventeenth Sunday in Ordinary Time Year B First Reading and Responsorial Psalm\n\nSeventeenth Sunday in Ordinary Time Year B Second Reading (Alternative)\n\nSeventeenth Sunday in Ordinary Time Year B Gospel\n\n\nVolunteer(s) needed for this event. Click here to sign up.
URL:https://www.dmiec.org/event/weekly-worship-service-08-04-2019/
LOCATION:DMIEC\, 3306 University Avenue\, Des Moines\, IA\, 50311\, United States
CATEGORIES:Weekly Worship Service
ATTACH;FMTTYPE=image/jpeg:https://www.dmiec.org/wp-content/uploads/2015/09/pastoral.jpg
GEO:41.6000075;-93.6619278
X-APPLE-STRUCTURED-LOCATION;VALUE=URI;X-ADDRESS=DMIEC 3306 University Avenue Des Moines IA 50311 United States;X-APPLE-RADIUS=500;X-TITLE=3306 University Avenue:geo:-93.6619278,41.6000075
END:VEVENT
BEGIN:VEVENT
DTSTART;TZID=America/Chicago:20190804T103000
DTEND;TZID=America/Chicago:20190804T110000
DTSTAMP:20260422T132422
CREATED:20190729T041113Z
LAST-MODIFIED:20190729T041113Z
UID:6499-1564914600-1564916400@www.dmiec.org
SUMMARY:First Sunday Collection - EMBARC
DESCRIPTION:All proceeds from our August 4  First Sunday collection will benefit Ethnic Minorities of Burma Advocacy and Resource Center (“EMBARC”). \nEMBARC is a grassroots\, community-based nonprofit founded in 2011 by refugees from Burma living in Iowa\, the first refugee-led service provider in the state. Over 10\,000 refugees from Burma have resettled to Iowa in recent years. EMBARC provides refugees the resources they need to successfully settle into their new home. EMBARC offers is a Direct-Service Walk-In Clinic\, where hundreds of refugees receive help with fundamental tasks essential for their survival. At the clinic\, leaders from refugee communities\, alongside volunteers who are long-time Iowa residents\, help with such tasks as paying rent\, applying for health insurance\, public benefits\, reading mail\, and accessing legal services that might not otherwise be available. The collection will be used for this program\, including paying interpreters. \nChecks may be made out to “EMBARC” or “DMIEC.” For more info\, please go to  http://www.embarciowa.org/
URL:https://www.dmiec.org/event/first-sunday-collection-embarc/
LOCATION:DMIEC Worship Space
CATEGORIES:Stewardship
END:VEVENT
BEGIN:VEVENT
DTSTART;TZID=America/New_York:20190811T100000
DTEND;TZID=America/New_York:20190811T110000
DTSTAMP:20260422T132422
CREATED:20181031T061623Z
LAST-MODIFIED:20181031T061623Z
UID:3284-1565517600-1565521200@www.dmiec.org
SUMMARY:Weekly Worship Service
DESCRIPTION:Readings: \n\nPentecost Sunday Year B First Reading\n\nPentecost Sunday Year B Second Reading\n\nPentecost Sunday Year B Gospel\n\nSeventeenth Sunday in Ordinary Time Year B First Reading and Responsorial Psalm\n\nSeventeenth Sunday in Ordinary Time Year B Second Reading (Alternative)\n\nSeventeenth Sunday in Ordinary Time Year B Gospel\n\n\nVolunteer(s) needed for this event. Click here to sign up.
URL:https://www.dmiec.org/event/weekly-worship-service-08-11-2019/
LOCATION:DMIEC\, 3306 University Avenue\, Des Moines\, IA\, 50311\, United States
CATEGORIES:Weekly Worship Service
ATTACH;FMTTYPE=image/jpeg:https://www.dmiec.org/wp-content/uploads/2018/10/NewWeeklyReading.jpg
GEO:41.6000075;-93.6619278
X-APPLE-STRUCTURED-LOCATION;VALUE=URI;X-ADDRESS=DMIEC 3306 University Avenue Des Moines IA 50311 United States;X-APPLE-RADIUS=500;X-TITLE=3306 University Avenue:geo:-93.6619278,41.6000075
END:VEVENT
BEGIN:VEVENT
DTSTART;TZID=America/Chicago:20190812T180000
DTEND;TZID=America/Chicago:20190812T190000
DTSTAMP:20260422T132422
CREATED:20190709T145832Z
LAST-MODIFIED:20190709T145832Z
UID:6196-1565632800-1565636400@www.dmiec.org
SUMMARY:Community Council Meeting
DESCRIPTION:DMIEC’s Community Council meets monthly in the DMIEC Library.  All members are welcome to attend.  For more information\, please contact Council Secretary Jim Fifield at dmiec11@gmail.com 
URL:https://www.dmiec.org/event/community-council-meeting-6/
LOCATION:DMIEC Library
CATEGORIES:Committees,Governance
ORGANIZER;CN="Donna Dressel":MAILTO:familydressel@gmail.com
END:VEVENT
BEGIN:VEVENT
DTSTART;TZID=America/Chicago:20190814T130000
DTEND;TZID=America/Chicago:20190814T150000
DTSTAMP:20260422T132422
CREATED:20190718T145950Z
LAST-MODIFIED:20190718T145950Z
UID:6284-1565787600-1565794800@www.dmiec.org
SUMMARY:Liturgy Committee Planning Meeting
DESCRIPTION:The Liturgy Committee meets regularly to discuss and plan DMIEC’s weekly and special worship services.  Please contact Julie Powell-Mohr for more information. julpowell@aol.com  (515-255-3789)
URL:https://www.dmiec.org/event/liturgy-committee-planning-meeting/
LOCATION:DMIEC\, 3306 University Avenue\, Des Moines\, IA\, 50311\, United States
CATEGORIES:Committees
ORGANIZER;CN="Julie Powell-Mohr":MAILTO:julpowell@aol.com
GEO:41.6000075;-93.6619278
X-APPLE-STRUCTURED-LOCATION;VALUE=URI;X-ADDRESS=DMIEC 3306 University Avenue Des Moines IA 50311 United States;X-APPLE-RADIUS=500;X-TITLE=3306 University Avenue:geo:-93.6619278,41.6000075
END:VEVENT
BEGIN:VEVENT
DTSTART;TZID=America/New_York:20190818T100000
DTEND;TZID=America/New_York:20190818T110000
DTSTAMP:20260422T132422
CREATED:20181031T061838Z
LAST-MODIFIED:20190627T222202Z
UID:3287-1566122400-1566126000@www.dmiec.org
SUMMARY:Weekly Worship Service
DESCRIPTION:Readings: \n\nPentecost Sunday Year B First Reading\n\nPentecost Sunday Year B Second Reading\n\nPentecost Sunday Year B Gospel\n\nSeventeenth Sunday in Ordinary Time Year B First Reading and Responsorial Psalm\n\nSeventeenth Sunday in Ordinary Time Year B Second Reading (Alternative)\n\nSeventeenth Sunday in Ordinary Time Year B Gospel\n\n\nVolunteer(s) needed for this event. Click here to sign up.
URL:https://www.dmiec.org/event/weekly-worship-service-08-18-2019/
LOCATION:DMIEC\, 3306 University Avenue\, Des Moines\, IA\, 50311\, United States
CATEGORIES:Weekly Worship Service
ATTACH;FMTTYPE=image/jpeg:https://www.dmiec.org/wp-content/uploads/2018/10/NewWeeklyReading.jpg
GEO:41.6000075;-93.6619278
X-APPLE-STRUCTURED-LOCATION;VALUE=URI;X-ADDRESS=DMIEC 3306 University Avenue Des Moines IA 50311 United States;X-APPLE-RADIUS=500;X-TITLE=3306 University Avenue:geo:-93.6619278,41.6000075
END:VEVENT
BEGIN:VEVENT
DTSTART;TZID=America/Chicago:20190818T101500
DTEND;TZID=America/Chicago:20190818T110000
DTSTAMP:20260422T132422
CREATED:20190811T232141Z
LAST-MODIFIED:20190811T232141Z
UID:6535-1566123300-1566126000@www.dmiec.org
SUMMARY:DMARC Emergency Food Pantries Sunday Special Collection
DESCRIPTION:Every third Sunday is DMARC Emergency Food Pantries Sunday.  \nEnvelopes will be available for donations to the Des Moines Area Religious Council’s Emergency Food Pantries at our August 18 worship service.  Please write checks to “DMARC\,”  place cash in our specially designated envelopes and add to the collection basket\, or feel free to take an envelope home and make a donation directly to DMARC. For more information\, please visit the DMARC Food Pantries website  https://www.dmarcunited.org/food/
URL:https://www.dmiec.org/event/dmarc-emergency-food-pantries-sunday-special-collection/
LOCATION:DMIEC\, 3306 University Avenue\, Des Moines\, IA\, 50311\, United States
CATEGORIES:Stewardship
GEO:41.6000075;-93.6619278
X-APPLE-STRUCTURED-LOCATION;VALUE=URI;X-ADDRESS=DMIEC 3306 University Avenue Des Moines IA 50311 United States;X-APPLE-RADIUS=500;X-TITLE=3306 University Avenue:geo:-93.6619278,41.6000075
END:VEVENT
BEGIN:VEVENT
DTSTART;TZID=America/Chicago:20190818T110000
DTEND;TZID=America/Chicago:20190818T120000
DTSTAMP:20260422T132422
CREATED:20190709T145438Z
LAST-MODIFIED:20190709T145438Z
UID:6193-1566126000-1566129600@www.dmiec.org
SUMMARY:Community Conversation
DESCRIPTION:Our periodic Community Conversations afford the opportunity for updates from the Community Council and committees on recent activities and issues\, as well as a way for the community to provide input on matters of interest. All members are invited to stay after our worship service and be part of these important conversations.  For more information\, please contact Donna Dressel  familydressel@gmail.com  (515-313-6184)
URL:https://www.dmiec.org/event/community-conversation-2/
LOCATION:DMIEC Worship Space
CATEGORIES:Community
ORGANIZER;CN="Donna Dressel":MAILTO:familydressel@gmail.com
END:VEVENT
BEGIN:VEVENT
DTSTART;TZID=America/New_York:20190825T100000
DTEND;TZID=America/New_York:20190825T110000
DTSTAMP:20260422T132422
CREATED:20181031T062002Z
LAST-MODIFIED:20190627T222325Z
UID:3289-1566727200-1566730800@www.dmiec.org
SUMMARY:Weekly Worship Service
DESCRIPTION:Readings: \n\nPentecost Sunday Year B First Reading\n\nPentecost Sunday Year B Second Reading\n\nPentecost Sunday Year B Gospel\n\nSeventeenth Sunday in Ordinary Time Year B First Reading and Responsorial Psalm\n\nSeventeenth Sunday in Ordinary Time Year B Second Reading (Alternative)\n\nSeventeenth Sunday in Ordinary Time Year B Gospel\n\n\nVolunteer(s) needed for this event. Click here to sign up.
URL:https://www.dmiec.org/event/weekly-worship-service-08-25-2019/
LOCATION:DMIEC\, 3306 University Avenue\, Des Moines\, IA\, 50311\, United States
CATEGORIES:Weekly Worship Service
ATTACH;FMTTYPE=image/jpeg:https://www.dmiec.org/wp-content/uploads/2018/10/NewWeeklyReading.jpg
GEO:41.6000075;-93.6619278
X-APPLE-STRUCTURED-LOCATION;VALUE=URI;X-ADDRESS=DMIEC 3306 University Avenue Des Moines IA 50311 United States;X-APPLE-RADIUS=500;X-TITLE=3306 University Avenue:geo:-93.6619278,41.6000075
END:VEVENT
END:VCALENDAR