BEGIN:VCALENDAR
VERSION:2.0
PRODID:-//Des Moines Intentional Eucharistic Community - ECPv6.15.13.1//NONSGML v1.0//EN
CALSCALE:GREGORIAN
METHOD:PUBLISH
X-WR-CALNAME:Des Moines Intentional Eucharistic Community
X-ORIGINAL-URL:https://www.dmiec.org
X-WR-CALDESC:Events for Des Moines Intentional Eucharistic Community
REFRESH-INTERVAL;VALUE=DURATION:PT1H
X-Robots-Tag:noindex
X-PUBLISHED-TTL:PT1H
BEGIN:VTIMEZONE
TZID:America/New_York
BEGIN:DAYLIGHT
TZOFFSETFROM:-0500
TZOFFSETTO:-0400
TZNAME:EDT
DTSTART:20180311T070000
END:DAYLIGHT
BEGIN:STANDARD
TZOFFSETFROM:-0400
TZOFFSETTO:-0500
TZNAME:EST
DTSTART:20181104T060000
END:STANDARD
BEGIN:DAYLIGHT
TZOFFSETFROM:-0500
TZOFFSETTO:-0400
TZNAME:EDT
DTSTART:20190310T070000
END:DAYLIGHT
BEGIN:STANDARD
TZOFFSETFROM:-0400
TZOFFSETTO:-0500
TZNAME:EST
DTSTART:20191103T060000
END:STANDARD
BEGIN:DAYLIGHT
TZOFFSETFROM:-0500
TZOFFSETTO:-0400
TZNAME:EDT
DTSTART:20200308T070000
END:DAYLIGHT
BEGIN:STANDARD
TZOFFSETFROM:-0400
TZOFFSETTO:-0500
TZNAME:EST
DTSTART:20201101T060000
END:STANDARD
END:VTIMEZONE
BEGIN:VTIMEZONE
TZID:America/Chicago
BEGIN:DAYLIGHT
TZOFFSETFROM:-0600
TZOFFSETTO:-0500
TZNAME:CDT
DTSTART:20180311T080000
END:DAYLIGHT
BEGIN:STANDARD
TZOFFSETFROM:-0500
TZOFFSETTO:-0600
TZNAME:CST
DTSTART:20181104T070000
END:STANDARD
BEGIN:DAYLIGHT
TZOFFSETFROM:-0600
TZOFFSETTO:-0500
TZNAME:CDT
DTSTART:20190310T080000
END:DAYLIGHT
BEGIN:STANDARD
TZOFFSETFROM:-0500
TZOFFSETTO:-0600
TZNAME:CST
DTSTART:20191103T070000
END:STANDARD
BEGIN:DAYLIGHT
TZOFFSETFROM:-0600
TZOFFSETTO:-0500
TZNAME:CDT
DTSTART:20200308T080000
END:DAYLIGHT
BEGIN:STANDARD
TZOFFSETFROM:-0500
TZOFFSETTO:-0600
TZNAME:CST
DTSTART:20201101T070000
END:STANDARD
END:VTIMEZONE
BEGIN:VEVENT
DTSTART;TZID=America/New_York:20190602T100000
DTEND;TZID=America/New_York:20190602T110000
DTSTAMP:20260422T163526
CREATED:20181031T070213Z
LAST-MODIFIED:20190508T192926Z
UID:3328-1559469600-1559473200@www.dmiec.org
SUMMARY:Weekly Worship Service
DESCRIPTION:Readings: \n\nAll Saints Year A **Alternate** First Reading\n\nFirst Sunday of Advent  Year C  First Reading (No Psalm)\n\nFirst Sunday of Advent  Year C  Second Reading\n\nFirst Sunday of Advent  Year C  Gospel\n\nSecond Sunday of Advent  Year C  *Alternate* First Reading and Responsorial\n\nSecond Sunday of Advent  Year C  *Alternate* Second Reading\n\n\nVolunteer(s) needed for this event. Click here to sign up.
URL:https://www.dmiec.org/event/weekly-worship-service-06-02-2019/
LOCATION:DMIEC\, 3306 University Avenue\, Des Moines\, IA\, 50311\, United States
CATEGORIES:Weekly Worship Service
ATTACH;FMTTYPE=image/jpeg:https://www.dmiec.org/wp-content/uploads/2018/10/NewWeeklyReading.jpg
GEO:41.6000075;-93.6619278
X-APPLE-STRUCTURED-LOCATION;VALUE=URI;X-ADDRESS=DMIEC 3306 University Avenue Des Moines IA 50311 United States;X-APPLE-RADIUS=500;X-TITLE=3306 University Avenue:geo:-93.6619278,41.6000075
END:VEVENT
BEGIN:VEVENT
DTSTART;TZID=America/Chicago:20190602T100500
DTEND;TZID=America/Chicago:20190602T110000
DTSTAMP:20260422T163526
CREATED:20190528T153457Z
LAST-MODIFIED:20190528T153457Z
UID:5796-1559469900-1559473200@www.dmiec.org
SUMMARY:First Sunday Collection - Annunciation House of El Paso\, Texas
DESCRIPTION:Since 1976 the volunteers of Annunciation House have sought to serve the poorest of the poor. Today they serve migrants and refugees fleeing from Central and South America. Most days ICE and Border Patrol drop off 500 to 1000 people at any of the 8 locations around El Paso that Annunciation House supports. All of this work exists only through the generosity of many volunteers and donations from as close as El Paso or as far away as New York. Find more information at the Annunciation House website. Checks may be made out to DMIEC or Sisters of St Francis\, who will pass our donations on to Annunciation House through Sr. Terri Rodella\, a supervisor at their largest facility\, Casa del Refugiado.
URL:https://www.dmiec.org/event/first-sunday-collection-annunciation-house-of-el-paso-texas/
LOCATION:DMIEC\, 3306 University Avenue\, Des Moines\, IA\, 50311\, United States
CATEGORIES:Stewardship
GEO:41.6000075;-93.6619278
X-APPLE-STRUCTURED-LOCATION;VALUE=URI;X-ADDRESS=DMIEC 3306 University Avenue Des Moines IA 50311 United States;X-APPLE-RADIUS=500;X-TITLE=3306 University Avenue:geo:-93.6619278,41.6000075
END:VEVENT
BEGIN:VEVENT
DTSTART;TZID=America/New_York:20190609T100000
DTEND;TZID=America/New_York:20190609T110000
DTSTAMP:20260422T163526
CREATED:20181031T070314Z
LAST-MODIFIED:20190514T223943Z
UID:3330-1560074400-1560078000@www.dmiec.org
SUMMARY:Weekly Worship Service
DESCRIPTION:Readings: \n\nAll Saints Year A **Alternate** First Reading\n\nFirst Sunday of Advent  Year C  First Reading (No Psalm)\n\nFirst Sunday of Advent  Year C  Second Reading\n\nFirst Sunday of Advent  Year C  Gospel\n\nSecond Sunday of Advent  Year C  *Alternate* First Reading and Responsorial\n\nSecond Sunday of Advent  Year C  *Alternate* Second Reading\n\n\nVolunteer(s) needed for this event. Click here to sign up.
URL:https://www.dmiec.org/event/weekly-worship-service-06-09-2019/
LOCATION:DMIEC\, 3306 University Avenue\, Des Moines\, IA\, 50311\, United States
CATEGORIES:Weekly Worship Service
ATTACH;FMTTYPE=image/jpeg:https://www.dmiec.org/wp-content/uploads/2018/10/NewWeeklyReading.jpg
GEO:41.6000075;-93.6619278
X-APPLE-STRUCTURED-LOCATION;VALUE=URI;X-ADDRESS=DMIEC 3306 University Avenue Des Moines IA 50311 United States;X-APPLE-RADIUS=500;X-TITLE=3306 University Avenue:geo:-93.6619278,41.6000075
END:VEVENT
BEGIN:VEVENT
DTSTART;TZID=America/Chicago:20190610T180000
DTEND;TZID=America/Chicago:20190610T193000
DTSTAMP:20260422T163526
CREATED:20190607T135346Z
LAST-MODIFIED:20190607T135346Z
UID:5946-1560189600-1560195000@www.dmiec.org
SUMMARY:Community Council Meeting
DESCRIPTION:DMIEC’s Community Council meets monthly in the DMIEC Library.  All members are welcome to attend.  For more information\, please contact Council Chair Karen DeHaven kdehaven@mchsi.com (515-205-1086).
URL:https://www.dmiec.org/event/community-council-meeting-4/
LOCATION:DMIEC Library
CATEGORIES:Committees,Governance
ORGANIZER;CN="Karen DeHaven":MAILTO:kdehaven@mchsi.com
END:VEVENT
BEGIN:VEVENT
DTSTART;TZID=America/New_York:20190616T100000
DTEND;TZID=America/New_York:20190616T110000
DTSTAMP:20260422T163526
CREATED:20181031T070414Z
LAST-MODIFIED:20190514T224240Z
UID:3332-1560679200-1560682800@www.dmiec.org
SUMMARY:Weekly Worship Service
DESCRIPTION:Readings: \n\nAll Saints Year A **Alternate** First Reading\n\nFirst Sunday of Advent  Year C  First Reading (No Psalm)\n\nFirst Sunday of Advent  Year C  Second Reading\n\nFirst Sunday of Advent  Year C  Gospel\n\nSecond Sunday of Advent  Year C  *Alternate* First Reading and Responsorial\n\nSecond Sunday of Advent  Year C  *Alternate* Second Reading\n\n\nVolunteer(s) needed for this event. Click here to sign up.
URL:https://www.dmiec.org/event/weekly-worship-service-06-16-2019/
LOCATION:DMIEC\, 3306 University Avenue\, Des Moines\, IA\, 50311\, United States
CATEGORIES:Weekly Worship Service
ATTACH;FMTTYPE=image/jpeg:https://www.dmiec.org/wp-content/uploads/2018/10/NewWeeklyReading.jpg
GEO:41.6000075;-93.6619278
X-APPLE-STRUCTURED-LOCATION;VALUE=URI;X-ADDRESS=DMIEC 3306 University Avenue Des Moines IA 50311 United States;X-APPLE-RADIUS=500;X-TITLE=3306 University Avenue:geo:-93.6619278,41.6000075
END:VEVENT
BEGIN:VEVENT
DTSTART;TZID=America/Chicago:20190616T100000
DTEND;TZID=America/Chicago:20190616T110000
DTSTAMP:20260422T163526
CREATED:20190612T025738Z
LAST-MODIFIED:20190612T025804Z
UID:5991-1560679200-1560682800@www.dmiec.org
SUMMARY:DMARC Emergency Food Pantries Sunday Collection
DESCRIPTION:Every third Sunday is DMARC Emergency Food Pantries Sunday. \nEnvelopes will be available for donations to the Des Moines Area Religious Council’s Emergency Food Pantries at our June 16 worship service.  Please write checks to “DMARC\,” place cash in our specially designated envelopes and add to the collection basket\, or take an envelope home and make a donation directly to DMARC. For more information\, please visit the DMARC Food Pantries website  
URL:https://www.dmiec.org/event/dmarc-emergency-food-pantries-sunday-collection-3/
LOCATION:DMIEC Worship Space
CATEGORIES:Stewardship
ORGANIZER;CN="Steve Gude":MAILTO:smgude@gmail.com
END:VEVENT
BEGIN:VEVENT
DTSTART;TZID=America/Chicago:20190616T110000
DTEND;TZID=America/Chicago:20190616T113000
DTSTAMP:20260422T163526
CREATED:20190524T032217Z
LAST-MODIFIED:20190524T032217Z
UID:5776-1560682800-1560684600@www.dmiec.org
SUMMARY:DMIEC Community Council Election
DESCRIPTION:The annual DMIEC Community Council election will take place immediately following our Sunday 16 June worship service.  There are three seats we need to fill.  Ed Arnold\, Betty Baird and Jean Minahan are running for those seats.  If you are unable to attend the service\, please email your votes to dmiec11@gmail no later than 10:00 a.m. on that Sunday.  You must be a registered member to vote in the election.  If you are not yet registered\, please contact Jim Fifield at dmiec11@gmail.com and request a registration form.
URL:https://www.dmiec.org/event/dmiec-community-council-election/
LOCATION:DMIEC\, 3306 University Avenue\, Des Moines\, IA\, 50311\, United States
CATEGORIES:Elections,Governance
ORGANIZER;CN="Mary Routh":MAILTO:Mlenaghanrouth@gmail.com
GEO:41.6000075;-93.6619278
X-APPLE-STRUCTURED-LOCATION;VALUE=URI;X-ADDRESS=DMIEC 3306 University Avenue Des Moines IA 50311 United States;X-APPLE-RADIUS=500;X-TITLE=3306 University Avenue:geo:-93.6619278,41.6000075
END:VEVENT
BEGIN:VEVENT
DTSTART;TZID=America/Chicago:20190621T100000
DTEND;TZID=America/Chicago:20190621T110000
DTSTAMP:20260422T163526
CREATED:20190621T142108Z
LAST-MODIFIED:20190621T142500Z
UID:6031-1561111200-1561114800@www.dmiec.org
SUMMARY:Children & Families of Iowa special collection
DESCRIPTION:We have an opportunity to help Children & Families of Iowa\, a nonprofit organization dedicated to improving the lives of children and families throughout Iowa. Mackenzie Foster\, an AmeriCorps worker with Rebuilding Together has asked DMIEC to assist her with a service project to collect needed items for Children & Families of Iowa; specifically\, for the domestic violence shelter and child development center. DMIEC members have worked with Mackenzie on building projects. \nThe collection will be this Sunday\, June 23 only.  We will have a bin available in our lobby. Contact Martha Gelhaus with any questions at mgelhaus@hotmail.com.  Thank you if you can donate any of the needed items: \n-twin size fitted sheets (new or gently used)\n-towels\n-women’s deodorant\n-feminine products\n-shampoo and conditioner (regular and ethnic hair products)\n-body lotion\n-women’s underwear\n-socks\n-blankets\n-granola bars\n-glue sticks\n-glue bottles\n-Legos\n-sandwich bags\n-playdough kits\n-socks and underwear (children’s sizes)
URL:https://www.dmiec.org/event/children-families-of-iowa-special-collection/
LOCATION:DMIEC\, 3306 University Avenue\, Des Moines\, IA\, 50311\, United States
CATEGORIES:Community Service Activities
ORGANIZER;CN="Martha Gelhaus":MAILTO:mgelhaus@hotmail.com
GEO:41.6000075;-93.6619278
X-APPLE-STRUCTURED-LOCATION;VALUE=URI;X-ADDRESS=DMIEC 3306 University Avenue Des Moines IA 50311 United States;X-APPLE-RADIUS=500;X-TITLE=3306 University Avenue:geo:-93.6619278,41.6000075
END:VEVENT
BEGIN:VEVENT
DTSTART;TZID=America/New_York:20190623T100000
DTEND;TZID=America/New_York:20190623T110000
DTSTAMP:20260422T163526
CREATED:20181031T070522Z
LAST-MODIFIED:20190514T224454Z
UID:3334-1561284000-1561287600@www.dmiec.org
SUMMARY:Weekly Worship Service
DESCRIPTION:Readings: \n\nAll Saints Year A **Alternate** First Reading\n\nFirst Sunday of Advent  Year C  First Reading (No Psalm)\n\nFirst Sunday of Advent  Year C  Second Reading\n\nFirst Sunday of Advent  Year C  Gospel\n\nSecond Sunday of Advent  Year C  *Alternate* First Reading and Responsorial\n\nSecond Sunday of Advent  Year C  *Alternate* Second Reading\n\n\nVolunteer(s) needed for this event. Click here to sign up.
URL:https://www.dmiec.org/event/weekly-worship-service-06-23-2019/
LOCATION:DMIEC\, 3306 University Avenue\, Des Moines\, IA\, 50311\, United States
CATEGORIES:Weekly Worship Service
ATTACH;FMTTYPE=image/jpeg:https://www.dmiec.org/wp-content/uploads/2018/10/NewWeeklyReading.jpg
GEO:41.6000075;-93.6619278
X-APPLE-STRUCTURED-LOCATION;VALUE=URI;X-ADDRESS=DMIEC 3306 University Avenue Des Moines IA 50311 United States;X-APPLE-RADIUS=500;X-TITLE=3306 University Avenue:geo:-93.6619278,41.6000075
END:VEVENT
BEGIN:VEVENT
DTSTART;TZID=America/Chicago:20190623T130000
DTEND;TZID=America/Chicago:20190623T163000
DTSTAMP:20260422T163526
CREATED:20190531T032600Z
LAST-MODIFIED:20190607T170802Z
UID:5806-1561294800-1561307400@www.dmiec.org
SUMMARY:DMIEC Iowa Cubs Outing
DESCRIPTION:Join the DMIEC community in a Sunday June 23 afternoon of fun and baseball as the Iowa Cubs host the Round Rock Express at Principal Park starting at 1:05 p.m.  For tickets ($8/person reserved grandstand) or info\, please contact Jim Fifield at dmiec11@gmail.com by noon\, June 13.
URL:https://www.dmiec.org/event/dmiec-iowa-cubs-outing/
LOCATION:Principal Park
CATEGORIES:Community
ORGANIZER;CN="Jim Fifield":MAILTO:dmiec11@gmail.com
END:VEVENT
BEGIN:VEVENT
DTSTART;TZID=America/Chicago:20190628T100000
DTEND;TZID=America/Chicago:20190628T110000
DTSTAMP:20260422T163526
CREATED:20191213T080004Z
LAST-MODIFIED:20191213T080004Z
UID:8804-1561716000-1561719600@www.dmiec.org
SUMMARY:Weekly Worship Service
DESCRIPTION:Readings: \n\nAll Saints Year A **Alternate** First Reading\n\nSeventh Sunday in Ordinary Time  Year C  *Alternate* Second Reading\n\nEpiphany of the Lord  Year A *Alternate* First Reading and *Alternate* Psalm (no response)\n\nEpiphany of the Lord  Year A *Alternate* Second Reading\n\nFeast of the Baptism of the Lord  Year A  First Reading (No Psalm)\n\nFeast of the Baptism of the Lord  Year A  Gospel\nVolunteer(s) needed for this event. Click here to sign up.
URL:https://www.dmiec.org/event/weekly-worship-service-17/
LOCATION:DMIEC\, 3306 University Avenue\, Des Moines\, IA\, 50311\, United States
CATEGORIES:Weekly Worship Service
ATTACH;FMTTYPE=image/jpeg:https://www.dmiec.org/wp-content/uploads/2018/10/NewWeeklyReading.jpg
GEO:41.6000075;-93.6619278
X-APPLE-STRUCTURED-LOCATION;VALUE=URI;X-ADDRESS=DMIEC 3306 University Avenue Des Moines IA 50311 United States;X-APPLE-RADIUS=500;X-TITLE=3306 University Avenue:geo:-93.6619278,41.6000075
END:VEVENT
BEGIN:VEVENT
DTSTART;TZID=America/Chicago:20190629T100000
DTEND;TZID=America/Chicago:20190629T120000
DTSTAMP:20260422T163526
CREATED:20190618T151303Z
LAST-MODIFIED:20190618T151505Z
UID:6018-1561802400-1561809600@www.dmiec.org
SUMMARY:
DESCRIPTION:Matthew Fox Interview on Waking Up in the World (video) \nInterested in learning more about Matthew Fox’s Order of the Sacred Earth? Join us to hear him interviewed in the series Waking Up in the World. After the interview\, we’ll follow up with some conversation and information about the Order of the Sacred Earth\, then decide about reading the book of the same name together. Hope you can join us. \nIf you have questions\, contact Julie Powell-Mohr.
URL:https://www.dmiec.org/event/6018/
LOCATION:DMIEC Worship Space
ORGANIZER;CN="Julie Powell-Mohr":MAILTO:julpowell@aol.com
END:VEVENT
BEGIN:VEVENT
DTSTART;TZID=America/New_York:20190630T100000
DTEND;TZID=America/New_York:20190630T110000
DTSTAMP:20260422T163526
CREATED:20181031T070635Z
LAST-MODIFIED:20190514T224724Z
UID:3336-1561888800-1561892400@www.dmiec.org
SUMMARY:Weekly Worship Service
DESCRIPTION:Readings: \n\nAll Saints Year A **Alternate** First Reading\n\nFirst Sunday of Advent  Year C  First Reading (No Psalm)\n\nFirst Sunday of Advent  Year C  Second Reading\n\nFirst Sunday of Advent  Year C  Gospel\n\nSecond Sunday of Advent  Year C  *Alternate* First Reading and Responsorial\n\nSecond Sunday of Advent  Year C  *Alternate* Second Reading\n\n\nVolunteer(s) needed for this event. Click here to sign up.
URL:https://www.dmiec.org/event/weekly-worship-service-06-30-2019/
LOCATION:DMIEC\, 3306 University Avenue\, Des Moines\, IA\, 50311\, United States
CATEGORIES:Weekly Worship Service
ATTACH;FMTTYPE=image/jpeg:https://www.dmiec.org/wp-content/uploads/2018/10/NewWeeklyReading.jpg
GEO:41.6000075;-93.6619278
X-APPLE-STRUCTURED-LOCATION;VALUE=URI;X-ADDRESS=DMIEC 3306 University Avenue Des Moines IA 50311 United States;X-APPLE-RADIUS=500;X-TITLE=3306 University Avenue:geo:-93.6619278,41.6000075
END:VEVENT
END:VCALENDAR