BEGIN:VCALENDAR
VERSION:2.0
PRODID:-//Des Moines Intentional Eucharistic Community - ECPv6.15.13.1//NONSGML v1.0//EN
CALSCALE:GREGORIAN
METHOD:PUBLISH
X-ORIGINAL-URL:https://www.dmiec.org
X-WR-CALDESC:Events for Des Moines Intentional Eucharistic Community
REFRESH-INTERVAL;VALUE=DURATION:PT1H
X-Robots-Tag:noindex
X-PUBLISHED-TTL:PT1H
BEGIN:VTIMEZONE
TZID:America/New_York
BEGIN:DAYLIGHT
TZOFFSETFROM:-0500
TZOFFSETTO:-0400
TZNAME:EDT
DTSTART:20180311T070000
END:DAYLIGHT
BEGIN:STANDARD
TZOFFSETFROM:-0400
TZOFFSETTO:-0500
TZNAME:EST
DTSTART:20181104T060000
END:STANDARD
BEGIN:DAYLIGHT
TZOFFSETFROM:-0500
TZOFFSETTO:-0400
TZNAME:EDT
DTSTART:20190310T070000
END:DAYLIGHT
BEGIN:STANDARD
TZOFFSETFROM:-0400
TZOFFSETTO:-0500
TZNAME:EST
DTSTART:20191103T060000
END:STANDARD
BEGIN:DAYLIGHT
TZOFFSETFROM:-0500
TZOFFSETTO:-0400
TZNAME:EDT
DTSTART:20200308T070000
END:DAYLIGHT
BEGIN:STANDARD
TZOFFSETFROM:-0400
TZOFFSETTO:-0500
TZNAME:EST
DTSTART:20201101T060000
END:STANDARD
END:VTIMEZONE
BEGIN:VTIMEZONE
TZID:America/Chicago
BEGIN:DAYLIGHT
TZOFFSETFROM:-0600
TZOFFSETTO:-0500
TZNAME:CDT
DTSTART:20180311T080000
END:DAYLIGHT
BEGIN:STANDARD
TZOFFSETFROM:-0500
TZOFFSETTO:-0600
TZNAME:CST
DTSTART:20181104T070000
END:STANDARD
BEGIN:DAYLIGHT
TZOFFSETFROM:-0600
TZOFFSETTO:-0500
TZNAME:CDT
DTSTART:20190310T080000
END:DAYLIGHT
BEGIN:STANDARD
TZOFFSETFROM:-0500
TZOFFSETTO:-0600
TZNAME:CST
DTSTART:20191103T070000
END:STANDARD
BEGIN:DAYLIGHT
TZOFFSETFROM:-0600
TZOFFSETTO:-0500
TZNAME:CDT
DTSTART:20200308T080000
END:DAYLIGHT
BEGIN:STANDARD
TZOFFSETFROM:-0500
TZOFFSETTO:-0600
TZNAME:CST
DTSTART:20201101T070000
END:STANDARD
END:VTIMEZONE
BEGIN:VEVENT
DTSTART;TZID=America/New_York:20190203T100000
DTEND;TZID=America/New_York:20190203T110000
DTSTAMP:20260422T224220
CREATED:20181031T063220Z
LAST-MODIFIED:20181031T063220Z
UID:3303-1549188000-1549191600@www.dmiec.org
SUMMARY:Weekly Worship Service
DESCRIPTION:Readings: \n\nPentecost Sunday Year B First Reading\n\nPentecost Sunday Year B Second Reading\n\nPentecost Sunday Year B Gospel\n\nSeventeenth Sunday in Ordinary Time Year B First Reading and Responsorial Psalm\n\nSeventeenth Sunday in Ordinary Time Year B Second Reading (Alternative)\n\nSeventeenth Sunday in Ordinary Time Year B Gospel\n\n\nVolunteer(s) needed for this event. Click here to sign up.
URL:https://www.dmiec.org/event/weekly-worship-service-02-03-2019/
LOCATION:DMIEC\, 3306 University Avenue\, Des Moines\, IA\, 50311\, United States
CATEGORIES:Weekly Worship Service
ATTACH;FMTTYPE=image/jpeg:https://www.dmiec.org/wp-content/uploads/2018/10/NewWeeklyReading.jpg
GEO:41.6000075;-93.6619278
X-APPLE-STRUCTURED-LOCATION;VALUE=URI;X-ADDRESS=DMIEC 3306 University Avenue Des Moines IA 50311 United States;X-APPLE-RADIUS=500;X-TITLE=3306 University Avenue:geo:-93.6619278,41.6000075
END:VEVENT
BEGIN:VEVENT
DTSTART;TZID=America/New_York:20190210T100000
DTEND;TZID=America/New_York:20190210T110000
DTSTAMP:20260422T224220
CREATED:20181031T063333Z
LAST-MODIFIED:20181031T063333Z
UID:3305-1549792800-1549796400@www.dmiec.org
SUMMARY:Weekly Worship Service
DESCRIPTION:Readings: \n\nPentecost Sunday Year B First Reading\n\nPentecost Sunday Year B Second Reading\n\nPentecost Sunday Year B Gospel\n\nSeventeenth Sunday in Ordinary Time Year B First Reading and Responsorial Psalm\n\nSeventeenth Sunday in Ordinary Time Year B Second Reading (Alternative)\n\nSeventeenth Sunday in Ordinary Time Year B Gospel\n\n\nVolunteer(s) needed for this event. Click here to sign up.
URL:https://www.dmiec.org/event/weekly-worship-service-02-10-2019/
LOCATION:DMIEC\, 3306 University Avenue\, Des Moines\, IA\, 50311\, United States
CATEGORIES:Weekly Worship Service
ATTACH;FMTTYPE=image/jpeg:https://www.dmiec.org/wp-content/uploads/2018/10/NewWeeklyReading.jpg
GEO:41.6000075;-93.6619278
X-APPLE-STRUCTURED-LOCATION;VALUE=URI;X-ADDRESS=DMIEC 3306 University Avenue Des Moines IA 50311 United States;X-APPLE-RADIUS=500;X-TITLE=3306 University Avenue:geo:-93.6619278,41.6000075
END:VEVENT
BEGIN:VEVENT
DTSTART;TZID=America/Chicago:20190210T111500
DTEND;TZID=America/Chicago:20190210T114500
DTSTAMP:20260422T224220
CREATED:20190204T153112Z
LAST-MODIFIED:20200116T031344Z
UID:3931-1549797300-1549799100@www.dmiec.org
SUMMARY:State Legislative Updates and Discussion
DESCRIPTION:Led by veteran Iowa Statehouse observer\, Bob Mulqueen\, participants learn about and discuss recent legislative proposals and developments affecting social justice issues in Iowa.
URL:https://www.dmiec.org/event/state-legislative-updates-and-discussion/2019-02-10/
LOCATION:DMIEC Library
CATEGORIES:Lectures & Presentations
END:VEVENT
BEGIN:VEVENT
DTSTART;TZID=America/Chicago:20190213T154500
DTEND;TZID=America/Chicago:20190213T170000
DTSTAMP:20260422T224220
CREATED:20190204T154027Z
LAST-MODIFIED:20190506T133711Z
UID:3951-1550072700-1550077200@www.dmiec.org
SUMMARY:Liturgy Planning Meeting
DESCRIPTION:The Liturgy Committee meets regularly to discuss and plan DMIEC’s weekly and special worship services.  Please contact Julie Powell-Mohr for more information. julpowell@aol.com  (515-255-3789)
URL:https://www.dmiec.org/event/liturgy-planning-meeting/
LOCATION:DMIEC Library
CATEGORIES:Committees
END:VEVENT
BEGIN:VEVENT
DTSTART;TZID=America/New_York:20190217T100000
DTEND;TZID=America/New_York:20190217T110000
DTSTAMP:20260422T224220
CREATED:20181031T063838Z
LAST-MODIFIED:20190214T025837Z
UID:3307-1550397600-1550401200@www.dmiec.org
SUMMARY:Weekly Worship Service
DESCRIPTION:Readings: \n\nPentecost Sunday Year B First Reading\n\nPentecost Sunday Year B Second Reading\n\nPentecost Sunday Year B Gospel\n\nSeventeenth Sunday in Ordinary Time Year B First Reading and Responsorial Psalm\n\nSeventeenth Sunday in Ordinary Time Year B Second Reading (Alternative)\n\nSeventeenth Sunday in Ordinary Time Year B Gospel\n\n\nVolunteer(s) needed for this event. Click here to sign up.
URL:https://www.dmiec.org/event/weekly-worship-service-02-17-2019/
LOCATION:DMIEC\, 3306 University Avenue\, Des Moines\, IA\, 50311\, United States
CATEGORIES:Weekly Worship Service
ATTACH;FMTTYPE=image/jpeg:https://www.dmiec.org/wp-content/uploads/2018/10/NewWeeklyReading.jpg
GEO:41.6000075;-93.6619278
X-APPLE-STRUCTURED-LOCATION;VALUE=URI;X-ADDRESS=DMIEC 3306 University Avenue Des Moines IA 50311 United States;X-APPLE-RADIUS=500;X-TITLE=3306 University Avenue:geo:-93.6619278,41.6000075
END:VEVENT
BEGIN:VEVENT
DTSTART;TZID=America/Chicago:20190219T180000
DTEND;TZID=America/Chicago:20190219T193000
DTSTAMP:20260422T224220
CREATED:20190129T222157Z
LAST-MODIFIED:20190219T152404Z
UID:3881-1550599200-1550604600@www.dmiec.org
SUMMARY:*** CANCELLED***  DMIEC Council Meeting        *** CANCELLED***
DESCRIPTION:DMIEC’s Community Council meets monthly in the DMIEC Library.  All members are welcome to attend.  For more information\, please contact Council Chair Karen DeHaven kdehaven@mchsi.com (515-205-1086).
URL:https://www.dmiec.org/event/dmiec-council-meeting-2/
LOCATION:DMIEC Library
CATEGORIES:Committees
END:VEVENT
BEGIN:VEVENT
DTSTART;TZID=America/New_York:20190224T100000
DTEND;TZID=America/New_York:20190224T110000
DTSTAMP:20260422T224220
CREATED:20181031T063950Z
LAST-MODIFIED:20190214T025853Z
UID:3309-1551002400-1551006000@www.dmiec.org
SUMMARY:Weekly Worship Service
DESCRIPTION:Readings: \n\nPentecost Sunday Year B First Reading\n\nPentecost Sunday Year B Second Reading\n\nPentecost Sunday Year B Gospel\n\nSeventeenth Sunday in Ordinary Time Year B First Reading and Responsorial Psalm\n\nSeventeenth Sunday in Ordinary Time Year B Second Reading (Alternative)\n\nSeventeenth Sunday in Ordinary Time Year B Gospel\n\n\nVolunteer(s) needed for this event. Click here to sign up.
URL:https://www.dmiec.org/event/weekly-worship-service-02-24-2019/
LOCATION:DMIEC\, 3306 University Avenue\, Des Moines\, IA\, 50311\, United States
CATEGORIES:Weekly Worship Service
ATTACH;FMTTYPE=image/jpeg:https://www.dmiec.org/wp-content/uploads/2018/10/NewWeeklyReading.jpg
GEO:41.6000075;-93.6619278
X-APPLE-STRUCTURED-LOCATION;VALUE=URI;X-ADDRESS=DMIEC 3306 University Avenue Des Moines IA 50311 United States;X-APPLE-RADIUS=500;X-TITLE=3306 University Avenue:geo:-93.6619278,41.6000075
END:VEVENT
END:VCALENDAR