BEGIN:VCALENDAR
VERSION:2.0
PRODID:-//Des Moines Intentional Eucharistic Community - ECPv6.15.13.1//NONSGML v1.0//EN
CALSCALE:GREGORIAN
METHOD:PUBLISH
X-WR-CALNAME:Des Moines Intentional Eucharistic Community
X-ORIGINAL-URL:https://www.dmiec.org
X-WR-CALDESC:Events for Des Moines Intentional Eucharistic Community
REFRESH-INTERVAL;VALUE=DURATION:PT1H
X-Robots-Tag:noindex
X-PUBLISHED-TTL:PT1H
BEGIN:VTIMEZONE
TZID:America/New_York
BEGIN:DAYLIGHT
TZOFFSETFROM:-0500
TZOFFSETTO:-0400
TZNAME:EDT
DTSTART:20170312T070000
END:DAYLIGHT
BEGIN:STANDARD
TZOFFSETFROM:-0400
TZOFFSETTO:-0500
TZNAME:EST
DTSTART:20171105T060000
END:STANDARD
BEGIN:DAYLIGHT
TZOFFSETFROM:-0500
TZOFFSETTO:-0400
TZNAME:EDT
DTSTART:20180311T070000
END:DAYLIGHT
BEGIN:STANDARD
TZOFFSETFROM:-0400
TZOFFSETTO:-0500
TZNAME:EST
DTSTART:20181104T060000
END:STANDARD
BEGIN:DAYLIGHT
TZOFFSETFROM:-0500
TZOFFSETTO:-0400
TZNAME:EDT
DTSTART:20190310T070000
END:DAYLIGHT
BEGIN:STANDARD
TZOFFSETFROM:-0400
TZOFFSETTO:-0500
TZNAME:EST
DTSTART:20191103T060000
END:STANDARD
END:VTIMEZONE
BEGIN:VTIMEZONE
TZID:UTC
BEGIN:STANDARD
TZOFFSETFROM:+0000
TZOFFSETTO:+0000
TZNAME:UTC
DTSTART:20170101T000000
END:STANDARD
END:VTIMEZONE
BEGIN:VEVENT
DTSTART;TZID=America/New_York:20180902T100000
DTEND;TZID=America/New_York:20180902T110000
DTSTAMP:20260423T060223
CREATED:20180721T234511Z
LAST-MODIFIED:20180814T171647Z
UID:2524-1535882400-1535886000@www.dmiec.org
SUMMARY:Weekly Worship Service
DESCRIPTION:Readings: \n\nPentecost Sunday Year B First Reading\n\nPentecost Sunday Year B Second Reading\n\nPentecost Sunday Year B Gospel\n\nSeventeenth Sunday in Ordinary Time Year B First Reading and Responsorial Psalm\n\nSeventeenth Sunday in Ordinary Time Year B Second Reading (Alternative)\n\nSeventeenth Sunday in Ordinary Time Year B Gospel\n\n\nVolunteer(s) needed for this event. Click here to sign up.
URL:https://www.dmiec.org/event/weekly-worship-service-2018-09-02/
CATEGORIES:Weekly Worship Service
ATTACH;FMTTYPE=image/jpeg:https://www.dmiec.org/wp-content/uploads/2015/09/pastoral.jpg
END:VEVENT
BEGIN:VEVENT
DTSTART;TZID=America/New_York:20180909T100000
DTEND;TZID=America/New_York:20180909T110000
DTSTAMP:20260423T060223
CREATED:20180721T234511Z
LAST-MODIFIED:20180814T171707Z
UID:2525-1536487200-1536490800@www.dmiec.org
SUMMARY:Weekly Worship Service
DESCRIPTION:Readings: \n\nPentecost Sunday Year B First Reading\n\nPentecost Sunday Year B Second Reading\n\nPentecost Sunday Year B Gospel\n\nSeventeenth Sunday in Ordinary Time Year B First Reading and Responsorial Psalm\n\nSeventeenth Sunday in Ordinary Time Year B Second Reading (Alternative)\n\nSeventeenth Sunday in Ordinary Time Year B Gospel\n\n\nVolunteer(s) needed for this event. Click here to sign up.
URL:https://www.dmiec.org/event/weekly-worship-service-2018-09-09/
CATEGORIES:Weekly Worship Service
ATTACH;FMTTYPE=image/jpeg:https://www.dmiec.org/wp-content/uploads/2015/09/pastoral.jpg
END:VEVENT
BEGIN:VEVENT
DTSTART;TZID=UTC:20180912T110000
DTEND;TZID=UTC:20180912T130000
DTSTAMP:20260423T060223
CREATED:20150917T001434Z
LAST-MODIFIED:20180815T012040Z
UID:440-1536750000-1536757200@www.dmiec.org
SUMMARY:Bake Off For Charity
DESCRIPTION:[Insert info about the event.] \n\nVolunteer(s) needed for this event. Click here to sign up.
URL:https://www.dmiec.org/event/bake-off-for-charity/
LOCATION:DMIEC\, 3306 University Avenue\, Des Moines\, IA\, 50311\, United States
CATEGORIES:Community
ATTACH;FMTTYPE=image/jpeg:https://www.dmiec.org/wp-content/uploads/2015/09/event_10-compressor.jpg
GEO:41.6000075;-93.6619278
X-APPLE-STRUCTURED-LOCATION;VALUE=URI;X-ADDRESS=DMIEC 3306 University Avenue Des Moines IA 50311 United States;X-APPLE-RADIUS=500;X-TITLE=3306 University Avenue:geo:-93.6619278,41.6000075
END:VEVENT
BEGIN:VEVENT
DTSTART;TZID=America/New_York:20180916T100000
DTEND;TZID=America/New_York:20180916T110000
DTSTAMP:20260423T060223
CREATED:20180721T234511Z
LAST-MODIFIED:20180814T171730Z
UID:2526-1537092000-1537095600@www.dmiec.org
SUMMARY:Weekly Worship Service
DESCRIPTION:Readings: \n\nPentecost Sunday Year B First Reading\n\nPentecost Sunday Year B Second Reading\n\nPentecost Sunday Year B Gospel\n\nSeventeenth Sunday in Ordinary Time Year B First Reading and Responsorial Psalm\n\nSeventeenth Sunday in Ordinary Time Year B Second Reading (Alternative)\n\nSeventeenth Sunday in Ordinary Time Year B Gospel\n\n\nVolunteer(s) needed for this event. Click here to sign up.
URL:https://www.dmiec.org/event/weekly-worship-service-2018-09-16/
CATEGORIES:Weekly Worship Service
ATTACH;FMTTYPE=image/jpeg:https://www.dmiec.org/wp-content/uploads/2015/09/pastoral.jpg
END:VEVENT
BEGIN:VEVENT
DTSTART;TZID=America/New_York:20180923T100000
DTEND;TZID=America/New_York:20180923T110000
DTSTAMP:20260423T060223
CREATED:20180721T234511Z
LAST-MODIFIED:20180813T045222Z
UID:2527-1537696800-1537700400@www.dmiec.org
SUMMARY:Weekly Worship Service
DESCRIPTION:Readings: \n\nPentecost Sunday Year B First Reading\n\nPentecost Sunday Year B Second Reading\n\nPentecost Sunday Year B Gospel\n\nSeventeenth Sunday in Ordinary Time Year B First Reading and Responsorial Psalm\n\nSeventeenth Sunday in Ordinary Time Year B Second Reading (Alternative)\n\nSeventeenth Sunday in Ordinary Time Year B Gospel\n\n\nVolunteer(s) needed for this event. Click here to sign up.
URL:https://www.dmiec.org/event/weekly-worship-service-2018-09-23/
CATEGORIES:Weekly Worship Service
ATTACH;FMTTYPE=image/jpeg:https://www.dmiec.org/wp-content/uploads/2015/09/pastoral.jpg
END:VEVENT
BEGIN:VEVENT
DTSTART;TZID=America/New_York:20180930T100000
DTEND;TZID=America/New_York:20180930T110000
DTSTAMP:20260423T060223
CREATED:20180721T234511Z
LAST-MODIFIED:20180813T045445Z
UID:2528-1538301600-1538305200@www.dmiec.org
SUMMARY:Weekly Worship Service
DESCRIPTION:Readings: \n\nPentecost Sunday Year B First Reading\n\nPentecost Sunday Year B Second Reading\n\nPentecost Sunday Year B Gospel\n\nSeventeenth Sunday in Ordinary Time Year B First Reading and Responsorial Psalm\n\nSeventeenth Sunday in Ordinary Time Year B Second Reading (Alternative)\n\nSeventeenth Sunday in Ordinary Time Year B Gospel\n\n\nVolunteer(s) needed for this event. Click here to sign up.
URL:https://www.dmiec.org/event/weekly-worship-service-2018-09-30/
CATEGORIES:Weekly Worship Service
ATTACH;FMTTYPE=image/jpeg:https://www.dmiec.org/wp-content/uploads/2015/09/pastoral.jpg
END:VEVENT
END:VCALENDAR