BEGIN:VCALENDAR
VERSION:2.0
PRODID:-//Des Moines Intentional Eucharistic Community - ECPv6.15.13.1//NONSGML v1.0//EN
CALSCALE:GREGORIAN
METHOD:PUBLISH
X-ORIGINAL-URL:https://www.dmiec.org
X-WR-CALDESC:Events for Des Moines Intentional Eucharistic Community
REFRESH-INTERVAL;VALUE=DURATION:PT1H
X-Robots-Tag:noindex
X-PUBLISHED-TTL:PT1H
BEGIN:VTIMEZONE
TZID:America/Chicago
BEGIN:DAYLIGHT
TZOFFSETFROM:-0600
TZOFFSETTO:-0500
TZNAME:CDT
DTSTART:20190310T080000
END:DAYLIGHT
BEGIN:STANDARD
TZOFFSETFROM:-0500
TZOFFSETTO:-0600
TZNAME:CST
DTSTART:20191103T070000
END:STANDARD
BEGIN:DAYLIGHT
TZOFFSETFROM:-0600
TZOFFSETTO:-0500
TZNAME:CDT
DTSTART:20200308T080000
END:DAYLIGHT
BEGIN:STANDARD
TZOFFSETFROM:-0500
TZOFFSETTO:-0600
TZNAME:CST
DTSTART:20201101T070000
END:STANDARD
BEGIN:DAYLIGHT
TZOFFSETFROM:-0600
TZOFFSETTO:-0500
TZNAME:CDT
DTSTART:20210314T080000
END:DAYLIGHT
BEGIN:STANDARD
TZOFFSETFROM:-0500
TZOFFSETTO:-0600
TZNAME:CST
DTSTART:20211107T070000
END:STANDARD
END:VTIMEZONE
BEGIN:VEVENT
DTSTART;TZID=America/Chicago:20200802T103000
DTEND;TZID=America/Chicago:20200802T110000
DTSTAMP:20260420T073700
CREATED:20200729T025854Z
LAST-MODIFIED:20200729T031006Z
UID:11537-1596364200-1596366000@www.dmiec.org
SUMMARY:First Sunday Collection - Primary Health Care Homeless Support Services
DESCRIPTION:Our August 2 First Sunday Collection recipient is Primary Health Care Homeless Support Services \nPrimary Health Care\, Inc. (PHC) is a community health center located in Polk\, Story and Marshall counties. PHC’s mission is to provide health care and supportive services to people to\nimprove their quality of life. With an emphasis on dignity and respect\, the Homeless Support Services Department provides housing services and meets basic needs for people who are\nvulnerable and experiencing homelessness. PHC serves as the Centralized Intake for Polk County and assists over 2\,000 households per year. The department also provides case\nmanagement to over 300 households. The funds donated to PHC will assist clients with obtaining permanent housing by providing financial assistance towards rent\, deposit or\nutilities. For more information\, visit https://phciowa.org/homeless-support-services/ . \nCHECKS SHOULD BE MAILED ASAP TO:\nDMIEC\, P.O. Box 30065\, Des Moines\, IA  50310 \nChecks can be written either to “Primary Health Care\, Inc.” or “DMIEC” with “First Sunday” in the memo line.  We would prefer that all checks be mailed to DMIEC. If you mail your check directly to the organization\, please inform Ed Arnold of the amount\, if you feel comfortable\, so the Social Justice Committee can get an accurate count of donations.
URL:https://www.dmiec.org/event/first-sunday-collection-primary-health-care-homeless-support-services/
LOCATION:DMIEC\, 3306 University Avenue\, Des Moines\, IA\, 50311\, United States
CATEGORIES:Stewardship
GEO:41.6000075;-93.6619278
X-APPLE-STRUCTURED-LOCATION;VALUE=URI;X-ADDRESS=DMIEC 3306 University Avenue Des Moines IA 50311 United States;X-APPLE-RADIUS=500;X-TITLE=3306 University Avenue:geo:-93.6619278,41.6000075
END:VEVENT
BEGIN:VEVENT
DTSTART;TZID=America/Chicago:20200816T103000
DTEND;TZID=America/Chicago:20200816T110000
DTSTAMP:20260420T073700
CREATED:20200810T142558Z
LAST-MODIFIED:20200810T143309Z
UID:11571-1597573800-1597575600@www.dmiec.org
SUMMARY:DMARC Emergency Food Pantries Sunday Special Collection
DESCRIPTION:Every third Sunday is DMARC Emergency Food Pantries Sunday.  \nBefore the pandemic began\, DMARC pantries were already operating at a 10% increase over 2019 levels.  As the economic crisis surrounding the pandemic has worsened\, pantry use has grown exponentially.  March showed a 15% increase over last year\, with at least one-fifth of those clients using the pantry for the first time. \nPlease send donation checks directly to DMARC.  Please write checks to “DMARC” and mail to DMARC\, 1435 Mulberry Street\, Des Moines\, IA 50309. Please include a note with your check indicating that you are part of the DMIEC community. \nFor more information\, please visit the DMARC Food Pantries website  https://www.dmarcunited.org/food/ \nRead the most recent quarterly newsletter here.
URL:https://www.dmiec.org/event/dmarc-emergency-food-pantries-sunday-special-collection-7/
LOCATION:DMIEC\, 3306 University Avenue\, Des Moines\, IA\, 50311\, United States
CATEGORIES:Stewardship
GEO:41.6000075;-93.6619278
X-APPLE-STRUCTURED-LOCATION;VALUE=URI;X-ADDRESS=DMIEC 3306 University Avenue Des Moines IA 50311 United States;X-APPLE-RADIUS=500;X-TITLE=3306 University Avenue:geo:-93.6619278,41.6000075
END:VEVENT
END:VCALENDAR