BEGIN:VCALENDAR
VERSION:2.0
PRODID:-//Des Moines Intentional Eucharistic Community - ECPv6.15.13.1//NONSGML v1.0//EN
CALSCALE:GREGORIAN
METHOD:PUBLISH
X-ORIGINAL-URL:https://www.dmiec.org
X-WR-CALDESC:Events for Des Moines Intentional Eucharistic Community
REFRESH-INTERVAL;VALUE=DURATION:PT1H
X-Robots-Tag:noindex
X-PUBLISHED-TTL:PT1H
BEGIN:VTIMEZONE
TZID:America/Chicago
BEGIN:DAYLIGHT
TZOFFSETFROM:-0600
TZOFFSETTO:-0500
TZNAME:CDT
DTSTART:20190310T080000
END:DAYLIGHT
BEGIN:STANDARD
TZOFFSETFROM:-0500
TZOFFSETTO:-0600
TZNAME:CST
DTSTART:20191103T070000
END:STANDARD
BEGIN:DAYLIGHT
TZOFFSETFROM:-0600
TZOFFSETTO:-0500
TZNAME:CDT
DTSTART:20200308T080000
END:DAYLIGHT
BEGIN:STANDARD
TZOFFSETFROM:-0500
TZOFFSETTO:-0600
TZNAME:CST
DTSTART:20201101T070000
END:STANDARD
BEGIN:DAYLIGHT
TZOFFSETFROM:-0600
TZOFFSETTO:-0500
TZNAME:CDT
DTSTART:20210314T080000
END:DAYLIGHT
BEGIN:STANDARD
TZOFFSETFROM:-0500
TZOFFSETTO:-0600
TZNAME:CST
DTSTART:20211107T070000
END:STANDARD
END:VTIMEZONE
BEGIN:VEVENT
DTSTART;TZID=America/Chicago:20200607T103000
DTEND;TZID=America/Chicago:20200607T110000
DTSTAMP:20260420T102335
CREATED:20200602T154245Z
LAST-MODIFIED:20200602T154657Z
UID:11351-1591525800-1591527600@www.dmiec.org
SUMMARY:First Sunday Collection - Days for Girls
DESCRIPTION:Our June 14 First Sunday collection recipient is DAYS FOR GIRLS. Days for Girls serves young women in many areas throughout the world\, providing reusable feminine products where they have not been available. Although it may seem that this should not be a problem\, or one easily solved\, that is not the case. The lack of feminine products prevents girls from going to school\, as they are unable to leave their homes. In fact\, it is not uncommon for them to have to sit on pieces of cardboard throughout their cycle due to a lack of menstrual pads. These girls are considered dirty or unclean. The founder of Days for Girls has spent many years developing Days for Girls Kits to allow young women freedom to attend school with the added result of breaking the cycle of poverty. Today Days for Girls has reached more than 1.5 million individuals in 140+ countries with DfG Kits and menstrual health education. Learn more here. Checks can be written either to “Days for Girls” or “DMIEC” with “First Sunday” in the memo line.
URL:https://www.dmiec.org/event/first-sunday-collection-days-for-girls/
LOCATION:DMIEC\, 3306 University Avenue\, Des Moines\, IA\, 50311\, United States
CATEGORIES:Stewardship
GEO:41.6000075;-93.6619278
X-APPLE-STRUCTURED-LOCATION;VALUE=URI;X-ADDRESS=DMIEC 3306 University Avenue Des Moines IA 50311 United States;X-APPLE-RADIUS=500;X-TITLE=3306 University Avenue:geo:-93.6619278,41.6000075
END:VEVENT
BEGIN:VEVENT
DTSTART;TZID=America/Chicago:20200621T103000
DTEND;TZID=America/Chicago:20200621T110000
DTSTAMP:20260420T102335
CREATED:20200613T174435Z
LAST-MODIFIED:20200613T175109Z
UID:11411-1592735400-1592737200@www.dmiec.org
SUMMARY:DMARC Emergency Food Pantries Sunday Special Collection
DESCRIPTION:Every third Sunday is DMARC Emergency Food Pantries Sunday.  \nBefore the pandemic began\, DMARC pantries were already operating at a 10% increase over 2019 levels.  As the economic crisis surrounding the pandemic has worsened\, pantry use has grown exponentially.  March showed a 15% increase over last year\, with at least one-fifth of those clients using the pantry for the first time. \nPlease send donation checks directly to DMARC.  Please write checks to “DMARC” and mail to DMARC\, 1435 Mulberry Street\, Des Moines\, IA 50309. \nFor more information\, please visit the DMARC Food Pantries website  https://www.dmarcunited.org/food/
URL:https://www.dmiec.org/event/dmarc-emergency-food-pantries-sunday-special-collection-5/
LOCATION:DMIEC\, 3306 University Avenue\, Des Moines\, IA\, 50311\, United States
CATEGORIES:Stewardship
GEO:41.6000075;-93.6619278
X-APPLE-STRUCTURED-LOCATION;VALUE=URI;X-ADDRESS=DMIEC 3306 University Avenue Des Moines IA 50311 United States;X-APPLE-RADIUS=500;X-TITLE=3306 University Avenue:geo:-93.6619278,41.6000075
END:VEVENT
END:VCALENDAR