BEGIN:VCALENDAR
VERSION:2.0
PRODID:-//Des Moines Intentional Eucharistic Community - ECPv6.15.13.1//NONSGML v1.0//EN
CALSCALE:GREGORIAN
METHOD:PUBLISH
X-WR-CALNAME:Des Moines Intentional Eucharistic Community
X-ORIGINAL-URL:https://www.dmiec.org
X-WR-CALDESC:Events for Des Moines Intentional Eucharistic Community
REFRESH-INTERVAL;VALUE=DURATION:PT1H
X-Robots-Tag:noindex
X-PUBLISHED-TTL:PT1H
BEGIN:VTIMEZONE
TZID:America/Chicago
BEGIN:DAYLIGHT
TZOFFSETFROM:-0600
TZOFFSETTO:-0500
TZNAME:CDT
DTSTART:20190310T080000
END:DAYLIGHT
BEGIN:STANDARD
TZOFFSETFROM:-0500
TZOFFSETTO:-0600
TZNAME:CST
DTSTART:20191103T070000
END:STANDARD
BEGIN:DAYLIGHT
TZOFFSETFROM:-0600
TZOFFSETTO:-0500
TZNAME:CDT
DTSTART:20200308T080000
END:DAYLIGHT
BEGIN:STANDARD
TZOFFSETFROM:-0500
TZOFFSETTO:-0600
TZNAME:CST
DTSTART:20201101T070000
END:STANDARD
BEGIN:DAYLIGHT
TZOFFSETFROM:-0600
TZOFFSETTO:-0500
TZNAME:CDT
DTSTART:20210314T080000
END:DAYLIGHT
BEGIN:STANDARD
TZOFFSETFROM:-0500
TZOFFSETTO:-0600
TZNAME:CST
DTSTART:20211107T070000
END:STANDARD
END:VTIMEZONE
BEGIN:VEVENT
DTSTART;TZID=America/Chicago:20200405T103000
DTEND;TZID=America/Chicago:20200405T104500
DTSTAMP:20260420T130839
CREATED:20200324T021208Z
LAST-MODIFIED:20200324T021957Z
UID:11087-1586082600-1586083500@www.dmiec.org
SUMMARY:First Sunday Collection - Valley Disaster Relief
DESCRIPTION:Originally formed to help natural disaster victims\, Valley Disaster Relief now focuses on helping families\, individuals\, other nonprofits\, and churches in the Des Moines metro area with tree service. They are a volunteer group with no paid staff and do not charge for their services. With 20+ chainsaws\, a bucket truck\, chip truck\, chipper\, and a mini skid\, in 2019 they helped over 240 families and provided over 1\,900 hours of volunteer time to individuals and nonprofit organizations with tree trimming and removal services. In the last 6 years they have exceeded 1\,000 jobs. They help Habitat for Humanity\, local and regional churches\, non-profits like Hope Ministries\, Camp Sunnyside\, Mosaic\, summer camps\, and individuals on fixed incomes unable to afford tree trimming or removal\, and currently partner with the cities of Des Moines\, Urbandale\, Pleasant Hill\, and West Des Moines.  They have also responded to tornado damage throughout Iowa including Lake Panorama\, Dallas Center\, Correctionville\, Mapleton\, Marshalltown\, Earlham\, Garwin\, Parkersburg\, Thurman\, and Ottumwa. Since they do not charge for services\, their continued work is entirely funded by donations. \nThe First Sunday collection will occur as usual\, except checks should be mailed by April 5 to: \n                                     DMIEC\, P.O. Box 30065\, Des Moines\, IA  50310 \nChecks may be made out to “Valley Church” with “VDR” in the memo line\, or to “DMIEC” with “First Sunday” in the memo line.
URL:https://www.dmiec.org/event/first-sunday-collection-valley-disaster-relief/
LOCATION:DMIEC\, 3306 University Avenue\, Des Moines\, IA\, 50311\, United States
CATEGORIES:Community Service Activities,Stewardship
GEO:41.6000075;-93.6619278
X-APPLE-STRUCTURED-LOCATION;VALUE=URI;X-ADDRESS=DMIEC 3306 University Avenue Des Moines IA 50311 United States;X-APPLE-RADIUS=500;X-TITLE=3306 University Avenue:geo:-93.6619278,41.6000075
END:VEVENT
END:VCALENDAR