BEGIN:VCALENDAR
VERSION:2.0
PRODID:-//Des Moines Intentional Eucharistic Community - ECPv6.15.13.1//NONSGML v1.0//EN
CALSCALE:GREGORIAN
METHOD:PUBLISH
X-WR-CALNAME:Des Moines Intentional Eucharistic Community
X-ORIGINAL-URL:https://www.dmiec.org
X-WR-CALDESC:Events for Des Moines Intentional Eucharistic Community
REFRESH-INTERVAL;VALUE=DURATION:PT1H
X-Robots-Tag:noindex
X-PUBLISHED-TTL:PT1H
BEGIN:VTIMEZONE
TZID:America/Chicago
BEGIN:DAYLIGHT
TZOFFSETFROM:-0600
TZOFFSETTO:-0500
TZNAME:CDT
DTSTART:20190310T080000
END:DAYLIGHT
BEGIN:STANDARD
TZOFFSETFROM:-0500
TZOFFSETTO:-0600
TZNAME:CST
DTSTART:20191103T070000
END:STANDARD
BEGIN:DAYLIGHT
TZOFFSETFROM:-0600
TZOFFSETTO:-0500
TZNAME:CDT
DTSTART:20200308T080000
END:DAYLIGHT
BEGIN:STANDARD
TZOFFSETFROM:-0500
TZOFFSETTO:-0600
TZNAME:CST
DTSTART:20201101T070000
END:STANDARD
BEGIN:DAYLIGHT
TZOFFSETFROM:-0600
TZOFFSETTO:-0500
TZNAME:CDT
DTSTART:20210314T080000
END:DAYLIGHT
BEGIN:STANDARD
TZOFFSETFROM:-0500
TZOFFSETTO:-0600
TZNAME:CST
DTSTART:20211107T070000
END:STANDARD
END:VTIMEZONE
BEGIN:VEVENT
DTSTART;TZID=America/Chicago:20200301T103000
DTEND;TZID=America/Chicago:20200301T110000
DTSTAMP:20260420T143927
CREATED:20200224T192637Z
LAST-MODIFIED:20200224T193803Z
UID:10965-1583058600-1583060400@www.dmiec.org
SUMMARY:First Sunday Collection - YMCA Supportive Housing
DESCRIPTION:All proceeds from our March 1 collection will go to the YMCA of Greater Des Moines to bolster the YMCA Supportive Housing Campus\, a community solution to help eliminate homelessness by providing hope\, dignity\, and support in the form of permanent supportive housing.  For more information\, click here. \nChecks can be written either to “YMCA of Greater Des Moines” or “DMIEC.” Donations may be made in cash or via checks made payable either to “YMCA of Greater Des Moines\,” or to “DMIEC.”
URL:https://www.dmiec.org/event/first-sunday-collection-ymca-supportive-housing/
LOCATION:DMIEC\, 3306 University Avenue\, Des Moines\, IA\, 50311\, United States
CATEGORIES:Stewardship
GEO:41.6000075;-93.6619278
X-APPLE-STRUCTURED-LOCATION;VALUE=URI;X-ADDRESS=DMIEC 3306 University Avenue Des Moines IA 50311 United States;X-APPLE-RADIUS=500;X-TITLE=3306 University Avenue:geo:-93.6619278,41.6000075
END:VEVENT
BEGIN:VEVENT
DTSTART;VALUE=DATE:20200328
DTEND;VALUE=DATE:20200329
DTSTAMP:20260420T143927
CREATED:20200310T040327Z
LAST-MODIFIED:20200324T020803Z
UID:11013-1585353600-1585439999@www.dmiec.org
SUMMARY:DMIEC Spring Clean-Up *** CANCELLED - (See message below with alternate instructions for individual cleanup efforts) ***
DESCRIPTION:SPRING GROUNDS CLEANUP in the AGE OF SOCIAL DISTANCING \nWe will have a gradual cleanup during the month of April. People who want to help can work individually or in pairs whenever able. Contact Martha Gelhaus (mgelhaus@hotmail.com) to let her know when you plan to work. She will give assignments of work to be done and\, if necessary\, can meet volunteers at DMIEC to provide tools and yard bags. (If possible\, please bring your own tools. Donation of yard bags welcome but not necessary.)
URL:https://www.dmiec.org/event/dmiec-spring-clean-up-2/
LOCATION:DMIEC\, 3306 University Avenue\, Des Moines\, IA\, 50311\, United States
CATEGORIES:Building & Grounds,Stewardship
ORGANIZER;CN="Martha Gelhaus":MAILTO:mgelhaus@hotmail.com
GEO:41.6000075;-93.6619278
X-APPLE-STRUCTURED-LOCATION;VALUE=URI;X-ADDRESS=DMIEC 3306 University Avenue Des Moines IA 50311 United States;X-APPLE-RADIUS=500;X-TITLE=3306 University Avenue:geo:-93.6619278,41.6000075
END:VEVENT
END:VCALENDAR