BEGIN:VCALENDAR
VERSION:2.0
PRODID:-//Des Moines Intentional Eucharistic Community - ECPv6.15.13.1//NONSGML v1.0//EN
CALSCALE:GREGORIAN
METHOD:PUBLISH
X-WR-CALNAME:Des Moines Intentional Eucharistic Community
X-ORIGINAL-URL:https://www.dmiec.org
X-WR-CALDESC:Events for Des Moines Intentional Eucharistic Community
REFRESH-INTERVAL;VALUE=DURATION:PT1H
X-Robots-Tag:noindex
X-PUBLISHED-TTL:PT1H
BEGIN:VTIMEZONE
TZID:America/Chicago
BEGIN:DAYLIGHT
TZOFFSETFROM:-0600
TZOFFSETTO:-0500
TZNAME:CDT
DTSTART:20190310T080000
END:DAYLIGHT
BEGIN:STANDARD
TZOFFSETFROM:-0500
TZOFFSETTO:-0600
TZNAME:CST
DTSTART:20191103T070000
END:STANDARD
BEGIN:DAYLIGHT
TZOFFSETFROM:-0600
TZOFFSETTO:-0500
TZNAME:CDT
DTSTART:20200308T080000
END:DAYLIGHT
BEGIN:STANDARD
TZOFFSETFROM:-0500
TZOFFSETTO:-0600
TZNAME:CST
DTSTART:20201101T070000
END:STANDARD
BEGIN:DAYLIGHT
TZOFFSETFROM:-0600
TZOFFSETTO:-0500
TZNAME:CDT
DTSTART:20210314T080000
END:DAYLIGHT
BEGIN:STANDARD
TZOFFSETFROM:-0500
TZOFFSETTO:-0600
TZNAME:CST
DTSTART:20211107T070000
END:STANDARD
END:VTIMEZONE
BEGIN:VEVENT
DTSTART;TZID=America/Chicago:20200202T103000
DTEND;TZID=America/Chicago:20200202T110000
DTSTAMP:20260420T161059
CREATED:20200121T155935Z
LAST-MODIFIED:20200121T160429Z
UID:10837-1580639400-1580641200@www.dmiec.org
SUMMARY:First Sunday Collection - Faith & Grace Garden
DESCRIPTION:Collection recipient for FEBRUARY 2:  FAITH & GRACE GARDEN \nEstablished in 2001\, Faith & Grace Garden is a one-acre food pantry garden\, meaning all the fruits and vegetables grown in the garden are donated to feed hungry local people. The garden is located in the ‘backyards’ of both St. Timothy’s Episcopal Church and Covenant Presbyterian Church in West Des Moines and can be seen along Ashworth Road. In 2019\, Faith & Grace Garden donated over 12\,700 pounds of fresh organic fruits and vegetables to feed hungry people throughout Polk County. \nLast year\, a large greenhouse was built near the garden to grow food year round. DMIEC funds will be used to help run a waterline to the new greenhouse\, purchase garden supplies\, and start plants as seedlings. \nFor more information about Faith & Grace Garden\, click here. \nDonations may be made in cash or via checks made payable either to “St. Timothy’s Episcopal Church” with “Faith & Grace Garden” in the memo line\, or to “DMIEC.”
URL:https://www.dmiec.org/event/first-sunday-collection-faith-grace-garden/
LOCATION:DMIEC Worship Space
CATEGORIES:Stewardship
END:VEVENT
BEGIN:VEVENT
DTSTART;TZID=America/Chicago:20200216T103000
DTEND;TZID=America/Chicago:20200216T110000
DTSTAMP:20260420T161059
CREATED:20200213T015630Z
LAST-MODIFIED:20200213T015804Z
UID:10880-1581849000-1581850800@www.dmiec.org
SUMMARY:
DESCRIPTION:Every third Sunday is DMARC Emergency Food Pantries Sunday.  \nEnvelopes will be available for donations to the Des Moines Area Religious Council’s Emergency Food Pantries at our February 16 worship service.  Please write checks to “DMARC\,”  place cash in our specially designated envelopes and add to the collection basket\, or feel free to take an envelope home and make a donation directly to DMARC. \nFor more information\, please visit the DMARC Food Pantries website  https://www.dmarcunited.org/food/
URL:https://www.dmiec.org/event/10880/
LOCATION:DMIEC\, 3306 University Avenue\, Des Moines\, IA\, 50311\, United States
CATEGORIES:Stewardship
GEO:41.6000075;-93.6619278
X-APPLE-STRUCTURED-LOCATION;VALUE=URI;X-ADDRESS=DMIEC 3306 University Avenue Des Moines IA 50311 United States;X-APPLE-RADIUS=500;X-TITLE=3306 University Avenue:geo:-93.6619278,41.6000075
END:VEVENT
END:VCALENDAR