BEGIN:VCALENDAR
VERSION:2.0
PRODID:-//Des Moines Intentional Eucharistic Community - ECPv6.15.13.1//NONSGML v1.0//EN
CALSCALE:GREGORIAN
METHOD:PUBLISH
X-ORIGINAL-URL:https://www.dmiec.org
X-WR-CALDESC:Events for Des Moines Intentional Eucharistic Community
REFRESH-INTERVAL;VALUE=DURATION:PT1H
X-Robots-Tag:noindex
X-PUBLISHED-TTL:PT1H
BEGIN:VTIMEZONE
TZID:America/Chicago
BEGIN:DAYLIGHT
TZOFFSETFROM:-0600
TZOFFSETTO:-0500
TZNAME:CDT
DTSTART:20180311T080000
END:DAYLIGHT
BEGIN:STANDARD
TZOFFSETFROM:-0500
TZOFFSETTO:-0600
TZNAME:CST
DTSTART:20181104T070000
END:STANDARD
BEGIN:DAYLIGHT
TZOFFSETFROM:-0600
TZOFFSETTO:-0500
TZNAME:CDT
DTSTART:20190310T080000
END:DAYLIGHT
BEGIN:STANDARD
TZOFFSETFROM:-0500
TZOFFSETTO:-0600
TZNAME:CST
DTSTART:20191103T070000
END:STANDARD
BEGIN:DAYLIGHT
TZOFFSETFROM:-0600
TZOFFSETTO:-0500
TZNAME:CDT
DTSTART:20200308T080000
END:DAYLIGHT
BEGIN:STANDARD
TZOFFSETFROM:-0500
TZOFFSETTO:-0600
TZNAME:CST
DTSTART:20201101T070000
END:STANDARD
END:VTIMEZONE
BEGIN:VEVENT
DTSTART;TZID=America/Chicago:20191103T103000
DTEND;TZID=America/Chicago:20191103T110000
DTSTAMP:20260420T200839
CREATED:20191029T022309Z
LAST-MODIFIED:20191029T022309Z
UID:7779-1572777000-1572778800@www.dmiec.org
SUMMARY:First Sunday Collection - Sleep in Heavenly Peace
DESCRIPTION:“No Kid Sleeps on the Floor in Our Town!” is the mission of Sleep in Heavenly Peace.  Volunteers of the group gather to build beds and then deliver them\, complete with new mattresses\, pillows\, and bedding\, to kids in the greater Des Moines area who don’t have beds of their own.  The IA-Des Moines Chapter of SHP was launched less than one year ago and already has delivered beds to nearly 150 kids who had been sleeping on a couch\, chair\, or even the floor.  There are hundreds more kids out there who need beds of their own!  For more information\, click here. \nDonations may be made in cash or via checks written either to “Sleep in Heavenly Peace” or “DMIEC.”
URL:https://www.dmiec.org/event/first-sunday-collection-sleep-in-heavenly-peace/
LOCATION:DMIEC\, 3306 University Avenue\, Des Moines\, IA\, 50311\, United States
CATEGORIES:Stewardship
GEO:41.6000075;-93.6619278
X-APPLE-STRUCTURED-LOCATION;VALUE=URI;X-ADDRESS=DMIEC 3306 University Avenue Des Moines IA 50311 United States;X-APPLE-RADIUS=500;X-TITLE=3306 University Avenue:geo:-93.6619278,41.6000075
END:VEVENT
END:VCALENDAR