BEGIN:VCALENDAR
VERSION:2.0
PRODID:-//Des Moines Intentional Eucharistic Community - ECPv6.15.13.1//NONSGML v1.0//EN
CALSCALE:GREGORIAN
METHOD:PUBLISH
X-WR-CALNAME:Des Moines Intentional Eucharistic Community
X-ORIGINAL-URL:https://www.dmiec.org
X-WR-CALDESC:Events for Des Moines Intentional Eucharistic Community
REFRESH-INTERVAL;VALUE=DURATION:PT1H
X-Robots-Tag:noindex
X-PUBLISHED-TTL:PT1H
BEGIN:VTIMEZONE
TZID:America/Chicago
BEGIN:DAYLIGHT
TZOFFSETFROM:-0600
TZOFFSETTO:-0500
TZNAME:CDT
DTSTART:20180311T080000
END:DAYLIGHT
BEGIN:STANDARD
TZOFFSETFROM:-0500
TZOFFSETTO:-0600
TZNAME:CST
DTSTART:20181104T070000
END:STANDARD
BEGIN:DAYLIGHT
TZOFFSETFROM:-0600
TZOFFSETTO:-0500
TZNAME:CDT
DTSTART:20190310T080000
END:DAYLIGHT
BEGIN:STANDARD
TZOFFSETFROM:-0500
TZOFFSETTO:-0600
TZNAME:CST
DTSTART:20191103T070000
END:STANDARD
BEGIN:DAYLIGHT
TZOFFSETFROM:-0600
TZOFFSETTO:-0500
TZNAME:CDT
DTSTART:20200308T080000
END:DAYLIGHT
BEGIN:STANDARD
TZOFFSETFROM:-0500
TZOFFSETTO:-0600
TZNAME:CST
DTSTART:20201101T070000
END:STANDARD
END:VTIMEZONE
BEGIN:VEVENT
DTSTART;TZID=America/Chicago:20191006T103000
DTEND;TZID=America/Chicago:20191006T110000
DTSTAMP:20260420T213342
CREATED:20190929T204926Z
LAST-MODIFIED:20190929T204926Z
UID:7299-1570357800-1570359600@www.dmiec.org
SUMMARY:First Sunday Collection - Our Sister Parish Student Scholarships
DESCRIPTION:All proceeds from our October 6 First Sunday collection will go to provide scholarships money for students in the cantones\nnear Berlin\, El Salvador. This money allows students to attend high school by helping pay for such things as uniforms and transportation.\nPlease make checks payable to “Our Sister Parish” with “scholarships” in the memo line or to “DMIEC” or donate cash in this Sunday’s weekly offering.
URL:https://www.dmiec.org/event/first-sunday-collection-our-sister-parish-student-scholarships/
LOCATION:DMIEC Worship Space
CATEGORIES:Stewardship
END:VEVENT
BEGIN:VEVENT
DTSTART;TZID=America/Chicago:20191020T103000
DTEND;TZID=America/Chicago:20191020T110000
DTSTAMP:20260420T213342
CREATED:20191016T193012Z
LAST-MODIFIED:20191016T193012Z
UID:7642-1571567400-1571569200@www.dmiec.org
SUMMARY:DMARC Emergency Food Pantries Sunday Special Collection
DESCRIPTION:Every third Sunday is DMARC Emergency Food Pantries Sunday.  \nEnvelopes will be available for donations to the Des Moines Area Religious Council’s Emergency Food Pantries at our October 20 worship service.  Please write checks to “DMARC\,”  place cash in our specially designated envelopes and add to the collection basket\, or feel free to take an envelope home and make a donation directly to DMARC. \nIn the past 12 months\, DMARC assisted 53\,782 unique individuals through its Food Pantry Network\, an increase of more than 6% from last year and 58% over the last five years. \nFor more information\, please visit the DMARC Food Pantries website  https://www.dmarcunited.org/food/
URL:https://www.dmiec.org/event/dmarc-emergency-food-pantries-sunday-special-collection-2/
LOCATION:DMIEC\, 3306 University Avenue\, Des Moines\, IA\, 50311\, United States
CATEGORIES:Stewardship
GEO:41.6000075;-93.6619278
X-APPLE-STRUCTURED-LOCATION;VALUE=URI;X-ADDRESS=DMIEC 3306 University Avenue Des Moines IA 50311 United States;X-APPLE-RADIUS=500;X-TITLE=3306 University Avenue:geo:-93.6619278,41.6000075
END:VEVENT
END:VCALENDAR