BEGIN:VCALENDAR
VERSION:2.0
PRODID:-//Des Moines Intentional Eucharistic Community - ECPv6.15.13.1//NONSGML v1.0//EN
CALSCALE:GREGORIAN
METHOD:PUBLISH
X-ORIGINAL-URL:https://www.dmiec.org
X-WR-CALDESC:Events for Des Moines Intentional Eucharistic Community
REFRESH-INTERVAL;VALUE=DURATION:PT1H
X-Robots-Tag:noindex
X-PUBLISHED-TTL:PT1H
BEGIN:VTIMEZONE
TZID:America/Chicago
BEGIN:DAYLIGHT
TZOFFSETFROM:-0600
TZOFFSETTO:-0500
TZNAME:CDT
DTSTART:20180311T080000
END:DAYLIGHT
BEGIN:STANDARD
TZOFFSETFROM:-0500
TZOFFSETTO:-0600
TZNAME:CST
DTSTART:20181104T070000
END:STANDARD
BEGIN:DAYLIGHT
TZOFFSETFROM:-0600
TZOFFSETTO:-0500
TZNAME:CDT
DTSTART:20190310T080000
END:DAYLIGHT
BEGIN:STANDARD
TZOFFSETFROM:-0500
TZOFFSETTO:-0600
TZNAME:CST
DTSTART:20191103T070000
END:STANDARD
BEGIN:DAYLIGHT
TZOFFSETFROM:-0600
TZOFFSETTO:-0500
TZNAME:CDT
DTSTART:20200308T080000
END:DAYLIGHT
BEGIN:STANDARD
TZOFFSETFROM:-0500
TZOFFSETTO:-0600
TZNAME:CST
DTSTART:20201101T070000
END:STANDARD
END:VTIMEZONE
BEGIN:VEVENT
DTSTART;TZID=America/Chicago:20190602T100500
DTEND;TZID=America/Chicago:20190602T110000
DTSTAMP:20260421T032956
CREATED:20190528T153457Z
LAST-MODIFIED:20190528T153457Z
UID:5796-1559469900-1559473200@www.dmiec.org
SUMMARY:First Sunday Collection - Annunciation House of El Paso\, Texas
DESCRIPTION:Since 1976 the volunteers of Annunciation House have sought to serve the poorest of the poor. Today they serve migrants and refugees fleeing from Central and South America. Most days ICE and Border Patrol drop off 500 to 1000 people at any of the 8 locations around El Paso that Annunciation House supports. All of this work exists only through the generosity of many volunteers and donations from as close as El Paso or as far away as New York. Find more information at the Annunciation House website. Checks may be made out to DMIEC or Sisters of St Francis\, who will pass our donations on to Annunciation House through Sr. Terri Rodella\, a supervisor at their largest facility\, Casa del Refugiado.
URL:https://www.dmiec.org/event/first-sunday-collection-annunciation-house-of-el-paso-texas/
LOCATION:DMIEC\, 3306 University Avenue\, Des Moines\, IA\, 50311\, United States
CATEGORIES:Stewardship
GEO:41.6000075;-93.6619278
X-APPLE-STRUCTURED-LOCATION;VALUE=URI;X-ADDRESS=DMIEC 3306 University Avenue Des Moines IA 50311 United States;X-APPLE-RADIUS=500;X-TITLE=3306 University Avenue:geo:-93.6619278,41.6000075
END:VEVENT
BEGIN:VEVENT
DTSTART;TZID=America/Chicago:20190616T100000
DTEND;TZID=America/Chicago:20190616T110000
DTSTAMP:20260421T032956
CREATED:20190612T025738Z
LAST-MODIFIED:20190612T025804Z
UID:5991-1560679200-1560682800@www.dmiec.org
SUMMARY:DMARC Emergency Food Pantries Sunday Collection
DESCRIPTION:Every third Sunday is DMARC Emergency Food Pantries Sunday. \nEnvelopes will be available for donations to the Des Moines Area Religious Council’s Emergency Food Pantries at our June 16 worship service.  Please write checks to “DMARC\,” place cash in our specially designated envelopes and add to the collection basket\, or take an envelope home and make a donation directly to DMARC. For more information\, please visit the DMARC Food Pantries website  
URL:https://www.dmiec.org/event/dmarc-emergency-food-pantries-sunday-collection-3/
LOCATION:DMIEC Worship Space
CATEGORIES:Stewardship
ORGANIZER;CN="Steve Gude":MAILTO:smgude@gmail.com
END:VEVENT
END:VCALENDAR