BEGIN:VCALENDAR
VERSION:2.0
PRODID:-//Des Moines Intentional Eucharistic Community - ECPv6.15.13.1//NONSGML v1.0//EN
CALSCALE:GREGORIAN
METHOD:PUBLISH
X-ORIGINAL-URL:https://www.dmiec.org
X-WR-CALDESC:Events for Des Moines Intentional Eucharistic Community
REFRESH-INTERVAL;VALUE=DURATION:PT1H
X-Robots-Tag:noindex
X-PUBLISHED-TTL:PT1H
BEGIN:VTIMEZONE
TZID:America/Chicago
BEGIN:DAYLIGHT
TZOFFSETFROM:-0600
TZOFFSETTO:-0500
TZNAME:CDT
DTSTART:20180311T080000
END:DAYLIGHT
BEGIN:STANDARD
TZOFFSETFROM:-0500
TZOFFSETTO:-0600
TZNAME:CST
DTSTART:20181104T070000
END:STANDARD
BEGIN:DAYLIGHT
TZOFFSETFROM:-0600
TZOFFSETTO:-0500
TZNAME:CDT
DTSTART:20190310T080000
END:DAYLIGHT
BEGIN:STANDARD
TZOFFSETFROM:-0500
TZOFFSETTO:-0600
TZNAME:CST
DTSTART:20191103T070000
END:STANDARD
BEGIN:DAYLIGHT
TZOFFSETFROM:-0600
TZOFFSETTO:-0500
TZNAME:CDT
DTSTART:20200308T080000
END:DAYLIGHT
BEGIN:STANDARD
TZOFFSETFROM:-0500
TZOFFSETTO:-0600
TZNAME:CST
DTSTART:20201101T070000
END:STANDARD
END:VTIMEZONE
BEGIN:VEVENT
DTSTART;TZID=America/Chicago:20190519T100000
DTEND;TZID=America/Chicago:20190519T110000
DTSTAMP:20260421T044752
CREATED:20190513T181233Z
LAST-MODIFIED:20190513T181233Z
UID:5681-1558260000-1558263600@www.dmiec.org
SUMMARY:DMARC Emergency Food Pantries Sunday Collection
DESCRIPTION:Every third Sunday is DMARC Emergency Food Pantries Sunday. \nEnvelopes will be available for donations to the Des Moines Area Religious Council’s Emergency Food Pantries at our May 19 worship service.  Please write checks to “DMARC\,” place cash in our specially designated envelopes and add to the collection basket\, or take an envelope home and make a donation directly to DMARC. For more information\, please visit the DMARC Food Pantries website  
URL:https://www.dmiec.org/event/dmarc-emergency-food-pantries-sunday-collection-2/
LOCATION:DMIEC Worship Space
CATEGORIES:Stewardship
ORGANIZER;CN="Steve Gude":MAILTO:smgude@gmail.com
END:VEVENT
END:VCALENDAR