BEGIN:VCALENDAR
VERSION:2.0
PRODID:-//Des Moines Intentional Eucharistic Community - ECPv6.15.13.1//NONSGML v1.0//EN
CALSCALE:GREGORIAN
METHOD:PUBLISH
X-ORIGINAL-URL:https://www.dmiec.org
X-WR-CALDESC:Events for Des Moines Intentional Eucharistic Community
REFRESH-INTERVAL;VALUE=DURATION:PT1H
X-Robots-Tag:noindex
X-PUBLISHED-TTL:PT1H
BEGIN:VTIMEZONE
TZID:America/Chicago
BEGIN:DAYLIGHT
TZOFFSETFROM:-0600
TZOFFSETTO:-0500
TZNAME:CDT
DTSTART:20180311T080000
END:DAYLIGHT
BEGIN:STANDARD
TZOFFSETFROM:-0500
TZOFFSETTO:-0600
TZNAME:CST
DTSTART:20181104T070000
END:STANDARD
BEGIN:DAYLIGHT
TZOFFSETFROM:-0600
TZOFFSETTO:-0500
TZNAME:CDT
DTSTART:20190310T080000
END:DAYLIGHT
BEGIN:STANDARD
TZOFFSETFROM:-0500
TZOFFSETTO:-0600
TZNAME:CST
DTSTART:20191103T070000
END:STANDARD
BEGIN:DAYLIGHT
TZOFFSETFROM:-0600
TZOFFSETTO:-0500
TZNAME:CDT
DTSTART:20200308T080000
END:DAYLIGHT
BEGIN:STANDARD
TZOFFSETFROM:-0500
TZOFFSETTO:-0600
TZNAME:CST
DTSTART:20201101T070000
END:STANDARD
END:VTIMEZONE
BEGIN:VEVENT
DTSTART;TZID=America/Chicago:20190413T083000
DTEND;TZID=America/Chicago:20190413T120000
DTSTAMP:20260421T061340
CREATED:20190329T184708Z
LAST-MODIFIED:20190329T192608Z
UID:5145-1555144200-1555156800@www.dmiec.org
SUMMARY:DMIEC Spring Clean-Up
DESCRIPTION:Please join us for our annual Spring clean up of the DMIEC grounds.  We will be raking leaves\, cleaning garden areas\, pruning\, picking up tree debris\, etc.  We’ll also be mulching garden areas\, depending on availability of mulch. \nWe will need rakes\, pruners\, wheelbarrows\, and Des Moines yard waste bags\, so please bring what you can. You’ll likely want to bring work gloves\, too.  Please come for any amount of time you are available – all efforts are appreciated.  Many hands make for quick work! \nQuestions?  Contact Martha Gelhaus \nTo volunteer\, click here.
URL:https://www.dmiec.org/event/dmiec-spring-clean-up/
LOCATION:DMIEC\, 3306 University Avenue\, Des Moines\, IA\, 50311\, United States
CATEGORIES:Building & Grounds,Community,Stewardship
ORGANIZER;CN="Martha Gelhaus":MAILTO:mgelhaus@hotmail.com
GEO:41.6000075;-93.6619278
X-APPLE-STRUCTURED-LOCATION;VALUE=URI;X-ADDRESS=DMIEC 3306 University Avenue Des Moines IA 50311 United States;X-APPLE-RADIUS=500;X-TITLE=3306 University Avenue:geo:-93.6619278,41.6000075
END:VEVENT
BEGIN:VEVENT
DTSTART;TZID=America/Chicago:20190414T100000
DTEND;TZID=America/Chicago:20190414T110000
DTSTAMP:20260421T061340
CREATED:20190408T165433Z
LAST-MODIFIED:20190408T165916Z
UID:5390-1555236000-1555239600@www.dmiec.org
SUMMARY:DMARC Emergency Food Pantries Sunday Collection
DESCRIPTION:Since the third Sunday of April falls on Easter\, we will have our DMARC collection on April 14. Envelopes will be available for donations to the Des Moines Area Religious Council Emergency Food Pantries. Write checks to “DMARC” or place cash in the envelopes and add to the collection basket. Or\, feel free to take an envelope home and mail donations directly to DMARC. \nImportant Note: You can double your impact during April thanks to the Douglas M. Woods Challenge Hunger Campaign. All donations to DMARC are matched dollar for dollar up to $20\,000.  Your $10 becomes $20\, $50 equals $100 and so on. Just $10 helps DMARC provide 40 meals this month. For more information\, please see the DMARC website.
URL:https://www.dmiec.org/event/dmarc-emergency-food-pantries-sunday-collection/
LOCATION:DMIEC Worship Space
CATEGORIES:Stewardship
ORGANIZER;CN="Steve Gude":MAILTO:smgude@gmail.com
END:VEVENT
END:VCALENDAR